Workbook
Name 八里區: 台北盆地設計反應譜!$E$788:$F$796
Name 三重區: 台北盆地設計反應譜!$E$361:$F$361
Name 三義斷層: 斷層距離!$C$34:$AI$58
Name 土城區: 台北盆地設計反應譜!$E$389:$F$426
Name 士林區: 台北盆地設計反應譜!$E$204:$F$245
Name 大甲斷層全段、鐵砧山斷層、彰化斷層: 斷層距離!$C$59:$AI$115
Name 大同區: 台北盆地設計反應譜!$E$33:$F$33
Name 大安區: 台北盆地設計反應譜!$E$109:$F$161
Name 大尖山斷層、觸口斷層: 斷層距離!$C$235:$AI$250
Name 大茅埔一雙冬斷層: 斷層距離!$C$192:$AI$221
Name 中山區: 台北盆地設計反應譜!$E$34:$F$75
Name 中正區: 台北盆地設計反應譜!$E$2:$F$32
Name 中和區: 台北盆地設計反應譜!$E$653:$F$743
Name 五股區: 台北盆地設計反應譜!$E$363:$F$374
Name 內湖區: 台北盆地設計反應譜!$E$279:$F$309
Name 六甲斷層: 斷層距離!$C$251:$AI$255
Name 屯子腳斷層: 斷層距離!$C$116:$AI$138
Name 文山區: 台北盆地設計反應譜!$E$327:$F$360
Name 北投區: 台北盆地設計反應譜!$E$246:$F$278
Name 台北市區里: 台北盆地設計反應譜!$D$2:$F$360
Name 永和區: 台北盆地設計反應譜!$E$388:$F$388
Name 地盤種類: 工址放大係數!$A$23:$A$25
Name 地盤種類: 工址放大係數!$A$23:$A$25
Name 汐止區: 台北盆地設計反應譜!$E$797:$F$819
Name 米崙斷層、嶺頂斷層、瑞穗斷層、玉里斷層、池上斷層、鹿野斷層、利吉斷層: 斷層距離!$C$281:$AI$303
Name 行政區: 台北盆地設計反應譜!$A$14:$A$14
Name 車籠埔斷層全段: 斷層距離!$C$139:$AI$191
Name 宜蘭縣: 設計反應譜!$C$40:$V$52
Name 宜蘭縣三星鄉: 設計反應譜!$J$49
Name 宜蘭縣大同鄉: 設計反應譜!$J$50
Name 宜蘭縣五結鄉: 設計反應譜!$J$46
Name 宜蘭縣冬山鄉: 設計反應譜!$J$47
Name 宜蘭縣壯圍鄉: 設計反應譜!$J$43
Name 宜蘭縣宜蘭市: 設計反應譜!$J$40
Name 宜蘭縣南澳鄉: 設計反應譜!$J$51
Name 宜蘭縣員山鄉: 設計反應譜!$J$44
Name 宜蘭縣頭城鎮: 設計反應譜!$J$41
Name 宜蘭縣礁溪鎮: 設計反應譜!$J$42
Name 宜蘭縣羅東鎮: 設計反應譜!$J$45
Name 宜蘭縣蘇澳鎮: 設計反應譜!$J$48
Name 松山區: 台北盆地設計反應譜!$E$76:$F$108
Name 板橋區: 台北盆地設計反應譜!$E$527:$F$652
Name 花蓮縣: 設計反應譜!$C$332:$V$344
Name 花蓮縣玉里鎮: 設計反應譜!$J$334
Name 花蓮縣光復鄉: 設計反應譜!$J$338
Name 花蓮縣吉安鄉: 設計反應譜!$J$336
Name 花蓮縣秀林鄉: 設計反應譜!$J$342
Name 花蓮縣卓溪鄉: 設計反應譜!$J$344
Name 花蓮縣花蓮市: 設計反應譜!$J$332
Name 花蓮縣富里鄉: 設計反應譜!$J$341
Name 花蓮縣新城鄉: 設計反應譜!$J$335
Name 花蓮縣瑞穗鄉: 設計反應譜!$J$340
Name 花蓮縣萬榮鄉: 設計反應譜!$J$343
Name 花蓮縣壽豐鄉: 設計反應譜!$J$337
Name 花蓮縣鳳山鎮: 設計反應譜!$J$333
Name 花蓮縣豐濱鄉: 設計反應譜!$J$339
Name 金門縣: 設計反應譜!$C$352:$V$357
Name 金門縣金沙鎮: 設計反應譜!$J$353
Name 金門縣金城鎮: 設計反應譜!$J$354
Name 金門縣金湖鎮: 設計反應譜!$J$352

Sheet 一般工址Cs
A1: 111年10月1日 | H1: 100年7月1日 | M1: =VLOOKUP($H3,INDIRECT($H2),17,FALSE) -> 屯子腳、車籠埔斷層 | N1: =VLOOKUP($H3,INDIRECT($H2),18,FALSE) -> 2 | S1: 地盤種類
A2: 地震分區 | B2: 臺中市 | C2: SSD | D2: S1D | E2: SSM | F2: S1M | H2: 臺中市 | I2: SSD | J2: S1D | K2: SSM | L2: S1M | O2: ="規範最小地震橫力係數 Cs*載重組合係數之比較 ["&B5 & ", R=" & B12 & "]" -> 規範最小地震橫力係數 Cs*載重組合係數之比較 [第三類, R=2.4] | S2: =B5 -> 第三類 | T2: =IF($B5="第一類",1.2,IF($B5="第二類",1.5,1.8)) -> 1.8
B3: 北屯區 | C3: =VLOOKUP($B3,INDIRECT($B2),4,FALSE) -> 0.8 | D3: =VLOOKUP($B3,INDIRECT($B2),5,FALSE) -> 0.45 | E3: =VLOOKUP($B3,INDIRECT($B2),6,FALSE) -> 1 | F3: =VLOOKUP($B3,INDIRECT($B2),7,FALSE) -> 0.55 | H3: 北屯區 | I3: =VLOOKUP($H3,INDIRECT($H2),13,FALSE) -> 0.8 | J3: =VLOOKUP($H3,INDIRECT($H2),14,FALSE) -> 0.45 | K3: =VLOOKUP($H3,INDIRECT($H2),15,FALSE) -> 1 | L3: =VLOOKUP($H3,INDIRECT($H2),16,FALSE) -> 0.55 | O3: 興建日期 | P3: 31777 | Q3: =VLOOKUP($H3,INDIRECT($H2),19,FALSE) -> 中震區 | W3: 30147 | Y3: 32633 | AA3: 35587 | AC3: 36526 | AF3: Loading Factor
B4: 地盤分類 | C4: F*aD | D4: F*vD | E4: FaM | F4: FvM | H4: 地盤分類 | I4: NAD | J4: NVD | K4: NAM | L4: NVM | O4: =IF(P3<=W4,"建技71",IF(P3<=Y4,"建技78",IF(P3<=AA4,"建技86",IF(P3<=AC4,"建技89",#REF!)))) -> 建技71 | P4: =IF(P3<=W4,W9,IF(P3<=Y4,W11,IF(P3<=AA4,W13,IF(P3<=AC4,W15,#REF!)))) -> 71/7/15~78/5/4 | Q4: 強震區 | S4: 86~88 | T4: 地震一甲區 | U4: 89~94 | V4: 甲區 | W4: 32632 | X4: Z | Y4: 35586 | Z4: Z | AA4: 36525 | AB4: Z | AC4: 38717 | AD4: Z | AE4: (2*Ra-1)^0.5 | AF4: D | AG4: L | AH4: E
B5: 第三類 | C5: =IF($B5="第一類",1,IF($B5="第二類",IF(C3<=0.6,1.1,IF(C3>=0.7,1,1.1+(0.6-C3))),IF(C3<=0.6,1.2,IF(C3>=0.8,1,1.2+(0.6-C3))))) -> 1 | D5: =IF($B5="第一類",1,IF($B5="第二類",IF(D3<=0.3,1.5,IF(D3>=0.5,1.1,1.5+(0.3-D3)*2)),IF(D3<=0.3,1.8,IF(D3>=0.5,1.4,1.8+(0.3-D3)*2)))) -> 1.5 | E5: - | F5: - | H5: 第二類 | I5: =VLOOKUP($H6,$R21:$V28,2,FALSE) -> 1 | J5: =VLOOKUP($H6,$R21:$V28,3,FALSE) -> 1 | K5: =VLOOKUP($H6,$R21:$V28,4,FALSE) -> 1 | L5: =VLOOKUP($H6,$R21:$V28,5,FALSE) -> 1 | O5: 震區係數 | P5: Z = | Q5: =VLOOKUP(Q4,W5:X7,2,FALSE) -> 1 | R5: 震區水平加速度係數 | S5: Z = | T5: =VLOOKUP(T4,AA5:AB8,2,FALSE) -> 0.33 | U5: Z = | V5: =VLOOKUP(V4,AC5:AD6,2,FALSE) -> 0.33 | W5: 強震區 | X5: 1 | Y5: 強震區 | Z5: 1 | AA5: 地震一甲區 | AB5: 0.33 | AC5: 甲區 | AD5: 0.33 | AE5: =(2*T12-1)^0.5 -> 1.5491933 | AF5: 0.9 | AH5: 1.43
B6: 車籠埔斷層全段 | C6: SSD | D6: S1D | E6: SSM | F6: S1M | H6: 車籠埔斷層 | I6: SSD*NAD | J6: S1D*NVD | K6: SSM*NAM | L6: S1M*NVM | O6: 組構係數 | P6: K = | Q6: 0.67 | R6: 起始降伏地震力放大倍數 | S6: αy = | T6: 1.5 | U6: αy = | V6: =T6 -> 1.5 | W6: 中震區 | X6: 0.8 | Y6: 中震區 | Z6: 0.8 | AA6: 地震一乙區 | AB6: 0.28 | AC6: 乙區 | AD6: 0.23 | AF6: 1.05 | AG6: 1.275 | AH6: 1.4025
A7: 斷層距離(km) | B7: 1.251 | C7: =IF($B6="", C3,IF($B7>=14,C40,C39+($B7-$B39)*(C40-C39)/$F38)) -> 0.97498 | D7: =IF($B6="", D3,IF($B7>=14,D40,D39+($B7-$B39)*(D40-D39)/$F38)) -> 0.608745 | E7: =IF($B6="", E3,IF($B7>=14,E40,E39+($B7-$B39)*(E40-E39)/$F38)) -> 1.24498 | F7: =IF($B6="", F3,IF($B7>=14,F40,F39+($B7-$B39)*(F40-F39)/$F38)) -> 0.826235 | H7: 12.42 | I7: =I3*I5 -> 0.8 | J7: =J3*J5 -> 0.45 | K7: =K3*K5 -> 1 | L7: =L3*L5 -> 0.55 | O7: 基本振動周期 | P7: T =0.06hn3/4 | Q7: =0.06*B10^0.75 -> 0.74398242 | R7: 基本振動周期 | S7: T = | T7: =0.06*$B10^0.75 -> 0.74398242 | U7: T = | V7: =0.07*$B10^0.75 -> 0.86797949 | W7: 輕震區 | X7: 0.6 | Y7: 輕震區 | Z7: 0.6 | AA7: 地震二區 | AB7: 0.23 | AF7: 1.2 | AG7: 1 | AH7: 1
A8: 工址放大係數 | C8: FaD | D8: FvD | E8: FaM | F8: FvM | H8: 工址放大係數 | I8: FaD | J8: FvD | K8: FaM | L8: FvM | O8: 震力係數 | P8: C = | Q8: =MIN(Q9,Q10) -> 0.1449 | R8: 工址正規化水平加速度反應譜係數 | S8: C = | T8: =IF(T7<=S17,W17,IF(T7<=T17,X17*T7+Y17,IF(T7<=U17,Z17,IF(T7<=V17,AA17/T7^(AB17))))) -> 2.1922869 | U8: C = | V8: =IF(V7<=S17,W17,IF(V7<=T17,X17*V7+Y17,IF(V7<=U17,Z17,IF(V7<=V17,AA17/V7^(AB17))))) -> 1.9781818 | AA8: 地震三區 | AB8: 0.18
C9: =IF($B5="第一類",1,IF($B5="第二類",IF(C7<=0.6,1.1,IF(C7>=0.7,1,1.1+(0.6-C7))),IF(C7<=0.6,1.2,IF(C7>=0.8,1,1.2+(0.6-C7))))) -> 1 | D9: =IF($B5="第一類",1,IF($B5="第二類",IF(D7<=0.3,1.5,IF(D7>=0.5,1.1,1.5+(0.3-D7)*2)),IF(D7<=0.3,1.8,IF(D7>=0.5,1.4,1.8+(0.3-D7)*2)))) -> 1.4 | E9: =IF($B5="第一類",1,IF($B5="第二類",IF(E7<=0.6,1.1,IF(E7>=0.7,1,1.1+(0.6-E7))),IF(E7<=0.6,1.2,IF(E7>=0.8,1,1.2+(0.6-E7))))) -> 1 | F9: =IF($B5="第一類",1,IF($B5="第二類",IF(F7<=0.3,1.5,IF(F7>=0.5,1.1,1.5+(0.3-F7)*2)),IF(F7<=0.3,1.8,IF(F7>=0.5,1.4,1.8+(0.3-F7)*2)))) -> 1.4 | I9: =IF($H5="第一類",1,IF($H5="第二類",IF(I7<=0.6,1.1,IF(I7>=0.7,1,1.1+(0.6-I7))),IF(I7<=0.6,1.2,IF(I7>=0.8,1,1.2+(0.6-I7))))) -> 1 | J9: =IF($H5="第一類",1,IF($H5="第二類",IF(J7<=0.3,1.5,IF(J7>=0.5,1.1,1.5+(0.3-J7)*2)),IF(J7<=0.3,1.8,IF(J7>=0.5,1.4,1.8+(0.3-J7)*2)))) -> 1.2 | K9: =IF($H5="第一類",1,IF($H5="第二類",IF(K7<=0.6,1.1,IF(K7>=0.7,1,1.1+(0.6-K7))),IF(K7<=0.6,1.2,IF(K7>=0.8,1,1.2+(0.6-K7))))) -> 1 | L9: =IF($H5="第一類",1,IF($H5="第二類",IF(L7<=0.3,1.5,IF(L7>=0.5,1.1,1.5+(0.3-L7)*2)),IF(L7<=0.3,1.8,IF(L7>=0.5,1.4,1.8+(0.3-L7)*2)))) -> 1.1 | P9: 1/8√T= | Q9: =ROUND(1/8/(Q7^0.5),4) -> 0.1449 | W9: 71/7/15~78/5/4 | X9: 強震區 | Y9: 中震區 | Z9: 輕震區
A10: 屋頂面高度 hn(m) | B10: 28.7 | C10: Tcode(sec) | D10: Tdyn(sec) | E10: 1.4Tcode | F10: T (sec) | H10: =A10&" = " &B10 -> 屋頂面高度 hn(m) = 28.7 | I10: Tcode | J10: Tdyn | K10: 1.4Tcode | L10: T (sec) | N10: Tz (sec) | P10: <= | Q10: 0.15 | X10: 1 | Y10: 0.8 | Z10: 0.6
A11: 經驗公式構造分類 | B11: RC | C11: =ROUND(IF(B11="鋼構",0.085,IF(B11="RC",0.07,0.05))*B$10^0.75,4) -> 0.868 | D11: 0.868 | E11: =C11*1.4 -> 1.2152 | F11: =ROUND(IF(C11>=D11,D11,IF(D11>=E11,E11,D11)),4) -> 0.868 | H11: =A11&" = " &B11 -> 經驗公式構造分類 = RC | I11: =C11 -> 0.868 | J11: =D11 -> 0.868 | K11: =E11 -> 1.2152 | L11: =ROUND(IF(I11>=J11,J11,IF(J11>=K11,K11,J11)),4) -> 0.868 | M11: =IF(L11<=0.2*K17,"較短週期",IF(L11<=K17,"短週期",IF(L11<=2.5*K17,"中週期","長週期"))) -> 中週期 | N11: 0.001 | O11: 載重因子 | P11: γ= | Q11: =AH6 -> 1.4025 | R11: 用途係數 | S11: I = | T11: 1 | U11: I = | V11: =T11 -> 1 | W11: 78/5/5~86/6/5 | X11: 強震區 | Y11: 中震區 | Z11: 輕震區
A12: 系統韌性容量 R | B12: 2.4 | C12: 容許韌性容量 Ra | D12: =1+(B12-1)/1.5 -> 1.9333333 | F12: =IF(F11<=0.2*D17,"較短週期",IF(F11<=D17,"短週期",IF(F11<=2.5*D17,"中週期","長週期"))) -> 短週期 | H12: =A12&" = " &B12 -> 系統韌性容量 R = 2.4 | I12: FaD* | J12: FvD* | K12: FaM* | L12: FvM* | M12: 容許韌性容量 Ra | O12: 地震力係數 | P12: γZKC= | Q12: =ROUND(Q11*Q5*Q6*Q8,4) -> 0.1362 | R12: 容許韌性容量 | S12: Ra = | T12: =1+($B12-1)/2 -> 1.7 | U12: Ra = | V12: =T12 -> 1.7 | X12: 1 | Y12: 0.8 | Z12: 0.6
A13: 用途係數 I | B13: 1 | C13: √(2Ra-1) | D13: =ROUND((2*D12-1)^0.5,4) -> 1.6931 | H13: =A13&" = " &B13 -> 用途係數 I = 1 | I13: =IF($H5="第一類",1,IF($H5="第二類",IF(I3<=0.6,1.1,IF(I3>=0.7,1,1.1+(0.6-I3))),IF(I3<=0.6,1.2,IF(I3>=0.8,1,1.2+(0.6-I3))))) -> 1 | J13: =IF($H5="第一類",1,IF($H5="第二類",IF(J3<=0.3,1.5,IF(J3>=0.5,1.1,1.5+(0.3-J3)*2)),IF(J3<=0.3,1.8,IF(J3>=0.5,1.4,1.8+(0.3-J3)*2)))) -> 1.2 | K13: =IF($H5="第一類",1,IF($H5="第二類",IF(K3<=0.6,1.1,IF(K3>=0.7,1,1.1+(0.6-K3))),IF(K3<=0.6,1.2,IF(K3>=0.8,1,1.2+(0.6-K3))))) -> 1 | L13: =IF($H5="第一類",1,IF($H5="第二類",IF(L3<=0.3,1.5,IF(L3>=0.5,1.1,1.5+(0.3-L3)*2)),IF(L3<=0.3,1.8,IF(L3>=0.5,1.4,1.8+(0.3-L3)*2)))) -> 1.1 | M13: =D12 -> 1.9333333 | P13: Fu = | Q13: =ROUND(8/(3*Q6),1) -> 4 | R13: 結構系統地震力折減係數 | S13: Fu = | T13: =IF(T7>0.611,T$12,IF(IF(T7>0.611,T$12,IF(T7>0.406,AE$5+(T$12-AE$5)*(T7-0.406)/0.205,IF(T7>0.2,AE$5,IF(T7>0.03,AE$5+(AE$5-1)*(T7-0.2)/0.17,1))))>0.406,AE$5+(T$12-AE$5)*(T7-0.406)/0.205,IF(T7>0.2,AE$5,IF(T7>0.03,AE$5+(AE$5-1)*(T7-0.2)/0.17,1)))) -> 1.7 | U13: Fu = | V13: =T13 -> 1.7 | W13: 86/6/6~88/12/31 | X13: 地震一甲區 | Y13: 地震一乙區 | Z13: 地震二區 | AA13: 地震三區
A14: 起始降伏地震力放大倍數αy | B14: 1 | C14: √(2R-1) | D14: =ROUND((2*B12-1)^0.5,4) -> 1.9494 | H14: =A14&" = " &B14 -> 起始降伏地震力放大倍數αy = 1 | I14: =C13 & "="&D13 -> √(2Ra-1)=1.6931 | K14: =C14 & "="&D14 -> √(2R-1)=1.9494 | O14: 設計反應譜 | P14: Sa=1.4γZKCFu= | Q14: =ROUND(Q12*1.4*Q13,4) -> 0.7627 | S14: C/Fu= | T14: =ROUND(T8/T13,4) -> 1.2896 | U14: C/Fu= | V14: =ROUND(V8/V13,4) -> 1.1636 | X14: 0.33 | Y14: 0.28 | Z14: 0.23 | AA14: 0.18
A15: 工址水平譜加速度係數 | H15: 工址水平譜加速度係數 | O15: 用途係數 | P15: I = | Q15: 1 | S15: (C/Fu)m= | T15: =IF(T14>1,1,T14) -> 1 | U15: (C/Fu)m= | V15: =IF(V14>1,1,V14) -> 1 | W15: 89/1/1~94/12/31 | X15: 甲區 | Y15: 乙區
A16: 最小設計水平總橫力 | B16: SDS=SSD*FaD | C16: SD1=S1D*FvD | D16: T0D | E16: 0.2T0D | F16: 0.6T0D | H16: 最小設計水平總橫力 | I16: SDS | J16: SD1 | K16: T0D | L16: 0.2T0D | M16: 0.6T0D | N16: 2.5T0D | O16: 最小總橫力係數 | P16: Cs = | Q16: =Q5*Q6*Q8*Q15 -> 0.097083 | S16: Cs = | T16: =T5*T11/1.4/T6*T15 -> 0.15714286 | U16: Cs = | V16: =V5*V11*V8/1.4/V6/V13 -> 0.18285714 | X16: 0.33 | Y16: 0.23
B17: =ROUND(C$9*C$7,4) -> 0.975 | C17: =ROUND(D$9*D$7,4) -> 0.8522 | D17: =ROUND(C$17/B$17,4) -> 0.8741 | E17: =ROUND(D17*0.2,4) -> 0.1748 | F17: =ROUND(D17*0.6,4) -> 0.5245 | I17: =ROUND(I3*I$9*I$5,4) -> 0.8 | J17: =ROUND(J3*J$9*J$5,4) -> 0.54 | K17: =ROUND(J$17/I$17,4) -> 0.675 | L17: =ROUND(K17*0.2,4) -> 0.135 | M17: =ROUND(K17*0.6,4) -> 0.405 | N17: =K17*2.5 -> 1.6875 | P17: γCs = | Q17: =ROUND(Q16*Q11,4) -> 0.1362 | S17: =VLOOKUP($B$5,工址放大係數!$A$12:$K$14,2,FALSE) -> 0.03 | T17: =VLOOKUP($B$5,工址放大係數!$A$12:$K$14,3,FALSE) -> 0.2 | U17: =VLOOKUP($B$5,工址放大係數!$A$12:$K$14,4,FALSE) -> 0.611 | V17: =VLOOKUP($B$5,工址放大係數!$A$12:$K$14,5,FALSE) -> 2.415 | W17: =VLOOKUP($B$5,工址放大係數!$A$12:$H$14,6,FALSE) -> 1 | X17: =VLOOKUP($B$5,工址放大係數!$A$12:$K$14,7,FALSE) -> 8.824 | Y17: =VLOOKUP($B$5,工址放大係數!$A$12:$K$14,8,FALSE) -> 0.7352 | Z17: =VLOOKUP($B$5,工址放大係數!$A$12:$K$14,9,FALSE) -> 2.5 | AA17: =VLOOKUP($B$5,工址放大係數!$A$12:$J$14,10,FALSE) -> 1.8 | AB17: =VLOOKUP($B$5,工址放大係數!$A$12:$K$14,11,FALSE) -> 0.66666667
A18: 避免中小度地震下降伏 | B18: SDS* | C18: SD1* | D18: T0D | E18: 0.2T0D | F18: 0.6T0D | H18: 避免中小度地震下降伏 | I18: SDS* | J18: SD1* | K18: T0D | L18: 0.2T0D | M18: 0.6T0D | N18: 2.5T0D | W18: K | X18: 0.67 | Y18: 0.8 | Z18: 1 | AA18: 1.33
B19: =C3*C5 -> 0.8 | C19: =D3*D5 -> 0.675 | D19: =ROUND(C19/B19,4) -> 0.8438 | E19: =D19*0.2 -> 0.16876 | F19: =D19*0.6 -> 0.50628 | I19: =I3*I13 -> 0.8 | J19: =J3*J13 -> 0.54 | K19: =ROUND(J19/I19,4) -> 0.675 | L19: =K19*0.2 -> 0.135 | M19: =K19*0.6 -> 0.405 | N19: =K19*2.5 -> 1.6875 | Q19: 距離 | R19: =H7 -> 12.42 | S19: km
A20: 避免最大考量地震下崩塌 | B20: SMS=SSM*FaM | C20: SM1=S1M*FvM | D20: T0M | E20: 0.2T0M | F20: 0.6T0M | H20: 避免最大考量地震下崩塌 | I20: SMS | J20: SM1 | K20: T0M | L20: 0.2T0M | M20: 0.6T0M | N20: 2.5T0D | R20: 40725 | S20: NaD | T20: NvD | U20: NaM | V20: NvM
B21: =E$9*E$7 -> 1.24498 | C21: =F$9*F$7 -> 1.156729 | D21: =ROUND(C$21/B$21,4) -> 0.9291 | E21: =ROUND(D21*0.2,4) -> 0.1858 | F21: =ROUND(D21*0.6,4) -> 0.5575 | I21: =K3*K$9*K$5 -> 1 | J21: =L3*L$9*L$5 -> 0.605 | K21: =ROUND(J$21/I$21,4) -> 0.605 | L21: =ROUND(K21*0.2,4) -> 0.121 | M21: =ROUND(K21*0.6,4) -> 0.363 | N21: =K21*2.5 -> 1.5125 | R21: 無 | S21: 1 | T21: 1 | U21: 1 | V21: 1
A22: AT = | B22: =0.4*B17*B13 & " g" -> 0.39 g | C22: ="= " & ROUND(0.4*B17*B13*981,1) & " gal" -> = 382.6 gal | H22: AT = | I22: =0.4*I17 & " g" -> 0.32 g | J22: ="= " & ROUND(0.4*I17*981,1) & " gal" -> = 313.9 gal | Q22: 1 | R22: 車籠埔斷層 | S22: =IF(R$19<=2,1.23,IF(R$19<=5,1.16,IF(R$19<=8,1.07,IF(R$19<=12,1.03,1)))) -> 1 | T22: =IF(R$19<=2,1.36,IF(R$19<=5,1.32,IF(R$19<=8,1.22,IF(R$19<=12,1.1,1)))) -> 1 | U22: =IF(R$19<=2,1.25,IF(R$19<=5,1.2,IF(R$19<=8,1.1,IF(R$19<=12,1.03,1)))) -> 1 | V22: =IF(R$19<=2,1.5,IF(R$19<=5,1.45,IF(R$19<=8,1.3,IF(R$19<=12,1.15,1)))) -> 1
A23: 工址設計水平譜加速度係數 | H23: 工址設計水平譜加速度係數 | N23: =IF(H6="無",1/2,2/3) -> 0.66666667 | Q23: 2 | R23: 獅潭與神卓山斷層 | S23: =IF(R$19<=2,1.28,IF(R$19<=5,1.2,IF(R$19<=8,1.1,1))) -> 1 | T23: =IF(R$19<=2,1.33,IF(R$19<=5,1.27,IF(R$19<=8,1.1,1))) -> 1 | U23: =IF(R$19<=2,1.26,IF(R$19<=5,1.18,IF(R$19<=8,1.05,1))) -> 1 | V23: =IF(R$19<=2,1.42,IF(R$19<=5,1.32,IF(R$19<=8,1.15,1))) -> 1
A24: 最小設計水平總橫力 | B24: SaD | C24: Fu | D24: SaD/Fu | E24: (SaD/Fu)m | H24: 最小設計水平總橫力 | I24: SaD | J24: Fu | K24: SaD/Fu | L24: (SaD/Fu)m | M24: (SaD,V/FuV)m | N24: SaD,V | O24: FuV | P24: SaD,V/FuV | Q24: 3 | R24: 屯子腳斷層 | S24: =IF(R$19<=2,1.28,IF(R$19<=5,1.2,IF(R$19<=10,1.1,1))) -> 1 | T24: =IF(R$19<=2,1.31,IF(R$19<=5,1.25,IF(R$19<=10,1.15,1))) -> 1 | U24: =IF(R$19<=2,1.26,IF(R$19<=5,1.17,IF(R$19<=10,1.05,1))) -> 1 | V24: =IF(R$19<=2,1.42,IF(R$19<=5,1.32,IF(R$19<=10,1.15,1))) -> 1
B25: =ROUND(IF($F$11>2.5*D17,0.4*B17,IF($F$11>D17,C17/$F$11,IF($F$11>E17,B17,B17*(0.4+3*$F$11/D17)))),4) -> 0.975 | C25: =ROUND(IF($F11>=D$17,$D$12,IF($F11>=F$17,$D$13+($D$12-$D$13)*($F11-0.6*D$17)/0.4/D$17,IF($F11<E$17,$D$13+($D$13-1)*($F11-E$17)/E$17,$D$13))),4) -> 1.9291 | D25: =ROUND(B25/C25,4) -> 0.5054 | E25: =IF(D25<=0.3,D25,IF(D25<0.8,ROUND(0.52*D25+0.144,4),0.7*D25)) -> 0.4068 | I25: =ROUND(IF($F$11>2.5*K17,0.4*I17,IF($F$11>K17,J17/$F$11,IF($F$11>L17,I17,I17*(0.4+3*$F$11/K17)))),4) -> 0.6221 | J25: =ROUND(IF($F11>=K$17,$D$12,IF($F11>=M$17,$D$13+($D$12-$D$13)*($F11-0.6*K$17)/0.4/K$17,IF($F11<L$17,$D$13+($D$13-1)*($F11-L$17)/L$17,$D$13))),4) -> 1.9333 | K25: =ROUND(I25/J25,4) -> 0.3218 | L25: =IF(K25<=0.3,K25,IF(K25<0.8,ROUND(0.52*K25+0.144,4),0.7*K25)) -> 0.3113 | M25: =IF(P25<=0.2,P25,IF(P25<0.53,ROUND(0.52*P25+0.096,4),0.7*P25)) -> 0.3102 | N25: =I25*N$23 -> 0.41473333 | O25: =ROUND(IF($N$11>=K17,$B$12,IF($N$11>=M17,$D$14+($B$12-$D$14)*($N$11-0.6*M17)/0.4/K17,IF($N$11<L17,$D$14+($D$14-1)*($N$11-L17)/L17,$D$14))),4) -> 1.007 | P25: =ROUND(N25/O25,4) -> 0.4119 | Q25: 4 | R25: 梅山斷層 | S25: =IF(R$19<=2,1.37,IF(R$19<=5,1.28,IF(R$19<=8,1.15,1))) -> 1 | T25: =IF(R$19<=2,1.44,IF(R$19<=5,1.36,IF(R$19<=8,1.2,1))) -> 1 | U25: =IF(R$19<=2,1.3,IF(R$19<=5,1.2,IF(R$19<=8,1.05,1))) -> 1 | V25: =IF(R$19<=2,1.48,IF(R$19<=5,1.36,IF(R$19<=8,1.15,1))) -> 1
A26: 避免中小度地震下降伏 | B26: SaD* | C26: Fu | D26: SaD*/Fu | E26: (SaD*/Fu)m | H26: 避免中小度地震下降伏 | I26: SaD* | J26: Fu | K26: SaD*/Fu | L26: (SaD*/Fu)m | Q26: 5 | R26: 新化斷層 | S26: =IF(R$19<=2,1.23,IF(R$19<=5,1.06,1)) -> 1 | T26: =IF(R$19<=2,1.15,IF(R$19<=5,1.05,1)) -> 1 | U26: =IF(R$19<=2,1.29,IF(R$19<=5,1.1,1)) -> 1 | V26: =IF(R$19<=2,1.3,IF(R$19<=5,1.15,1)) -> 1
B27: =ROUND(IF($F$11>2.5*D19,0.4*B19,IF($F$11>D19,C19/$F$11,IF($F$11>E19,B19,B19*(0.4+3*$F$11/D19)))),4) -> 0.7776 | C27: =ROUND(IF($F11>=D$19,$D$12,IF($F11>=F$19,$D$13+($D$12-$D$13)*($F11-0.6*D$19)/0.4/D$19,IF($F11<E$19,$D$13+($D$13-1)*(F11-E$19)/E$19,$D$13))),4) -> 1.9333 | D27: =ROUND(B27/C27,4) -> 0.4022 | E27: =IF(D27<=0.3,D27,IF(D27<0.8,ROUND(0.52*D27+0.144,4),0.7*D27)) -> 0.3531 | I27: =ROUND(IF($F$11>2.5*K19,0.4*I19,IF($F$11>K19,J19/$F$11,IF($F$11>L19,I19,I19*(0.4+3*$F$11/K19)))),4) -> 0.6221 | J27: =ROUND(IF($F11>=K$19,$D$12,IF($F11>=M$19,$D$13+($D$12-$D$13)*($F11-0.6*K$19)/0.4/K$19,IF($F11<L$19,$D$13+($D$13-1)*($F11-L$19)/L$19,$D$13))),4) -> 1.9333 | K27: =ROUND(I27/J27,4) -> 0.3218 | L27: =IF(K27<=0.3,K27,IF(K27<0.8,ROUND(0.52*K27+0.144,4),0.7*K27)) -> 0.3113 | M27: =IF(P27<=0.2,P27,IF(P27<0.53,ROUND(0.52*P27+0.096,4),0.7*P27)) -> 0.3102 | N27: =I27*N$23 -> 0.41473333 | O27: =ROUND(IF($N$11>=K19,$B$12,IF($N$11>=M19,$D$14+($B$12-$D$14)*($N$11-0.6*M19)/0.4/K19,IF($N$11<L19,$D$14+($D$14-1)*($N$11-L19)/L19,$D$14))),4) -> 1.007 | P27: =ROUND(N27/O27,4) -> 0.4119 | Q27: 6 | R27: 大尖山與觸口斷層 | S27: =IF(R$19<=2,1.15,IF(R$19<=5,1.08,IF(R$19<=8,1,1))) -> 1 | T27: =IF(R$19<=2,1.15,IF(R$19<=5,1.1,IF(R$19<=8,1.03,1))) -> 1 | U27: =IF(R$19<=2,1.21,IF(R$19<=5,1.17,IF(R$19<=8,1.05,1))) -> 1 | V27: =IF(R$19<=2,1.42,IF(R$19<=5,1.35,IF(R$19<=8,1.15,1))) -> 1
A28: 避免最大考量地震下崩塌 | B28: SaM | C28: FuM | D28: SaM/FuM | E28: (SaM/FuM)m | H28: 避免最大考量地震下崩塌 | I28: SaM | J28: FuM | K28: SaM/FuM | L28: (SaM/FuM)m | Q28: 7 | R28: 花東地區斷層 | S28: =IF(R$19<=2,1.42,IF(R$19<=5,1.37,IF(R$19<=8,1.28,IF(R$19<=12,1.14,1)))) -> 1 | T28: =IF(R$19<=2,1.58,IF(R$19<=5,1.53,IF(R$19<=8,1.38,IF(R$19<=12,1.2,1)))) -> 1 | U28: =IF(R$19<=2,1.32,IF(R$19<=5,1.26,IF(R$19<=8,1.1,IF(R$19<=12,1.02,IF(R$19<=5,1,1))))) -> 1 | V28: =IF(R$19<=2,1.58,IF(R$19<=5,1.48,IF(R$19<=8,1.3,IF(R$19<=12,1.16,IF(R$19<=5,1.05,1))))) -> 1
B29: =IF($F11<E$21,ROUND(B$21*(0.4+3*$F11/D$21),3),IF($F11<=D$21,B$21,IF($F11<=2.5*D$21,C$21/$F11,0.4*B$21))) -> 1.24498 | C29: =ROUND(IF($F11>=D$21,$B$12,IF($F11>=F$21,$D$14+($B$12-$D$14)*($F11-0.6*D$21)/0.4/D$21,IF($F11<E$21,$D$14+($D$14-1)*($F11-E$21)/E$21,$D$14))),4) -> 2.3259 | D29: =ROUND(B29/C29,4) -> 0.5353 | E29: =IF(D29<=0.3,D29,IF(D29<0.8,ROUND(0.52*D29+0.144,4),0.7*D29)) -> 0.4224 | I29: =IF($F11<L$21,ROUND(I$21*(0.4+3*$F11/K$21),3),IF($F11<=K$21,I$21,IF($F11<=2.5*K$21,J$21/$F11,0.4*I$21))) -> 0.69700461 | J29: =ROUND(IF($F11>=K$21,$B$12,IF($F11>=M$21,$D$14+($B$12-$D$14)*($F11-0.6*K$21)/0.4/K$21,IF($F11<L$21,$D$14+($D$14-1)*($F11-L$21)/L$21,$D$14))),4) -> 2.4 | K29: =ROUND(I29/J29,4) -> 0.2904 | L29: =IF(K29<=0.3,K29,IF(K29<0.8,ROUND(0.52*K29+0.144,4),0.7*K29)) -> 0.2904 | M29: =IF(P29<=0.2,P29,IF(P29<0.53,ROUND(0.52*P29+0.096,4),0.7*P29)) -> 0.3358 | N29: =I29*N$23 -> 0.46466974 | O29: =ROUND(IF($N$11>=K21,$B$12,IF($N$11>=M21,$D$14+($B$12-$D$14)*($N$11-0.6*M21)/0.4/K21,IF($N$11<L21,$D$14+($D$14-1)*($N$11-L21)/L21,$D$14))),4) -> 1.0078 | P29: =ROUND(N29/O29,4) -> 0.4611
A30: 最小設計水平總橫力 | H30: 最小設計水平總橫力
A31: VD = | B31: =ROUND($B$13*E25/1.4/$B$14,4) -> 0.2906 | C31: W | D31: CsD=I(SaD/FuD)m/(1.4αy) | H31: VD = | I31: =ROUND($B$13*L25/1.4/$B$14,4) -> 0.2224 | J31: W | K31: CsD=I(SaD/FuD)m/(1.4αy) | N31: VDV = | O31: =ROUND($B$13*M25/1.4/$B$14,4) -> 0.2216
A32: 避免中小度地震下降伏之設計地震力 | H32: 避免中小度地震下降伏之設計地震力
A33: V* = | B33: =ROUND($B13*E27*C27/4.2/$B14,4) -> 0.1625 | C33: W | D33: Cs*=I(FuD/4.2)(SaD*/FuD)m/αy | H33: V* = | I33: =ROUND($B13*L27*J27/4.2/$B14,4) -> 0.1433 | J33: W | K33: Cs*=I(FuD/4.2)(SaD*/FuD)m/αy | N33: VV* = | O33: =ROUND($B13*J27*M27/4.2/$B14,4) -> 0.1428
A34: 避免最大考量地震下崩塌之設計地震力 | H34: 避免最大考量地震下崩塌之設計地震力
A35: VM = | B35: =ROUND($B13*E29/1.4/$B14,4) -> 0.3017 | C35: W | D35: CsM=I(SaM/FuM)m/(1.4αy) | H35: VM = | I35: =ROUND($B13*L29/1.4/$B14,4) -> 0.2074 | J35: W | K35: CsM=I(SaM/FuM)m/(1.4αy) | N35: VMV = | O35: =ROUND($B$13*M29/1.4/$B$14,4) -> 0.2399
A36: 地震力係數 CS = | B36: =MAX(B31,B33,B35) -> 0.3017 | D36: V* / V = | E36: =B33/B36 -> 0.53861452 | H36: 地震力係數 CS = | I36: =MAX(I31,I33,I35) -> 0.2224 | K36: V* / V = | L36: =I33/I36 -> 0.64433453 | N36: 地震力係數 CSV = | O36: =MAX(O31,O33,O35) -> 0.2399
A37: 111年10月1日設計地震力係數 v20220910 版權所有：施忠賢結構技師事務所，使用者應註明來源並自行驗算正確性。 | H37: 100年7月1日設計地震力係數 v20220910 版權所有：施忠賢結構技師事務所，使用者應註明來源並自行驗算正確性。 | AV37: 1.33
B38: =ROUND((ROUNDUP(B7,0)-1)/2,0) -> 1 | C38: =IF(B38<1,0,IF(B38>7,7,B38)) -> 1 | D38: =IF(C38>=1,C38-1,C38) -> 0 | E38: =IF(B38>=7,0,1) -> 1 | F38: =IF(B38>=7,1,2) -> 2 | AV38: 1 | AX38: =ROUND((1/8/0.15)^2,4) -> 0.6944
A39: 斷層距離(km) | B39: =IF(C38<1,1,C38*2-1) -> 1 | C39: =IF($B6="",C3,VLOOKUP($B$3,INDIRECT($B$6),$D$38+2,FALSE)) -> 0.98 | D39: =IF($B6="無",D3,VLOOKUP($B$3,INDIRECT($B$6),$D$38+10,FALSE)) -> 0.61 | E39: =IF($B6="無", E3,VLOOKUP($B$3,INDIRECT($B$6),$D$38+18,FALSE)) -> 1.25 | F39: =IF($B6="無", F3,VLOOKUP($B$3,INDIRECT($B$6),$D$38+26,FALSE)) -> 0.83 | T39: g | U39: 981 | V39: Z | W39: =Q5 -> 1 | AV39: 0.8 | AX39: =ROUND(AX38*0.2,4) -> 0.1389
A40: 斷層距離(km) | B40: =C38*2+E38 -> 3 | C40: =IF($B6="無",C3,VLOOKUP($B$3,INDIRECT($B$6),$C$38+2,FALSE)) -> 0.94 | D40: =IF($B6="無",D3,VLOOKUP($B$3,INDIRECT($B$6),$C$38+10,FALSE)) -> 0.6 | E40: =IF($B6="無", E3,VLOOKUP($B$3,INDIRECT($B$6),$C$38+18,FALSE)) -> 1.21 | F40: =IF($B6="無", F3,VLOOKUP($B$3,INDIRECT($B$6),$C$38+26,FALSE)) -> 0.8 | AR40: =AX38*0.6 -> 0.41664 | AV40: 0.67 | AW40: 2.4 | AX40: =ROUND(8/(3*AX41),1) -> 4
I41: not forTaipei | K41: 民111年 | N41: 設計VD | S41: 中小V* | U41: 民111年 | X41: 最大VM | Y41: 民111年後 | AA41: 民100年 | AD41: 設計VD | AI41: 中小V* | AK41: 民100年 | AN41: 最大VM | AO41: 100~110 | AQ41: 71~85 | AR41: K | AS41: 1.33 | AT41: 1 | AU41: 0.8 | AV41: 1 | AW41: 1 | AX41: 0.67 | AY41: 86~88 | BC41: 86~88 | BD41: 86~88 | BE41: 89~94 | BF41: 89~94 | BG41: 民95年 | BH41: 民95年 | BI41: 95~99
I42: T | J42: FuD | K42: SaD | L42: SaD/FuD | M42: (SaD/FuD)m | N42: I(SaD/FuD)m/1.4αy | O42: Fu* | P42: SaD* | Q42: SaD*/FuD* | R42: (SaD*/Fu*)m | S42: IFu*(SaD*/FuD*)m/4.2αy | T42: FuM | U42: SaM | V42: SaM/FuM | W42: (SaM/FuM)m | X42: I(SaM/FuM)m/1.4αy | Y42: CS | Z42: FuD | AA42: SaD | AB42: SaD/FuD | AC42: (SaD/FuD)m | AD42: I(SaD/FuD)m/1.4αy | AE42: Fu* | AF42: SaD* | AG42: SaD*/FuD* | AH42: (SaD*/Fu*)m | AI42: IFu*(SaD*/FuD*)m/4.2αy | AJ42: FuM | AK42: SaM | AL42: SaM/FuM | AM42: (SaM/FuM)m | AN42: I(SaM/FuM)m/1.4αy | AO42: CS | AP42: Fu | AQ42: 1/8/T^0.5 | AR42: C | AS42: K= 1.33 | AT42: K= 1 | AU42: K= 0.8 | AV42: ="民71年(γZKC, K=" & AV41 & ")" -> 民71年(γZKC, K=1) | AW42: ="Sa(民86年以前)" -> Sa(民86年以前) | AX42: ="Sa(71~86年)" -> Sa(71~86年) | AY42: Fu | AZ42: C | BA42: C/Fu | BB42: (C/Fu)m | BC42: ZC(民86~94年) | BD42: CS*LF | BE42: ZC | BF42: CS*LF | BG42: SaD(民95年之後) | BH42: SaM(民95年之後) | BI42: CS*LF | BJ42: RS | BK42: T | BL42: cm/sec2
I43: 0.001 | J43: =ROUND(IF($I43>=D$17,D$12,IF($I43>=F$17,D$13+(D$12-D$13)*($I43-0.6*D$17)/0.4/D$17,IF($I43<E$17,D$13+(D$13-1)*($I43-E$17)/E$17,D$13))),3) -> 1.004 | K43: =IF($I43<E$17,ROUND(B$17*(0.4+3*$I43/D$17),3),IF($I43<=D$17,B$17,IF($I43<=2.5*D$17,C$17/$I43,0.4*B$17))) -> 0.393 | L43: =ROUND(K43/J43,4) -> 0.3914 | M43: =IF(L43<=0.3,L43,IF(L43<0.8,ROUND(0.52*L43+0.144,3),0.7*L43)) -> 0.348 | N43: =ROUND(B$13*M43/1.4/B$14,3) -> 0.249 | O43: =ROUND(IF($I43>=D$19,D$12,IF($I43>=F$19,D$13+(D$12-D$13)*($I43-0.6*D$19)/0.4/D$19,IF($I43<E$19,D$13+(D$13-1)*($I43-E$19)/E$19,D$13))),3) -> 1.004 | P43: =IF($I43<E$19,ROUND(B$19*(0.4+3*$I43/D$19),3),IF($I43<=D$19,B$19,IF($I43<=2.5*D$19,C$19/$I43,0.4*B$19))) -> 0.323 | Q43: =ROUND(P43/O43,4) -> 0.3217 | R43: =IF(Q43<=0.3,Q43,IF(Q43<0.8,ROUND(0.52*Q43+0.144,3),0.7*Q43)) -> 0.311 | S43: =ROUND(B$13*O43*R43/4.2/B$14,3) -> 0.074 | T43: =ROUND(IF($I43>=D$21,B$12,IF($I43>=F$21,D$14+(B$12-D$14)*($I43-0.6*D$21)/0.4/D$21,IF($I43<E$21,D$14+(D$14-1)*($I43-E$21)/E$21,D$14))),3) -> 1.005 | U43: =IF($I43<E$21,ROUND(B$21*(0.4+3*$I43/D$21),3),IF($I43<=D$21,B$21,IF($I43<=2.5*D$21,C$21/$I43,0.4*B$21))) -> 0.502 | V43: =ROUND(U43/T43,4) -> 0.4995 | W43: =IF(V43<=0.3,V43,IF(V43<0.8,ROUND(0.52*V43+0.144,3),0.7*V43)) -> 0.404 | X43: =ROUND(B$13*W43/1.4/B$14,3) -> 0.289 | Y43: =MAX(X43,S43,N43) -> 0.289 | Z43: =ROUND(IF($I43>=K$17,D$12,IF($I43>=M$17,D$13+(D$12-D$13)*($I43-0.6*K$17)/0.4/K$17,IF($I43<L$17,D$13+(D$13-1)*($I43-L$17)/L$17,D$13))),3) -> 1.005 | AA43: =IF($I43<L$17,ROUND(I$17*(0.4+3*$I43/K$17),3),IF($I43<=K$17,I$17,IF($I43<=2.5*K$17,J$17/$I43,0.4*I$17))) -> 0.324 | AB43: =ROUND(AA43/Z43,4) -> 0.3224 | AC43: =IF(AB43<=0.3,AB43,IF(AB43<0.8,ROUND(0.52*AB43+0.144,3),0.7*AB43)) -> 0.312 | AD43: =ROUND(B$13*AC43/1.4/B$14,3) -> 0.223 | AE43: =ROUND(IF($I43>=K$19,D$12,IF($I43>=M$19,D$13+(D$12-D$13)*($I43-0.6*K$19)/0.4/K$19,IF($I43<L$19,D$13+(D$13-1)*($I43-L$19)/L$19,D$13))),3) -> 1.005 | AF43: =IF($I43<L$19,ROUND(I$19*(0.4+3*$I43/K$19),3),IF($I43<=K$19,I$19,IF($I43<=2.5*K$19,J$19/$I43,0.4*I$19))) -> 0.324 | AG43: =ROUND(AF43/AE43,4) -> 0.3224 | AH43: =IF(AG43<=0.3,AG43,IF(AG43<0.8,ROUND(0.52*AG43+0.144,3),0.7*AG43)) -> 0.312 | AI43: =ROUND(B$13*AE43*AH43/4.2/B$14,3) -> 0.075 | AJ43: =ROUND(IF($I43>=K$21,B$12,IF($I43>=M$21,D$14+(B$12-D$14)*($I43-0.6*K$21)/0.4/K$21,IF($I43<L$21,D$14+(D$14-1)*($I43-L$21)/L$21,D$14))),3) -> 1.008 | AK43: =IF($I43<L$21,ROUND(I$21*(0.4+3*$I43/K$21),3),IF($I43<=K$21,I$21,IF($I43<=2.5*K$21,J$21/$I43,0.4*I$21))) -> 0.405 | AL43: =ROUND(AK43/AJ43,4) -> 0.4018 | AM43: =IF(AL43<=0.3,AL43,IF(AL43<0.8,ROUND(0.52*AL43+0.144,3),0.7*AL43)) -> 0.353 | AN43: =ROUND(B$13*AM43/1.4/B$14,3) -> 0.252 | AO43: =MAX(AN43,AI43,AD43) -> 0.252 | AP43: =ROUND(IF($I43>=AX$38,D$13,IF($I43<AX$39,D$13+(D$13-1)*($I43-AX$39)/AX$39,D$13)),3) -> 1.005 | AQ43: =1/8/I43^0.5 -> 3.9528471 | AR43: =IF(AQ43>0.15,0.15,IF(AQ43<0.0625,0.0625,AQ43)) -> 0.15 | AS43: =$Q$5*AS$41*$Q$15*$AR43*$AH$6 -> 0.27979875 | AT43: =$Q$5*AT$41*$Q$15*$AR43*$AH$6 -> 0.210375 | AU43: =$Q$5*AU$41*$Q$15*$AR43*$AH$6 -> 0.1683 | AV43: =$Q$5*AV$41*$Q$15*$AR43*$AH$6 -> 0.210375 | AW43: =$AH$6*$Q$5*AW$41*$AR43*1.4*AW$40 -> 0.70686 | AX43: =IF(I43<=AX$39,$AH$6*$Q$5*AX$41*$AR43*1.4*AX$40*(0.4+3*I43/AX$38),$AH$6*$Q$5*AX$41*$AR43*1.4*AX$40) -> 0.31914091 | AY43: =IF(I43>0.611,$T$12,IF(I43>0.406,AE$5+($T$12-AE$5)*(I43-0.406)/0.205,IF(I43>0.2,AE$5,IF(I43>0.03,AE$5+(AE$5-1)*(I43-0.2)/0.17,1)))) -> 1 | AZ43: =IF(I43<=S$17,1,IF(I43<T$17,X$17*I43+Y$17,IF(I43<U$17,Z$17,IF(I43<V$17,AA$17/I43^(AB$17),1)))) -> 1 | BA43: =AZ43/AY43 -> 1 | BB43: =IF(BA43>1,1,BA43) -> 1 | BC43: =AZ43*T$5 -> 0.33 | BD43: =$T$5*$T$11*BB43/1.4/$T$6*$AH$6 -> 0.22039286 | BE43: =AZ43*AD$5 -> 0.33 | BF43: =$V$5*$V$11*BB43/1.4/$V$6*$AH$6 -> 0.22039286 | BG43: =AA43 -> 0.324 | BH43: =AK43 -> 0.405 | BI43: =AO43/1.5*$AH$6 -> 0.23562 | BJ43: =Y43/B$13*1.4 -> 0.4046 | BK43: =I43 -> 0.001 | BL43: =BJ43*U$39 -> 396.9126
I44: 0.03 | J44: =ROUND(IF($I44>=D$17,D$12,IF($I44>=F$17,D$13+(D$12-D$13)*($I44-0.6*D$17)/0.4/D$17,IF($I44<E$17,D$13+(D$13-1)*($I44-E$17)/E$17,D$13))),3) -> 1.119 | K44: =IF($I44<E$17,ROUND(B$17*(0.4+3*$I44/D$17),3),IF($I44<=D$17,B$17,IF($I44<=2.5*D$17,C$17/$I44,0.4*B$17))) -> 0.49 | L44: =ROUND(K44/J44,4) -> 0.4379 | M44: =IF(L44<=0.3,L44,IF(L44<0.8,ROUND(0.52*L44+0.144,3),0.7*L44)) -> 0.372 | N44: =ROUND(B$13*M44/1.4/B$14,3) -> 0.266 | O44: =ROUND(IF($I44>=D$19,D$12,IF($I44>=F$19,D$13+(D$12-D$13)*($I44-0.6*D$19)/0.4/D$19,IF($I44<E$19,D$13+(D$13-1)*($I44-E$19)/E$19,D$13))),3) -> 1.123 | P44: =IF($I44<E$19,ROUND(B$19*(0.4+3*$I44/D$19),3),IF($I44<=D$19,B$19,IF($I44<=2.5*D$19,C$19/$I44,0.4*B$19))) -> 0.405 | Q44: =ROUND(P44/O44,4) -> 0.3606 | R44: =IF(Q44<=0.3,Q44,IF(Q44<0.8,ROUND(0.52*Q44+0.144,3),0.7*Q44)) -> 0.332 | S44: =ROUND(B$13*O44*R44/4.2/B$14,3) -> 0.089 | T44: =ROUND(IF($I44>=D$21,B$12,IF($I44>=F$21,D$14+(B$12-D$14)*($I44-0.6*D$21)/0.4/D$21,IF($I44<E$21,D$14+(D$14-1)*($I44-E$21)/E$21,D$14))),3) -> 1.153 | U44: =IF($I44<E$21,ROUND(B$21*(0.4+3*$I44/D$21),3),IF($I44<=D$21,B$21,IF($I44<=2.5*D$21,C$21/$I44,0.4*B$21))) -> 0.619 | V44: =ROUND(U44/T44,4) -> 0.5369 | W44: =IF(V44<=0.3,V44,IF(V44<0.8,ROUND(0.52*V44+0.144,3),0.7*V44)) -> 0.423 | X44: =ROUND(B$13*W44/1.4/B$14,3) -> 0.302 | Y44: =MAX(X44,S44,N44) -> 0.302 | Z44: =ROUND(IF($I44>=K$17,D$12,IF($I44>=M$17,D$13+(D$12-D$13)*($I44-0.6*K$17)/0.4/K$17,IF($I44<L$17,D$13+(D$13-1)*($I44-L$17)/L$17,D$13))),3) -> 1.154 | AA44: =IF($I44<L$17,ROUND(I$17*(0.4+3*$I44/K$17),3),IF($I44<=K$17,I$17,IF($I44<=2.5*K$17,J$17/$I44,0.4*I$17))) -> 0.427 | AB44: =ROUND(AA44/Z44,4) -> 0.37 | AC44: =IF(AB44<=0.3,AB44,IF(AB44<0.8,ROUND(0.52*AB44+0.144,3),0.7*AB44)) -> 0.336 | AD44: =ROUND(B$13*AC44/1.4/B$14,3) -> 0.24 | AE44: =ROUND(IF($I44>=K$19,D$12,IF($I44>=M$19,D$13+(D$12-D$13)*($I44-0.6*K$19)/0.4/K$19,IF($I44<L$19,D$13+(D$13-1)*($I44-L$19)/L$19,D$13))),3) -> 1.154 | AF44: =IF($I44<L$19,ROUND(I$19*(0.4+3*$I44/K$19),3),IF($I44<=K$19,I$19,IF($I44<=2.5*K$19,J$19/$I44,0.4*I$19))) -> 0.427 | AG44: =ROUND(AF44/AE44,4) -> 0.37 | AH44: =IF(AG44<=0.3,AG44,IF(AG44<0.8,ROUND(0.52*AG44+0.144,3),0.7*AG44)) -> 0.336 | AI44: =ROUND(B$13*AE44*AH44/4.2/B$14,3) -> 0.092 | AJ44: =ROUND(IF($I44>=K$21,B$12,IF($I44>=M$21,D$14+(B$12-D$14)*($I44-0.6*K$21)/0.4/K$21,IF($I44<L$21,D$14+(D$14-1)*($I44-L$21)/L$21,D$14))),3) -> 1.235 | AK44: =IF($I44<L$21,ROUND(I$21*(0.4+3*$I44/K$21),3),IF($I44<=K$21,I$21,IF($I44<=2.5*K$21,J$21/$I44,0.4*I$21))) -> 0.549 | AL44: =ROUND(AK44/AJ44,4) -> 0.4445 | AM44: =IF(AL44<=0.3,AL44,IF(AL44<0.8,ROUND(0.52*AL44+0.144,3),0.7*AL44)) -> 0.375 | AN44: =ROUND(B$13*AM44/1.4/B$14,3) -> 0.268 | AO44: =MAX(AN44,AI44,AD44) -> 0.268 | AP44: =ROUND(IF($I44>=AX$38,D$13,IF($I44<AX$39,D$13+(D$13-1)*($I44-AX$39)/AX$39,D$13)),3) -> 1.15 | AQ44: =1/8/I44^0.5 -> 0.72168784 | AR44: =IF(AQ44>0.15,0.15,IF(AQ44<0.0625,0.0625,AQ44)) -> 0.15 | AS44: =$Q$5*AS$41*$Q$15*$AR44*$AH$6 -> 0.27979875 | AT44: =$Q$5*AT$41*$Q$15*$AR44*$AH$6 -> 0.210375 | AU44: =$Q$5*AU$41*$Q$15*$AR44*$AH$6 -> 0.1683 | AV44: =$Q$5*AV$41*$Q$15*$AR44*$AH$6 -> 0.210375 | AW44: =$AH$6*$Q$5*AW$41*$AR44*1.4*AW$40 -> 0.70686 | AX44: =IF(I44<=AX$39,$AH$6*$Q$5*AX$41*$AR44*1.4*AX$40*(0.4+3*I44/AX$38),$AH$6*$Q$5*AX$41*$AR44*1.4*AX$40) -> 0.41803413 | AY44: =IF(I44>0.611,$T$12,IF(I44>0.406,AE$5+($T$12-AE$5)*(I44-0.406)/0.205,IF(I44>0.2,AE$5,IF(I44>0.03,AE$5+(AE$5-1)*(I44-0.2)/0.17,1)))) -> 1 | AZ44: =IF(I44<=S$17,1,IF(I44<T$17,X$17*I44+Y$17,IF(I44<U$17,Z$17,IF(I44<V$17,AA$17/I44^(AB$17),1)))) -> 1 | BA44: =AZ44/AY44 -> 1 | BB44: =IF(BA44>1,1,BA44) -> 1 | BC44: =AZ44*T$5 -> 0.33 | BD44: =$T$5*$T$11*BB44/1.4/$T$6*$AH$6 -> 0.22039286 | BE44: =AZ44*AD$5 -> 0.33 | BF44: =$V$5*$V$11*BB44/1.4/$V$6*$AH$6 -> 0.22039286 | BG44: =AA44 -> 0.427 | BH44: =AK44 -> 0.549 | BI44: =AO44/1.5*$AH$6 -> 0.25058 | BJ44: =Y44/B$13*1.4 -> 0.4228 | BK44: =I44 -> 0.03 | BL44: =BJ44*U$39 -> 414.7668
I45: 0.0893 | J45: =ROUND(IF($I45>=D$17,D$12,IF($I45>=F$17,D$13+(D$12-D$13)*($I45-0.6*D$17)/0.4/D$17,IF($I45<E$17,D$13+(D$13-1)*($I45-E$17)/E$17,D$13))),3) -> 1.354 | K45: =IF($I45<E$17,ROUND(B$17*(0.4+3*$I45/D$17),3),IF($I45<=D$17,B$17,IF($I45<=2.5*D$17,C$17/$I45,0.4*B$17))) -> 0.689 | L45: =ROUND(K45/J45,4) -> 0.5089 | M45: =IF(L45<=0.3,L45,IF(L45<0.8,ROUND(0.52*L45+0.144,3),0.7*L45)) -> 0.409 | N45: =ROUND(B$13*M45/1.4/B$14,3) -> 0.292 | O45: =ROUND(IF($I45>=D$19,D$12,IF($I45>=F$19,D$13+(D$12-D$13)*($I45-0.6*D$19)/0.4/D$19,IF($I45<E$19,D$13+(D$13-1)*($I45-E$19)/E$19,D$13))),3) -> 1.367 | P45: =IF($I45<E$19,ROUND(B$19*(0.4+3*$I45/D$19),3),IF($I45<=D$19,B$19,IF($I45<=2.5*D$19,C$19/$I45,0.4*B$19))) -> 0.574 | Q45: =ROUND(P45/O45,4) -> 0.4199 | R45: =IF(Q45<=0.3,Q45,IF(Q45<0.8,ROUND(0.52*Q45+0.144,3),0.7*Q45)) -> 0.362 | S45: =ROUND(B$13*O45*R45/4.2/B$14,3) -> 0.118 | T45: =ROUND(IF($I45>=D$21,B$12,IF($I45>=F$21,D$14+(B$12-D$14)*($I45-0.6*D$21)/0.4/D$21,IF($I45<E$21,D$14+(D$14-1)*($I45-E$21)/E$21,D$14))),3) -> 1.456 | U45: =IF($I45<E$21,ROUND(B$21*(0.4+3*$I45/D$21),3),IF($I45<=D$21,B$21,IF($I45<=2.5*D$21,C$21/$I45,0.4*B$21))) -> 0.857 | V45: =ROUND(U45/T45,4) -> 0.5886 | W45: =IF(V45<=0.3,V45,IF(V45<0.8,ROUND(0.52*V45+0.144,3),0.7*V45)) -> 0.45 | X45: =ROUND(B$13*W45/1.4/B$14,3) -> 0.321 | Y45: =MAX(X45,S45,N45) -> 0.321 | Z45: =ROUND(IF($I45>=K$17,D$12,IF($I45>=M$17,D$13+(D$12-D$13)*($I45-0.6*K$17)/0.4/K$17,IF($I45<L$17,D$13+(D$13-1)*($I45-L$17)/L$17,D$13))),3) -> 1.458 | AA45: =IF($I45<L$17,ROUND(I$17*(0.4+3*$I45/K$17),3),IF($I45<=K$17,I$17,IF($I45<=2.5*K$17,J$17/$I45,0.4*I$17))) -> 0.638 | AB45: =ROUND(AA45/Z45,4) -> 0.4376 | AC45: =IF(AB45<=0.3,AB45,IF(AB45<0.8,ROUND(0.52*AB45+0.144,3),0.7*AB45)) -> 0.372 | AD45: =ROUND(B$13*AC45/1.4/B$14,3) -> 0.266 | AE45: =ROUND(IF($I45>=K$19,D$12,IF($I45>=M$19,D$13+(D$12-D$13)*($I45-0.6*K$19)/0.4/K$19,IF($I45<L$19,D$13+(D$13-1)*($I45-L$19)/L$19,D$13))),3) -> 1.458 | AF45: =IF($I45<L$19,ROUND(I$19*(0.4+3*$I45/K$19),3),IF($I45<=K$19,I$19,IF($I45<=2.5*K$19,J$19/$I45,0.4*I$19))) -> 0.638 | AG45: =ROUND(AF45/AE45,4) -> 0.4376 | AH45: =IF(AG45<=0.3,AG45,IF(AG45<0.8,ROUND(0.52*AG45+0.144,3),0.7*AG45)) -> 0.372 | AI45: =ROUND(B$13*AE45*AH45/4.2/B$14,3) -> 0.129 | AJ45: =ROUND(IF($I45>=K$21,B$12,IF($I45>=M$21,D$14+(B$12-D$14)*($I45-0.6*K$21)/0.4/K$21,IF($I45<L$21,D$14+(D$14-1)*($I45-L$21)/L$21,D$14))),3) -> 1.701 | AK45: =IF($I45<L$21,ROUND(I$21*(0.4+3*$I45/K$21),3),IF($I45<=K$21,I$21,IF($I45<=2.5*K$21,J$21/$I45,0.4*I$21))) -> 0.843 | AL45: =ROUND(AK45/AJ45,4) -> 0.4956 | AM45: =IF(AL45<=0.3,AL45,IF(AL45<0.8,ROUND(0.52*AL45+0.144,3),0.7*AL45)) -> 0.402 | AN45: =ROUND(B$13*AM45/1.4/B$14,3) -> 0.287 | AO45: =MAX(AN45,AI45,AD45) -> 0.287 | AP45: =ROUND(IF($I45>=AX$38,D$13,IF($I45<AX$39,D$13+(D$13-1)*($I45-AX$39)/AX$39,D$13)),3) -> 1.446 | AQ45: =1/8/I45^0.5 -> 0.41829655 | AR45: =IF(AQ45>0.15,0.15,IF(AQ45<0.0625,0.0625,AQ45)) -> 0.15 | AS45: =$Q$5*AS$41*$Q$15*$AR45*$AH$6 -> 0.27979875 | AT45: =$Q$5*AT$41*$Q$15*$AR45*$AH$6 -> 0.210375 | AU45: =$Q$5*AU$41*$Q$15*$AR45*$AH$6 -> 0.1683 | AV45: =$Q$5*AV$41*$Q$15*$AR45*$AH$6 -> 0.210375 | AW45: =$AH$6*$Q$5*AW$41*$AR45*1.4*AW$40 -> 0.70686 | AX45: =IF(I45<=AX$39,$AH$6*$Q$5*AX$41*$AR45*1.4*AX$40*(0.4+3*I45/AX$38),$AH$6*$Q$5*AX$41*$AR45*1.4*AX$40) -> 0.6202537 | AY45: =IF(I45>0.611,$T$12,IF(I45>0.406,AE$5+($T$12-AE$5)*(I45-0.406)/0.205,IF(I45>0.2,AE$5,IF(I45>0.03,AE$5+(AE$5-1)*(I45-0.2)/0.17,1)))) -> 1.1915716 | AZ45: =IF(I45<=S$17,1,IF(I45<T$17,X$17*I45+Y$17,IF(I45<U$17,Z$17,IF(I45<V$17,AA$17/I45^(AB$17),1)))) -> 1.5231832 | BA45: =AZ45/AY45 -> 1.2782977 | BB45: =IF(BA45>1,1,BA45) -> 1 | BC45: =AZ45*T$5 -> 0.50265046 | BD45: =$T$5*$T$11*BB45/1.4/$T$6*$AH$6 -> 0.22039286 | BE45: =AZ45*AD$5 -> 0.50265046 | BF45: =$V$5*$V$11*BB45/1.4/$V$6*$AH$6 -> 0.22039286 | BG45: =AA45 -> 0.638 | BH45: =AK45 -> 0.843 | BI45: =AO45/1.5*$AH$6 -> 0.268345 | BJ45: =Y45/B$13*1.4 -> 0.4494 | BK45: =I45 -> 0.0893 | BL45: =BJ45*U$39 -> 440.8614
H46: 0.2T0D,T0M | I46: =MIN(E17,E19,E21) -> 0.16876 | J46: =ROUND(IF($I46>=D$17,D$12,IF($I46>=F$17,D$13+(D$12-D$13)*($I46-0.6*D$17)/0.4/D$17,IF($I46<E$17,D$13+(D$13-1)*($I46-E$17)/E$17,D$13))),3) -> 1.669 | K46: =IF($I46<E$17,ROUND(B$17*(0.4+3*$I46/D$17),3),IF($I46<=D$17,B$17,IF($I46<=2.5*D$17,C$17/$I46,0.4*B$17))) -> 0.955 | L46: =ROUND(K46/J46,4) -> 0.5722 | M46: =IF(L46<=0.3,L46,IF(L46<0.8,ROUND(0.52*L46+0.144,3),0.7*L46)) -> 0.442 | N46: =ROUND(B$13*M46/1.4/B$14,3) -> 0.316 | O46: =ROUND(IF($I46>=D$19,D$12,IF($I46>=F$19,D$13+(D$12-D$13)*($I46-0.6*D$19)/0.4/D$19,IF($I46<E$19,D$13+(D$13-1)*($I46-E$19)/E$19,D$13))),3) -> 1.693 | P46: =IF($I46<E$19,ROUND(B$19*(0.4+3*$I46/D$19),3),IF($I46<=D$19,B$19,IF($I46<=2.5*D$19,C$19/$I46,0.4*B$19))) -> 0.8 | Q46: =ROUND(P46/O46,4) -> 0.4725 | R46: =IF(Q46<=0.3,Q46,IF(Q46<0.8,ROUND(0.52*Q46+0.144,3),0.7*Q46)) -> 0.39 | S46: =ROUND(B$13*O46*R46/4.2/B$14,3) -> 0.157 | T46: =ROUND(IF($I46>=D$21,B$12,IF($I46>=F$21,D$14+(B$12-D$14)*($I46-0.6*D$21)/0.4/D$21,IF($I46<E$21,D$14+(D$14-1)*($I46-E$21)/E$21,D$14))),3) -> 1.862 | U46: =IF($I46<E$21,ROUND(B$21*(0.4+3*$I46/D$21),3),IF($I46<=D$21,B$21,IF($I46<=2.5*D$21,C$21/$I46,0.4*B$21))) -> 1.176 | V46: =ROUND(U46/T46,4) -> 0.6316 | W46: =IF(V46<=0.3,V46,IF(V46<0.8,ROUND(0.52*V46+0.144,3),0.7*V46)) -> 0.472 | X46: =ROUND(B$13*W46/1.4/B$14,3) -> 0.337 | Y46: =MAX(X46,S46,N46) -> 0.337 | Z46: =ROUND(IF($I46>=K$17,D$12,IF($I46>=M$17,D$13+(D$12-D$13)*($I46-0.6*K$17)/0.4/K$17,IF($I46<L$17,D$13+(D$13-1)*($I46-L$17)/L$17,D$13))),3) -> 1.693 | AA46: =IF($I46<L$17,ROUND(I$17*(0.4+3*$I46/K$17),3),IF($I46<=K$17,I$17,IF($I46<=2.5*K$17,J$17/$I46,0.4*I$17))) -> 0.8 | AB46: =ROUND(AA46/Z46,4) -> 0.4725 | AC46: =IF(AB46<=0.3,AB46,IF(AB46<0.8,ROUND(0.52*AB46+0.144,3),0.7*AB46)) -> 0.39 | AD46: =ROUND(B$13*AC46/1.4/B$14,3) -> 0.279 | AE46: =ROUND(IF($I46>=K$19,D$12,IF($I46>=M$19,D$13+(D$12-D$13)*($I46-0.6*K$19)/0.4/K$19,IF($I46<L$19,D$13+(D$13-1)*($I46-L$19)/L$19,D$13))),3) -> 1.693 | AF46: =IF($I46<L$19,ROUND(I$19*(0.4+3*$I46/K$19),3),IF($I46<=K$19,I$19,IF($I46<=2.5*K$19,J$19/$I46,0.4*I$19))) -> 0.8 | AG46: =ROUND(AF46/AE46,4) -> 0.4725 | AH46: =IF(AG46<=0.3,AG46,IF(AG46<0.8,ROUND(0.52*AG46+0.144,3),0.7*AG46)) -> 0.39 | AI46: =ROUND(B$13*AE46*AH46/4.2/B$14,3) -> 0.157 | AJ46: =ROUND(IF($I46>=K$21,B$12,IF($I46>=M$21,D$14+(B$12-D$14)*($I46-0.6*K$21)/0.4/K$21,IF($I46<L$21,D$14+(D$14-1)*($I46-L$21)/L$21,D$14))),3) -> 1.949 | AK46: =IF($I46<L$21,ROUND(I$21*(0.4+3*$I46/K$21),3),IF($I46<=K$21,I$21,IF($I46<=2.5*K$21,J$21/$I46,0.4*I$21))) -> 1 | AL46: =ROUND(AK46/AJ46,4) -> 0.5131 | AM46: =IF(AL46<=0.3,AL46,IF(AL46<0.8,ROUND(0.52*AL46+0.144,3),0.7*AL46)) -> 0.411 | AN46: =ROUND(B$13*AM46/1.4/B$14,3) -> 0.294 | AO46: =MAX(AN46,AI46,AD46) -> 0.294 | AP46: =ROUND(IF($I46>=AX$38,D$13,IF($I46<AX$39,D$13+(D$13-1)*($I46-AX$39)/AX$39,D$13)),3) -> 1.693 | AQ46: =1/8/I46^0.5 -> 0.30428129 | AR46: =IF(AQ46>0.15,0.15,IF(AQ46<0.0625,0.0625,AQ46)) -> 0.15 | AS46: =$Q$5*AS$41*$Q$15*$AR46*$AH$6 -> 0.27979875 | AT46: =$Q$5*AT$41*$Q$15*$AR46*$AH$6 -> 0.210375 | AU46: =$Q$5*AU$41*$Q$15*$AR46*$AH$6 -> 0.1683 | AV46: =$Q$5*AV$41*$Q$15*$AR46*$AH$6 -> 0.210375 | AW46: =$AH$6*$Q$5*AW$41*$AR46*1.4*AW$40 -> 0.70686 | AX46: =IF(I46<=AX$39,$AH$6*$Q$5*AX$41*$AR46*1.4*AX$40*(0.4+3*I46/AX$38),$AH$6*$Q$5*AX$41*$AR46*1.4*AX$40) -> 0.789327 | AY46: =IF(I46>0.611,$T$12,IF(I46>0.406,AE$5+($T$12-AE$5)*(I46-0.406)/0.205,IF(I46>0.2,AE$5,IF(I46>0.03,AE$5+(AE$5-1)*(I46-0.2)/0.17,1)))) -> 1.448271 | AZ46: =IF(I46<=S$17,1,IF(I46<T$17,X$17*I46+Y$17,IF(I46<U$17,Z$17,IF(I46<V$17,AA$17/I46^(AB$17),1)))) -> 2.2243382 | BA46: =AZ46/AY46 -> 1.5358578 | BB46: =IF(BA46>1,1,BA46) -> 1 | BC46: =AZ46*T$5 -> 0.73403162 | BD46: =$T$5*$T$11*BB46/1.4/$T$6*$AH$6 -> 0.22039286 | BE46: =AZ46*AD$5 -> 0.73403162 | BF46: =$V$5*$V$11*BB46/1.4/$V$6*$AH$6 -> 0.22039286 | BG46: =AA46 -> 0.8 | BH46: =AK46 -> 1 | BI46: =AO46/1.5*$AH$6 -> 0.27489 | BJ46: =Y46/B$13*1.4 -> 0.4718 | BK46: =I46 -> 0.16876 | BL46: =BJ46*U$39 -> 462.8358
I47: =MIN(LARGE(E17:E21,2),I49) -> 0.1389 | J47: =ROUND(IF($I47>=D$17,D$12,IF($I47>=F$17,D$13+(D$12-D$13)*($I47-0.6*D$17)/0.4/D$17,IF($I47<E$17,D$13+(D$13-1)*($I47-E$17)/E$17,D$13))),3) -> 1.551 | K47: =IF($I47<E$17,ROUND(B$17*(0.4+3*$I47/D$17),3),IF($I47<=D$17,B$17,IF($I47<=2.5*D$17,C$17/$I47,0.4*B$17))) -> 0.855 | L47: =ROUND(K47/J47,4) -> 0.5513 | M47: =IF(L47<=0.3,L47,IF(L47<0.8,ROUND(0.52*L47+0.144,3),0.7*L47)) -> 0.431 | N47: =ROUND(B$13*M47/1.4/B$14,3) -> 0.308 | O47: =ROUND(IF($I47>=D$19,D$12,IF($I47>=F$19,D$13+(D$12-D$13)*($I47-0.6*D$19)/0.4/D$19,IF($I47<E$19,D$13+(D$13-1)*($I47-E$19)/E$19,D$13))),3) -> 1.57 | P47: =IF($I47<E$19,ROUND(B$19*(0.4+3*$I47/D$19),3),IF($I47<=D$19,B$19,IF($I47<=2.5*D$19,C$19/$I47,0.4*B$19))) -> 0.715 | Q47: =ROUND(P47/O47,4) -> 0.4554 | R47: =IF(Q47<=0.3,Q47,IF(Q47<0.8,ROUND(0.52*Q47+0.144,3),0.7*Q47)) -> 0.381 | S47: =ROUND(B$13*O47*R47/4.2/B$14,3) -> 0.142 | T47: =ROUND(IF($I47>=D$21,B$12,IF($I47>=F$21,D$14+(B$12-D$14)*($I47-0.6*D$21)/0.4/D$21,IF($I47<E$21,D$14+(D$14-1)*($I47-E$21)/E$21,D$14))),3) -> 1.71 | U47: =IF($I47<E$21,ROUND(B$21*(0.4+3*$I47/D$21),3),IF($I47<=D$21,B$21,IF($I47<=2.5*D$21,C$21/$I47,0.4*B$21))) -> 1.056 | V47: =ROUND(U47/T47,4) -> 0.6175 | W47: =IF(V47<=0.3,V47,IF(V47<0.8,ROUND(0.52*V47+0.144,3),0.7*V47)) -> 0.465 | X47: =ROUND(B$13*W47/1.4/B$14,3) -> 0.332 | Y47: =MAX(X47,S47,N47) -> 0.332 | Z47: =ROUND(IF($I47>=K$17,D$12,IF($I47>=M$17,D$13+(D$12-D$13)*($I47-0.6*K$17)/0.4/K$17,IF($I47<L$17,D$13+(D$13-1)*($I47-L$17)/L$17,D$13))),3) -> 1.693 | AA47: =IF($I47<L$17,ROUND(I$17*(0.4+3*$I47/K$17),3),IF($I47<=K$17,I$17,IF($I47<=2.5*K$17,J$17/$I47,0.4*I$17))) -> 0.8 | AB47: =ROUND(AA47/Z47,4) -> 0.4725 | AC47: =IF(AB47<=0.3,AB47,IF(AB47<0.8,ROUND(0.52*AB47+0.144,3),0.7*AB47)) -> 0.39 | AD47: =ROUND(B$13*AC47/1.4/B$14,3) -> 0.279 | AE47: =ROUND(IF($I47>=K$19,D$12,IF($I47>=M$19,D$13+(D$12-D$13)*($I47-0.6*K$19)/0.4/K$19,IF($I47<L$19,D$13+(D$13-1)*($I47-L$19)/L$19,D$13))),3) -> 1.693 | AF47: =IF($I47<L$19,ROUND(I$19*(0.4+3*$I47/K$19),3),IF($I47<=K$19,I$19,IF($I47<=2.5*K$19,J$19/$I47,0.4*I$19))) -> 0.8 | AG47: =ROUND(AF47/AE47,4) -> 0.4725 | AH47: =IF(AG47<=0.3,AG47,IF(AG47<0.8,ROUND(0.52*AG47+0.144,3),0.7*AG47)) -> 0.39 | AI47: =ROUND(B$13*AE47*AH47/4.2/B$14,3) -> 0.157 | AJ47: =ROUND(IF($I47>=K$21,B$12,IF($I47>=M$21,D$14+(B$12-D$14)*($I47-0.6*K$21)/0.4/K$21,IF($I47<L$21,D$14+(D$14-1)*($I47-L$21)/L$21,D$14))),3) -> 1.949 | AK47: =IF($I47<L$21,ROUND(I$21*(0.4+3*$I47/K$21),3),IF($I47<=K$21,I$21,IF($I47<=2.5*K$21,J$21/$I47,0.4*I$21))) -> 1 | AL47: =ROUND(AK47/AJ47,4) -> 0.5131 | AM47: =IF(AL47<=0.3,AL47,IF(AL47<0.8,ROUND(0.52*AL47+0.144,3),0.7*AL47)) -> 0.411 | AN47: =ROUND(B$13*AM47/1.4/B$14,3) -> 0.294 | AO47: =MAX(AN47,AI47,AD47) -> 0.294 | AP47: =ROUND(IF($I47>=AX$38,D$13,IF($I47<AX$39,D$13+(D$13-1)*($I47-AX$39)/AX$39,D$13)),3) -> 1.693 | AQ47: =1/8/I47^0.5 -> 0.33539678 | AR47: =IF(AQ47>0.15,0.15,IF(AQ47<0.0625,0.0625,AQ47)) -> 0.15 | AS47: =$Q$5*AS$41*$Q$15*$AR47*$AH$6 -> 0.27979875 | AT47: =$Q$5*AT$41*$Q$15*$AR47*$AH$6 -> 0.210375 | AU47: =$Q$5*AU$41*$Q$15*$AR47*$AH$6 -> 0.1683 | AV47: =$Q$5*AV$41*$Q$15*$AR47*$AH$6 -> 0.210375 | AW47: =$AH$6*$Q$5*AW$41*$AR47*1.4*AW$40 -> 0.70686 | AX47: =IF(I47<=AX$39,$AH$6*$Q$5*AX$41*$AR47*1.4*AX$40*(0.4+3*I47/AX$38),$AH$6*$Q$5*AX$41*$AR47*1.4*AX$40) -> 0.7893952 | AY47: =IF(I47>0.611,$T$12,IF(I47>0.406,AE$5+($T$12-AE$5)*(I47-0.406)/0.205,IF(I47>0.2,AE$5,IF(I47>0.03,AE$5+(AE$5-1)*(I47-0.2)/0.17,1)))) -> 1.3518068 | AZ47: =IF(I47<=S$17,1,IF(I47<T$17,X$17*I47+Y$17,IF(I47<U$17,Z$17,IF(I47<V$17,AA$17/I47^(AB$17),1)))) -> 1.9608536 | BA47: =AZ47/AY47 -> 1.4505428 | BB47: =IF(BA47>1,1,BA47) -> 1 | BC47: =AZ47*T$5 -> 0.64708169 | BD47: =$T$5*$T$11*BB47/1.4/$T$6*$AH$6 -> 0.22039286 | BE47: =AZ47*AD$5 -> 0.64708169 | BF47: =$V$5*$V$11*BB47/1.4/$V$6*$AH$6 -> 0.22039286 | BG47: =AA47 -> 0.8 | BH47: =AK47 -> 1 | BI47: =AO47/1.5*$AH$6 -> 0.27489 | BJ47: =Y47/B$13*1.4 -> 0.4648 | BK47: =I47 -> 0.1389 | BL47: =BJ47*U$39 -> 455.9688
I48: =MIN(MAX(E17,E19,E21),I49) -> 0.1389 | J48: =ROUND(IF($I48>=D$17,D$12,IF($I48>=F$17,D$13+(D$12-D$13)*($I48-0.6*D$17)/0.4/D$17,IF($I48<E$17,D$13+(D$13-1)*($I48-E$17)/E$17,D$13))),3) -> 1.551 | K48: =IF($I48<E$17,ROUND(B$17*(0.4+3*$I48/D$17),3),IF($I48<=D$17,B$17,IF($I48<=2.5*D$17,C$17/$I48,0.4*B$17))) -> 0.855 | L48: =ROUND(K48/J48,4) -> 0.5513 | M48: =IF(L48<=0.3,L48,IF(L48<0.8,ROUND(0.52*L48+0.144,3),0.7*L48)) -> 0.431 | N48: =ROUND(B$13*M48/1.4/B$14,3) -> 0.308 | O48: =ROUND(IF($I48>=D$19,D$12,IF($I48>=F$19,D$13+(D$12-D$13)*($I48-0.6*D$19)/0.4/D$19,IF($I48<E$19,D$13+(D$13-1)*($I48-E$19)/E$19,D$13))),3) -> 1.57 | P48: =IF($I48<E$19,ROUND(B$19*(0.4+3*$I48/D$19),3),IF($I48<=D$19,B$19,IF($I48<=2.5*D$19,C$19/$I48,0.4*B$19))) -> 0.715 | Q48: =ROUND(P48/O48,4) -> 0.4554 | R48: =IF(Q48<=0.3,Q48,IF(Q48<0.8,ROUND(0.52*Q48+0.144,3),0.7*Q48)) -> 0.381 | S48: =ROUND(B$13*O48*R48/4.2/B$14,3) -> 0.142 | T48: =ROUND(IF($I48>=D$21,B$12,IF($I48>=F$21,D$14+(B$12-D$14)*($I48-0.6*D$21)/0.4/D$21,IF($I48<E$21,D$14+(D$14-1)*($I48-E$21)/E$21,D$14))),3) -> 1.71 | U48: =IF($I48<E$21,ROUND(B$21*(0.4+3*$I48/D$21),3),IF($I48<=D$21,B$21,IF($I48<=2.5*D$21,C$21/$I48,0.4*B$21))) -> 1.056 | V48: =ROUND(U48/T48,4) -> 0.6175 | W48: =IF(V48<=0.3,V48,IF(V48<0.8,ROUND(0.52*V48+0.144,3),0.7*V48)) -> 0.465 | X48: =ROUND(B$13*W48/1.4/B$14,3) -> 0.332 | Y48: =MAX(X48,S48,N48) -> 0.332 | Z48: =ROUND(IF($I48>=K$17,D$12,IF($I48>=M$17,D$13+(D$12-D$13)*($I48-0.6*K$17)/0.4/K$17,IF($I48<L$17,D$13+(D$13-1)*($I48-L$17)/L$17,D$13))),3) -> 1.693 | AA48: =IF($I48<L$17,ROUND(I$17*(0.4+3*$I48/K$17),3),IF($I48<=K$17,I$17,IF($I48<=2.5*K$17,J$17/$I48,0.4*I$17))) -> 0.8 | AB48: =ROUND(AA48/Z48,4) -> 0.4725 | AC48: =IF(AB48<=0.3,AB48,IF(AB48<0.8,ROUND(0.52*AB48+0.144,3),0.7*AB48)) -> 0.39 | AD48: =ROUND(B$13*AC48/1.4/B$14,3) -> 0.279 | AE48: =ROUND(IF($I48>=K$19,D$12,IF($I48>=M$19,D$13+(D$12-D$13)*($I48-0.6*K$19)/0.4/K$19,IF($I48<L$19,D$13+(D$13-1)*($I48-L$19)/L$19,D$13))),3) -> 1.693 | AF48: =IF($I48<L$19,ROUND(I$19*(0.4+3*$I48/K$19),3),IF($I48<=K$19,I$19,IF($I48<=2.5*K$19,J$19/$I48,0.4*I$19))) -> 0.8 | AG48: =ROUND(AF48/AE48,4) -> 0.4725 | AH48: =IF(AG48<=0.3,AG48,IF(AG48<0.8,ROUND(0.52*AG48+0.144,3),0.7*AG48)) -> 0.39 | AI48: =ROUND(B$13*AE48*AH48/4.2/B$14,3) -> 0.157 | AJ48: =ROUND(IF($I48>=K$21,B$12,IF($I48>=M$21,D$14+(B$12-D$14)*($I48-0.6*K$21)/0.4/K$21,IF($I48<L$21,D$14+(D$14-1)*($I48-L$21)/L$21,D$14))),3) -> 1.949 | AK48: =IF($I48<L$21,ROUND(I$21*(0.4+3*$I48/K$21),3),IF($I48<=K$21,I$21,IF($I48<=2.5*K$21,J$21/$I48,0.4*I$21))) -> 1 | AL48: =ROUND(AK48/AJ48,4) -> 0.5131 | AM48: =IF(AL48<=0.3,AL48,IF(AL48<0.8,ROUND(0.52*AL48+0.144,3),0.7*AL48)) -> 0.411 | AN48: =ROUND(B$13*AM48/1.4/B$14,3) -> 0.294 | AO48: =MAX(AN48,AI48,AD48) -> 0.294 | AP48: =ROUND(IF($I48>=AX$38,D$13,IF($I48<AX$39,D$13+(D$13-1)*($I48-AX$39)/AX$39,D$13)),3) -> 1.693 | AQ48: =1/8/I48^0.5 -> 0.33539678 | AR48: =IF(AQ48>0.15,0.15,IF(AQ48<0.0625,0.0625,AQ48)) -> 0.15 | AS48: =$Q$5*AS$41*$Q$15*$AR48*$AH$6 -> 0.27979875 | AT48: =$Q$5*AT$41*$Q$15*$AR48*$AH$6 -> 0.210375 | AU48: =$Q$5*AU$41*$Q$15*$AR48*$AH$6 -> 0.1683 | AV48: =$Q$5*AV$41*$Q$15*$AR48*$AH$6 -> 0.210375 | AW48: =$AH$6*$Q$5*AW$41*$AR48*1.4*AW$40 -> 0.70686 | AX48: =IF(I48<=AX$39,$AH$6*$Q$5*AX$41*$AR48*1.4*AX$40*(0.4+3*I48/AX$38),$AH$6*$Q$5*AX$41*$AR48*1.4*AX$40) -> 0.7893952 | AY48: =IF(I48>0.611,$T$12,IF(I48>0.406,AE$5+($T$12-AE$5)*(I48-0.406)/0.205,IF(I48>0.2,AE$5,IF(I48>0.03,AE$5+(AE$5-1)*(I48-0.2)/0.17,1)))) -> 1.3518068 | AZ48: =IF(I48<=S$17,1,IF(I48<T$17,X$17*I48+Y$17,IF(I48<U$17,Z$17,IF(I48<V$17,AA$17/I48^(AB$17),1)))) -> 1.9608536 | BA48: =AZ48/AY48 -> 1.4505428 | BB48: =IF(BA48>1,1,BA48) -> 1 | BC48: =AZ48*T$5 -> 0.64708169 | BD48: =$T$5*$T$11*BB48/1.4/$T$6*$AH$6 -> 0.22039286 | BE48: =AZ48*AD$5 -> 0.64708169 | BF48: =$V$5*$V$11*BB48/1.4/$V$6*$AH$6 -> 0.22039286 | BG48: =AA48 -> 0.8 | BH48: =AK48 -> 1 | BI48: =AO48/1.5*$AH$6 -> 0.27489 | BJ48: =Y48/B$13*1.4 -> 0.4648 | BK48: =I48 -> 0.1389 | BL48: =BJ48*U$39 -> 455.9688
I49: =AX39 -> 0.1389 | J49: =ROUND(IF($I49>=D$17,D$12,IF($I49>=F$17,D$13+(D$12-D$13)*($I49-0.6*D$17)/0.4/D$17,IF($I49<E$17,D$13+(D$13-1)*($I49-E$17)/E$17,D$13))),3) -> 1.551 | K49: =IF($I49<E$17,ROUND(B$17*(0.4+3*$I49/D$17),3),IF($I49<=D$17,B$17,IF($I49<=2.5*D$17,C$17/$I49,0.4*B$17))) -> 0.855 | L49: =ROUND(K49/J49,4) -> 0.5513 | M49: =IF(L49<=0.3,L49,IF(L49<0.8,ROUND(0.52*L49+0.144,3),0.7*L49)) -> 0.431 | N49: =ROUND(B$13*M49/1.4/B$14,3) -> 0.308 | O49: =ROUND(IF($I49>=D$19,D$12,IF($I49>=F$19,D$13+(D$12-D$13)*($I49-0.6*D$19)/0.4/D$19,IF($I49<E$19,D$13+(D$13-1)*($I49-E$19)/E$19,D$13))),3) -> 1.57 | P49: =IF($I49<E$19,ROUND(B$19*(0.4+3*$I49/D$19),3),IF($I49<=D$19,B$19,IF($I49<=2.5*D$19,C$19/$I49,0.4*B$19))) -> 0.715 | Q49: =ROUND(P49/O49,4) -> 0.4554 | R49: =IF(Q49<=0.3,Q49,IF(Q49<0.8,ROUND(0.52*Q49+0.144,3),0.7*Q49)) -> 0.381 | S49: =ROUND(B$13*O49*R49/4.2/B$14,3) -> 0.142 | T49: =ROUND(IF($I49>=D$21,B$12,IF($I49>=F$21,D$14+(B$12-D$14)*($I49-0.6*D$21)/0.4/D$21,IF($I49<E$21,D$14+(D$14-1)*($I49-E$21)/E$21,D$14))),3) -> 1.71 | U49: =IF($I49<E$21,ROUND(B$21*(0.4+3*$I49/D$21),3),IF($I49<=D$21,B$21,IF($I49<=2.5*D$21,C$21/$I49,0.4*B$21))) -> 1.056 | V49: =ROUND(U49/T49,4) -> 0.6175 | W49: =IF(V49<=0.3,V49,IF(V49<0.8,ROUND(0.52*V49+0.144,3),0.7*V49)) -> 0.465 | X49: =ROUND(B$13*W49/1.4/B$14,3) -> 0.332 | Y49: =MAX(X49,S49,N49) -> 0.332 | Z49: =ROUND(IF($I49>=K$17,D$12,IF($I49>=M$17,D$13+(D$12-D$13)*($I49-0.6*K$17)/0.4/K$17,IF($I49<L$17,D$13+(D$13-1)*($I49-L$17)/L$17,D$13))),3) -> 1.693 | AA49: =IF($I49<L$17,ROUND(I$17*(0.4+3*$I49/K$17),3),IF($I49<=K$17,I$17,IF($I49<=2.5*K$17,J$17/$I49,0.4*I$17))) -> 0.8 | AB49: =ROUND(AA49/Z49,4) -> 0.4725 | AC49: =IF(AB49<=0.3,AB49,IF(AB49<0.8,ROUND(0.52*AB49+0.144,3),0.7*AB49)) -> 0.39 | AD49: =ROUND(B$13*AC49/1.4/B$14,3) -> 0.279 | AE49: =ROUND(IF($I49>=K$19,D$12,IF($I49>=M$19,D$13+(D$12-D$13)*($I49-0.6*K$19)/0.4/K$19,IF($I49<L$19,D$13+(D$13-1)*($I49-L$19)/L$19,D$13))),3) -> 1.693 | AF49: =IF($I49<L$19,ROUND(I$19*(0.4+3*$I49/K$19),3),IF($I49<=K$19,I$19,IF($I49<=2.5*K$19,J$19/$I49,0.4*I$19))) -> 0.8 | AG49: =ROUND(AF49/AE49,4) -> 0.4725 | AH49: =IF(AG49<=0.3,AG49,IF(AG49<0.8,ROUND(0.52*AG49+0.144,3),0.7*AG49)) -> 0.39 | AI49: =ROUND(B$13*AE49*AH49/4.2/B$14,3) -> 0.157 | AJ49: =ROUND(IF($I49>=K$21,B$12,IF($I49>=M$21,D$14+(B$12-D$14)*($I49-0.6*K$21)/0.4/K$21,IF($I49<L$21,D$14+(D$14-1)*($I49-L$21)/L$21,D$14))),3) -> 1.949 | AK49: =IF($I49<L$21,ROUND(I$21*(0.4+3*$I49/K$21),3),IF($I49<=K$21,I$21,IF($I49<=2.5*K$21,J$21/$I49,0.4*I$21))) -> 1 | AL49: =ROUND(AK49/AJ49,4) -> 0.5131 | AM49: =IF(AL49<=0.3,AL49,IF(AL49<0.8,ROUND(0.52*AL49+0.144,3),0.7*AL49)) -> 0.411 | AN49: =ROUND(B$13*AM49/1.4/B$14,3) -> 0.294 | AO49: =MAX(AN49,AI49,AD49) -> 0.294 | AP49: =ROUND(IF($I49>=AX$38,D$13,IF($I49<AX$39,D$13+(D$13-1)*($I49-AX$39)/AX$39,D$13)),3) -> 1.693 | AQ49: =1/8/I49^0.5 -> 0.33539678 | AR49: =IF(AQ49>0.15,0.15,IF(AQ49<0.0625,0.0625,AQ49)) -> 0.15 | AS49: =$Q$5*AS$41*$Q$15*$AR49*$AH$6 -> 0.27979875 | AT49: =$Q$5*AT$41*$Q$15*$AR49*$AH$6 -> 0.210375 | AU49: =$Q$5*AU$41*$Q$15*$AR49*$AH$6 -> 0.1683 | AV49: =$Q$5*AV$41*$Q$15*$AR49*$AH$6 -> 0.210375 | AW49: =$AH$6*$Q$5*AW$41*$AR49*1.4*AW$40 -> 0.70686 | AX49: =IF(I49<=AX$39,$AH$6*$Q$5*AX$41*$AR49*1.4*AX$40*(0.4+3*I49/AX$38),$AH$6*$Q$5*AX$41*$AR49*1.4*AX$40) -> 0.7893952 | AY49: =IF(I49>0.611,$T$12,IF(I49>0.406,AE$5+($T$12-AE$5)*(I49-0.406)/0.205,IF(I49>0.2,AE$5,IF(I49>0.03,AE$5+(AE$5-1)*(I49-0.2)/0.17,1)))) -> 1.3518068 | AZ49: =IF(I49<=S$17,1,IF(I49<T$17,X$17*I49+Y$17,IF(I49<U$17,Z$17,IF(I49<V$17,AA$17/I49^(AB$17),1)))) -> 1.9608536 | BA49: =AZ49/AY49 -> 1.4505428 | BB49: =IF(BA49>1,1,BA49) -> 1 | BC49: =AZ49*T$5 -> 0.64708169 | BD49: =$T$5*$T$11*BB49/1.4/$T$6*$AH$6 -> 0.22039286 | BE49: =AZ49*AD$5 -> 0.64708169 | BF49: =$V$5*$V$11*BB49/1.4/$V$6*$AH$6 -> 0.22039286 | BG49: =AA49 -> 0.8 | BH49: =AK49 -> 1 | BI49: =AO49/1.5*$AH$6 -> 0.27489 | BJ49: =Y49/B$13*1.4 -> 0.4648 | BK49: =I49 -> 0.1389 | BL49: =BJ49*U$39 -> 455.9688
I50: 0.15 | J50: =ROUND(IF($I50>=D$17,D$12,IF($I50>=F$17,D$13+(D$12-D$13)*($I50-0.6*D$17)/0.4/D$17,IF($I50<E$17,D$13+(D$13-1)*($I50-E$17)/E$17,D$13))),3) -> 1.595 | K50: =IF($I50<E$17,ROUND(B$17*(0.4+3*$I50/D$17),3),IF($I50<=D$17,B$17,IF($I50<=2.5*D$17,C$17/$I50,0.4*B$17))) -> 0.892 | L50: =ROUND(K50/J50,4) -> 0.5592 | M50: =IF(L50<=0.3,L50,IF(L50<0.8,ROUND(0.52*L50+0.144,3),0.7*L50)) -> 0.435 | N50: =ROUND(B$13*M50/1.4/B$14,3) -> 0.311 | O50: =ROUND(IF($I50>=D$19,D$12,IF($I50>=F$19,D$13+(D$12-D$13)*($I50-0.6*D$19)/0.4/D$19,IF($I50<E$19,D$13+(D$13-1)*($I50-E$19)/E$19,D$13))),3) -> 1.616 | P50: =IF($I50<E$19,ROUND(B$19*(0.4+3*$I50/D$19),3),IF($I50<=D$19,B$19,IF($I50<=2.5*D$19,C$19/$I50,0.4*B$19))) -> 0.747 | Q50: =ROUND(P50/O50,4) -> 0.4623 | R50: =IF(Q50<=0.3,Q50,IF(Q50<0.8,ROUND(0.52*Q50+0.144,3),0.7*Q50)) -> 0.384 | S50: =ROUND(B$13*O50*R50/4.2/B$14,3) -> 0.148 | T50: =ROUND(IF($I50>=D$21,B$12,IF($I50>=F$21,D$14+(B$12-D$14)*($I50-0.6*D$21)/0.4/D$21,IF($I50<E$21,D$14+(D$14-1)*($I50-E$21)/E$21,D$14))),3) -> 1.766 | U50: =IF($I50<E$21,ROUND(B$21*(0.4+3*$I50/D$21),3),IF($I50<=D$21,B$21,IF($I50<=2.5*D$21,C$21/$I50,0.4*B$21))) -> 1.101 | V50: =ROUND(U50/T50,4) -> 0.6234 | W50: =IF(V50<=0.3,V50,IF(V50<0.8,ROUND(0.52*V50+0.144,3),0.7*V50)) -> 0.468 | X50: =ROUND(B$13*W50/1.4/B$14,3) -> 0.334 | Y50: =MAX(X50,S50,N50) -> 0.334 | Z50: =ROUND(IF($I50>=K$17,D$12,IF($I50>=M$17,D$13+(D$12-D$13)*($I50-0.6*K$17)/0.4/K$17,IF($I50<L$17,D$13+(D$13-1)*($I50-L$17)/L$17,D$13))),3) -> 1.693 | AA50: =IF($I50<L$17,ROUND(I$17*(0.4+3*$I50/K$17),3),IF($I50<=K$17,I$17,IF($I50<=2.5*K$17,J$17/$I50,0.4*I$17))) -> 0.8 | AB50: =ROUND(AA50/Z50,4) -> 0.4725 | AC50: =IF(AB50<=0.3,AB50,IF(AB50<0.8,ROUND(0.52*AB50+0.144,3),0.7*AB50)) -> 0.39 | AD50: =ROUND(B$13*AC50/1.4/B$14,3) -> 0.279 | AE50: =ROUND(IF($I50>=K$19,D$12,IF($I50>=M$19,D$13+(D$12-D$13)*($I50-0.6*K$19)/0.4/K$19,IF($I50<L$19,D$13+(D$13-1)*($I50-L$19)/L$19,D$13))),3) -> 1.693 | AF50: =IF($I50<L$19,ROUND(I$19*(0.4+3*$I50/K$19),3),IF($I50<=K$19,I$19,IF($I50<=2.5*K$19,J$19/$I50,0.4*I$19))) -> 0.8 | AG50: =ROUND(AF50/AE50,4) -> 0.4725 | AH50: =IF(AG50<=0.3,AG50,IF(AG50<0.8,ROUND(0.52*AG50+0.144,3),0.7*AG50)) -> 0.39 | AI50: =ROUND(B$13*AE50*AH50/4.2/B$14,3) -> 0.157 | AJ50: =ROUND(IF($I50>=K$21,B$12,IF($I50>=M$21,D$14+(B$12-D$14)*($I50-0.6*K$21)/0.4/K$21,IF($I50<L$21,D$14+(D$14-1)*($I50-L$21)/L$21,D$14))),3) -> 1.949 | AK50: =IF($I50<L$21,ROUND(I$21*(0.4+3*$I50/K$21),3),IF($I50<=K$21,I$21,IF($I50<=2.5*K$21,J$21/$I50,0.4*I$21))) -> 1 | AL50: =ROUND(AK50/AJ50,4) -> 0.5131 | AM50: =IF(AL50<=0.3,AL50,IF(AL50<0.8,ROUND(0.52*AL50+0.144,3),0.7*AL50)) -> 0.411 | AN50: =ROUND(B$13*AM50/1.4/B$14,3) -> 0.294 | AO50: =MAX(AN50,AI50,AD50) -> 0.294 | AP50: =ROUND(IF($I50>=AX$38,D$13,IF($I50<AX$39,D$13+(D$13-1)*($I50-AX$39)/AX$39,D$13)),3) -> 1.693 | AQ50: =1/8/I50^0.5 -> 0.32274861 | AR50: =IF(AQ50>0.15,0.15,IF(AQ50<0.0625,0.0625,AQ50)) -> 0.15 | AS50: =$Q$5*AS$41*$Q$15*$AR50*$AH$6 -> 0.27979875 | AT50: =$Q$5*AT$41*$Q$15*$AR50*$AH$6 -> 0.210375 | AU50: =$Q$5*AU$41*$Q$15*$AR50*$AH$6 -> 0.1683 | AV50: =$Q$5*AV$41*$Q$15*$AR50*$AH$6 -> 0.210375 | AW50: =$AH$6*$Q$5*AW$41*$AR50*1.4*AW$40 -> 0.70686 | AX50: =IF(I50<=AX$39,$AH$6*$Q$5*AX$41*$AR50*1.4*AX$40*(0.4+3*I50/AX$38),$AH$6*$Q$5*AX$41*$AR50*1.4*AX$40) -> 0.789327 | AY50: =IF(I50>0.611,$T$12,IF(I50>0.406,AE$5+($T$12-AE$5)*(I50-0.406)/0.205,IF(I50>0.2,AE$5,IF(I50>0.03,AE$5+(AE$5-1)*(I50-0.2)/0.17,1)))) -> 1.3876659 | AZ50: =IF(I50<=S$17,1,IF(I50<T$17,X$17*I50+Y$17,IF(I50<U$17,Z$17,IF(I50<V$17,AA$17/I50^(AB$17),1)))) -> 2.0588 | BA50: =AZ50/AY50 -> 1.4836424 | BB50: =IF(BA50>1,1,BA50) -> 1 | BC50: =AZ50*T$5 -> 0.679404 | BD50: =$T$5*$T$11*BB50/1.4/$T$6*$AH$6 -> 0.22039286 | BE50: =AZ50*AD$5 -> 0.679404 | BF50: =$V$5*$V$11*BB50/1.4/$V$6*$AH$6 -> 0.22039286 | BG50: =AA50 -> 0.8 | BH50: =AK50 -> 1 | BI50: =AO50/1.5*$AH$6 -> 0.27489 | BJ50: =Y50/B$13*1.4 -> 0.4676 | BK50: =I50 -> 0.15 | BL50: =BJ50*U$39 -> 458.7156
I51: 0.2 | J51: =ROUND(IF($I51>=D$17,D$12,IF($I51>=F$17,D$13+(D$12-D$13)*($I51-0.6*D$17)/0.4/D$17,IF($I51<E$17,D$13+(D$13-1)*($I51-E$17)/E$17,D$13))),3) -> 1.693 | K51: =IF($I51<E$17,ROUND(B$17*(0.4+3*$I51/D$17),3),IF($I51<=D$17,B$17,IF($I51<=2.5*D$17,C$17/$I51,0.4*B$17))) -> 0.975 | L51: =ROUND(K51/J51,4) -> 0.5759 | M51: =IF(L51<=0.3,L51,IF(L51<0.8,ROUND(0.52*L51+0.144,3),0.7*L51)) -> 0.443 | N51: =ROUND(B$13*M51/1.4/B$14,3) -> 0.316 | O51: =ROUND(IF($I51>=D$19,D$12,IF($I51>=F$19,D$13+(D$12-D$13)*($I51-0.6*D$19)/0.4/D$19,IF($I51<E$19,D$13+(D$13-1)*($I51-E$19)/E$19,D$13))),3) -> 1.693 | P51: =IF($I51<E$19,ROUND(B$19*(0.4+3*$I51/D$19),3),IF($I51<=D$19,B$19,IF($I51<=2.5*D$19,C$19/$I51,0.4*B$19))) -> 0.8 | Q51: =ROUND(P51/O51,4) -> 0.4725 | R51: =IF(Q51<=0.3,Q51,IF(Q51<0.8,ROUND(0.52*Q51+0.144,3),0.7*Q51)) -> 0.39 | S51: =ROUND(B$13*O51*R51/4.2/B$14,3) -> 0.157 | T51: =ROUND(IF($I51>=D$21,B$12,IF($I51>=F$21,D$14+(B$12-D$14)*($I51-0.6*D$21)/0.4/D$21,IF($I51<E$21,D$14+(D$14-1)*($I51-E$21)/E$21,D$14))),3) -> 1.949 | U51: =IF($I51<E$21,ROUND(B$21*(0.4+3*$I51/D$21),3),IF($I51<=D$21,B$21,IF($I51<=2.5*D$21,C$21/$I51,0.4*B$21))) -> 1.24498 | V51: =ROUND(U51/T51,4) -> 0.6388 | W51: =IF(V51<=0.3,V51,IF(V51<0.8,ROUND(0.52*V51+0.144,3),0.7*V51)) -> 0.476 | X51: =ROUND(B$13*W51/1.4/B$14,3) -> 0.34 | Y51: =MAX(X51,S51,N51) -> 0.34 | Z51: =ROUND(IF($I51>=K$17,D$12,IF($I51>=M$17,D$13+(D$12-D$13)*($I51-0.6*K$17)/0.4/K$17,IF($I51<L$17,D$13+(D$13-1)*($I51-L$17)/L$17,D$13))),3) -> 1.693 | AA51: =IF($I51<L$17,ROUND(I$17*(0.4+3*$I51/K$17),3),IF($I51<=K$17,I$17,IF($I51<=2.5*K$17,J$17/$I51,0.4*I$17))) -> 0.8 | AB51: =ROUND(AA51/Z51,4) -> 0.4725 | AC51: =IF(AB51<=0.3,AB51,IF(AB51<0.8,ROUND(0.52*AB51+0.144,3),0.7*AB51)) -> 0.39 | AD51: =ROUND(B$13*AC51/1.4/B$14,3) -> 0.279 | AE51: =ROUND(IF($I51>=K$19,D$12,IF($I51>=M$19,D$13+(D$12-D$13)*($I51-0.6*K$19)/0.4/K$19,IF($I51<L$19,D$13+(D$13-1)*($I51-L$19)/L$19,D$13))),3) -> 1.693 | AF51: =IF($I51<L$19,ROUND(I$19*(0.4+3*$I51/K$19),3),IF($I51<=K$19,I$19,IF($I51<=2.5*K$19,J$19/$I51,0.4*I$19))) -> 0.8 | AG51: =ROUND(AF51/AE51,4) -> 0.4725 | AH51: =IF(AG51<=0.3,AG51,IF(AG51<0.8,ROUND(0.52*AG51+0.144,3),0.7*AG51)) -> 0.39 | AI51: =ROUND(B$13*AE51*AH51/4.2/B$14,3) -> 0.157 | AJ51: =ROUND(IF($I51>=K$21,B$12,IF($I51>=M$21,D$14+(B$12-D$14)*($I51-0.6*K$21)/0.4/K$21,IF($I51<L$21,D$14+(D$14-1)*($I51-L$21)/L$21,D$14))),3) -> 1.949 | AK51: =IF($I51<L$21,ROUND(I$21*(0.4+3*$I51/K$21),3),IF($I51<=K$21,I$21,IF($I51<=2.5*K$21,J$21/$I51,0.4*I$21))) -> 1 | AL51: =ROUND(AK51/AJ51,4) -> 0.5131 | AM51: =IF(AL51<=0.3,AL51,IF(AL51<0.8,ROUND(0.52*AL51+0.144,3),0.7*AL51)) -> 0.411 | AN51: =ROUND(B$13*AM51/1.4/B$14,3) -> 0.294 | AO51: =MAX(AN51,AI51,AD51) -> 0.294 | AP51: =ROUND(IF($I51>=AX$38,D$13,IF($I51<AX$39,D$13+(D$13-1)*($I51-AX$39)/AX$39,D$13)),3) -> 1.693 | AQ51: =1/8/I51^0.5 -> 0.2795085 | AR51: =IF(AQ51>0.15,0.15,IF(AQ51<0.0625,0.0625,AQ51)) -> 0.15 | AS51: =$Q$5*AS$41*$Q$15*$AR51*$AH$6 -> 0.27979875 | AT51: =$Q$5*AT$41*$Q$15*$AR51*$AH$6 -> 0.210375 | AU51: =$Q$5*AU$41*$Q$15*$AR51*$AH$6 -> 0.1683 | AV51: =$Q$5*AV$41*$Q$15*$AR51*$AH$6 -> 0.210375 | AW51: =$AH$6*$Q$5*AW$41*$AR51*1.4*AW$40 -> 0.70686 | AX51: =IF(I51<=AX$39,$AH$6*$Q$5*AX$41*$AR51*1.4*AX$40*(0.4+3*I51/AX$38),$AH$6*$Q$5*AX$41*$AR51*1.4*AX$40) -> 0.789327 | AY51: =IF(I51>0.611,$T$12,IF(I51>0.406,AE$5+($T$12-AE$5)*(I51-0.406)/0.205,IF(I51>0.2,AE$5,IF(I51>0.03,AE$5+(AE$5-1)*(I51-0.2)/0.17,1)))) -> 1.5491933 | AZ51: =IF(I51<=S$17,1,IF(I51<T$17,X$17*I51+Y$17,IF(I51<U$17,Z$17,IF(I51<V$17,AA$17/I51^(AB$17),1)))) -> 2.5 | BA51: =AZ51/AY51 -> 1.6137431 | BB51: =IF(BA51>1,1,BA51) -> 1 | BC51: =AZ51*T$5 -> 0.825 | BD51: =$T$5*$T$11*BB51/1.4/$T$6*$AH$6 -> 0.22039286 | BE51: =AZ51*AD$5 -> 0.825 | BF51: =$V$5*$V$11*BB51/1.4/$V$6*$AH$6 -> 0.22039286 | BG51: =AA51 -> 0.8 | BH51: =AK51 -> 1 | BI51: =AO51/1.5*$AH$6 -> 0.27489 | BJ51: =Y51/B$13*1.4 -> 0.476 | BK51: =I51 -> 0.2 | BL51: =BJ51*U$39 -> 466.956
I52: =ROUND((I48+I55)/2,2) -> 0.32 | J52: =ROUND(IF($I52>=D$17,D$12,IF($I52>=F$17,D$13+(D$12-D$13)*($I52-0.6*D$17)/0.4/D$17,IF($I52<E$17,D$13+(D$13-1)*($I52-E$17)/E$17,D$13))),3) -> 1.693 | K52: =IF($I52<E$17,ROUND(B$17*(0.4+3*$I52/D$17),3),IF($I52<=D$17,B$17,IF($I52<=2.5*D$17,C$17/$I52,0.4*B$17))) -> 0.975 | L52: =ROUND(K52/J52,4) -> 0.5759 | M52: =IF(L52<=0.3,L52,IF(L52<0.8,ROUND(0.52*L52+0.144,3),0.7*L52)) -> 0.443 | N52: =ROUND(B$13*M52/1.4/B$14,3) -> 0.316 | O52: =ROUND(IF($I52>=D$19,D$12,IF($I52>=F$19,D$13+(D$12-D$13)*($I52-0.6*D$19)/0.4/D$19,IF($I52<E$19,D$13+(D$13-1)*($I52-E$19)/E$19,D$13))),3) -> 1.693 | P52: =IF($I52<E$19,ROUND(B$19*(0.4+3*$I52/D$19),3),IF($I52<=D$19,B$19,IF($I52<=2.5*D$19,C$19/$I52,0.4*B$19))) -> 0.8 | Q52: =ROUND(P52/O52,4) -> 0.4725 | R52: =IF(Q52<=0.3,Q52,IF(Q52<0.8,ROUND(0.52*Q52+0.144,3),0.7*Q52)) -> 0.39 | S52: =ROUND(B$13*O52*R52/4.2/B$14,3) -> 0.157 | T52: =ROUND(IF($I52>=D$21,B$12,IF($I52>=F$21,D$14+(B$12-D$14)*($I52-0.6*D$21)/0.4/D$21,IF($I52<E$21,D$14+(D$14-1)*($I52-E$21)/E$21,D$14))),3) -> 1.949 | U52: =IF($I52<E$21,ROUND(B$21*(0.4+3*$I52/D$21),3),IF($I52<=D$21,B$21,IF($I52<=2.5*D$21,C$21/$I52,0.4*B$21))) -> 1.24498 | V52: =ROUND(U52/T52,4) -> 0.6388 | W52: =IF(V52<=0.3,V52,IF(V52<0.8,ROUND(0.52*V52+0.144,3),0.7*V52)) -> 0.476 | X52: =ROUND(B$13*W52/1.4/B$14,3) -> 0.34 | Y52: =MAX(X52,S52,N52) -> 0.34 | Z52: =ROUND(IF($I52>=K$17,D$12,IF($I52>=M$17,D$13+(D$12-D$13)*($I52-0.6*K$17)/0.4/K$17,IF($I52<L$17,D$13+(D$13-1)*($I52-L$17)/L$17,D$13))),3) -> 1.693 | AA52: =IF($I52<L$17,ROUND(I$17*(0.4+3*$I52/K$17),3),IF($I52<=K$17,I$17,IF($I52<=2.5*K$17,J$17/$I52,0.4*I$17))) -> 0.8 | AB52: =ROUND(AA52/Z52,4) -> 0.4725 | AC52: =IF(AB52<=0.3,AB52,IF(AB52<0.8,ROUND(0.52*AB52+0.144,3),0.7*AB52)) -> 0.39 | AD52: =ROUND(B$13*AC52/1.4/B$14,3) -> 0.279 | AE52: =ROUND(IF($I52>=K$19,D$12,IF($I52>=M$19,D$13+(D$12-D$13)*($I52-0.6*K$19)/0.4/K$19,IF($I52<L$19,D$13+(D$13-1)*($I52-L$19)/L$19,D$13))),3) -> 1.693 | AF52: =IF($I52<L$19,ROUND(I$19*(0.4+3*$I52/K$19),3),IF($I52<=K$19,I$19,IF($I52<=2.5*K$19,J$19/$I52,0.4*I$19))) -> 0.8 | AG52: =ROUND(AF52/AE52,4) -> 0.4725 | AH52: =IF(AG52<=0.3,AG52,IF(AG52<0.8,ROUND(0.52*AG52+0.144,3),0.7*AG52)) -> 0.39 | AI52: =ROUND(B$13*AE52*AH52/4.2/B$14,3) -> 0.157 | AJ52: =ROUND(IF($I52>=K$21,B$12,IF($I52>=M$21,D$14+(B$12-D$14)*($I52-0.6*K$21)/0.4/K$21,IF($I52<L$21,D$14+(D$14-1)*($I52-L$21)/L$21,D$14))),3) -> 1.949 | AK52: =IF($I52<L$21,ROUND(I$21*(0.4+3*$I52/K$21),3),IF($I52<=K$21,I$21,IF($I52<=2.5*K$21,J$21/$I52,0.4*I$21))) -> 1 | AL52: =ROUND(AK52/AJ52,4) -> 0.5131 | AM52: =IF(AL52<=0.3,AL52,IF(AL52<0.8,ROUND(0.52*AL52+0.144,3),0.7*AL52)) -> 0.411 | AN52: =ROUND(B$13*AM52/1.4/B$14,3) -> 0.294 | AO52: =MAX(AN52,AI52,AD52) -> 0.294 | AP52: =ROUND(IF($I52>=AX$38,D$13,IF($I52<AX$39,D$13+(D$13-1)*($I52-AX$39)/AX$39,D$13)),3) -> 1.693 | AQ52: =1/8/I52^0.5 -> 0.22097087 | AR52: =IF(AQ52>0.15,0.15,IF(AQ52<0.0625,0.0625,AQ52)) -> 0.15 | AS52: =$Q$5*AS$41*$Q$15*$AR52*$AH$6 -> 0.27979875 | AT52: =$Q$5*AT$41*$Q$15*$AR52*$AH$6 -> 0.210375 | AU52: =$Q$5*AU$41*$Q$15*$AR52*$AH$6 -> 0.1683 | AV52: =$Q$5*AV$41*$Q$15*$AR52*$AH$6 -> 0.210375 | AW52: =$AH$6*$Q$5*AW$41*$AR52*1.4*AW$40 -> 0.70686 | AX52: =IF(I52<=AX$39,$AH$6*$Q$5*AX$41*$AR52*1.4*AX$40*(0.4+3*I52/AX$38),$AH$6*$Q$5*AX$41*$AR52*1.4*AX$40) -> 0.789327 | AY52: =IF(I52>0.611,$T$12,IF(I52>0.406,AE$5+($T$12-AE$5)*(I52-0.406)/0.205,IF(I52>0.2,AE$5,IF(I52>0.03,AE$5+(AE$5-1)*(I52-0.2)/0.17,1)))) -> 1.5491933 | AZ52: =IF(I52<=S$17,1,IF(I52<T$17,X$17*I52+Y$17,IF(I52<U$17,Z$17,IF(I52<V$17,AA$17/I52^(AB$17),1)))) -> 2.5 | BA52: =AZ52/AY52 -> 1.6137431 | BB52: =IF(BA52>1,1,BA52) -> 1 | BC52: =AZ52*T$5 -> 0.825 | BD52: =$T$5*$T$11*BB52/1.4/$T$6*$AH$6 -> 0.22039286 | BE52: =AZ52*AD$5 -> 0.825 | BF52: =$V$5*$V$11*BB52/1.4/$V$6*$AH$6 -> 0.22039286 | BG52: =AA52 -> 0.8 | BH52: =AK52 -> 1 | BI52: =AO52/1.5*$AH$6 -> 0.27489 | BJ52: =Y52/B$13*1.4 -> 0.476 | BK52: =I52 -> 0.32 | BL52: =BJ52*U$39 -> 466.956
I53: 0.25 | J53: =ROUND(IF($I53>=D$17,D$12,IF($I53>=F$17,D$13+(D$12-D$13)*($I53-0.6*D$17)/0.4/D$17,IF($I53<E$17,D$13+(D$13-1)*($I53-E$17)/E$17,D$13))),3) -> 1.693 | K53: =IF($I53<E$17,ROUND(B$17*(0.4+3*$I53/D$17),3),IF($I53<=D$17,B$17,IF($I53<=2.5*D$17,C$17/$I53,0.4*B$17))) -> 0.975 | L53: =ROUND(K53/J53,4) -> 0.5759 | M53: =IF(L53<=0.3,L53,IF(L53<0.8,ROUND(0.52*L53+0.144,3),0.7*L53)) -> 0.443 | N53: =ROUND(B$13*M53/1.4/B$14,3) -> 0.316 | O53: =ROUND(IF($I53>=D$19,D$12,IF($I53>=F$19,D$13+(D$12-D$13)*($I53-0.6*D$19)/0.4/D$19,IF($I53<E$19,D$13+(D$13-1)*($I53-E$19)/E$19,D$13))),3) -> 1.693 | P53: =IF($I53<E$19,ROUND(B$19*(0.4+3*$I53/D$19),3),IF($I53<=D$19,B$19,IF($I53<=2.5*D$19,C$19/$I53,0.4*B$19))) -> 0.8 | Q53: =ROUND(P53/O53,4) -> 0.4725 | R53: =IF(Q53<=0.3,Q53,IF(Q53<0.8,ROUND(0.52*Q53+0.144,3),0.7*Q53)) -> 0.39 | S53: =ROUND(B$13*O53*R53/4.2/B$14,3) -> 0.157 | T53: =ROUND(IF($I53>=D$21,B$12,IF($I53>=F$21,D$14+(B$12-D$14)*($I53-0.6*D$21)/0.4/D$21,IF($I53<E$21,D$14+(D$14-1)*($I53-E$21)/E$21,D$14))),3) -> 1.949 | U53: =IF($I53<E$21,ROUND(B$21*(0.4+3*$I53/D$21),3),IF($I53<=D$21,B$21,IF($I53<=2.5*D$21,C$21/$I53,0.4*B$21))) -> 1.24498 | V53: =ROUND(U53/T53,4) -> 0.6388 | W53: =IF(V53<=0.3,V53,IF(V53<0.8,ROUND(0.52*V53+0.144,3),0.7*V53)) -> 0.476 | X53: =ROUND(B$13*W53/1.4/B$14,3) -> 0.34 | Y53: =MAX(X53,S53,N53) -> 0.34 | Z53: =ROUND(IF($I53>=K$17,D$12,IF($I53>=M$17,D$13+(D$12-D$13)*($I53-0.6*K$17)/0.4/K$17,IF($I53<L$17,D$13+(D$13-1)*($I53-L$17)/L$17,D$13))),3) -> 1.693 | AA53: =IF($I53<L$17,ROUND(I$17*(0.4+3*$I53/K$17),3),IF($I53<=K$17,I$17,IF($I53<=2.5*K$17,J$17/$I53,0.4*I$17))) -> 0.8 | AB53: =ROUND(AA53/Z53,4) -> 0.4725 | AC53: =IF(AB53<=0.3,AB53,IF(AB53<0.8,ROUND(0.52*AB53+0.144,3),0.7*AB53)) -> 0.39 | AD53: =ROUND(B$13*AC53/1.4/B$14,3) -> 0.279 | AE53: =ROUND(IF($I53>=K$19,D$12,IF($I53>=M$19,D$13+(D$12-D$13)*($I53-0.6*K$19)/0.4/K$19,IF($I53<L$19,D$13+(D$13-1)*($I53-L$19)/L$19,D$13))),3) -> 1.693 | AF53: =IF($I53<L$19,ROUND(I$19*(0.4+3*$I53/K$19),3),IF($I53<=K$19,I$19,IF($I53<=2.5*K$19,J$19/$I53,0.4*I$19))) -> 0.8 | AG53: =ROUND(AF53/AE53,4) -> 0.4725 | AH53: =IF(AG53<=0.3,AG53,IF(AG53<0.8,ROUND(0.52*AG53+0.144,3),0.7*AG53)) -> 0.39 | AI53: =ROUND(B$13*AE53*AH53/4.2/B$14,3) -> 0.157 | AJ53: =ROUND(IF($I53>=K$21,B$12,IF($I53>=M$21,D$14+(B$12-D$14)*($I53-0.6*K$21)/0.4/K$21,IF($I53<L$21,D$14+(D$14-1)*($I53-L$21)/L$21,D$14))),3) -> 1.949 | AK53: =IF($I53<L$21,ROUND(I$21*(0.4+3*$I53/K$21),3),IF($I53<=K$21,I$21,IF($I53<=2.5*K$21,J$21/$I53,0.4*I$21))) -> 1 | AL53: =ROUND(AK53/AJ53,4) -> 0.5131 | AM53: =IF(AL53<=0.3,AL53,IF(AL53<0.8,ROUND(0.52*AL53+0.144,3),0.7*AL53)) -> 0.411 | AN53: =ROUND(B$13*AM53/1.4/B$14,3) -> 0.294 | AO53: =MAX(AN53,AI53,AD53) -> 0.294 | AP53: =ROUND(IF($I53>=AX$38,D$13,IF($I53<AX$39,D$13+(D$13-1)*($I53-AX$39)/AX$39,D$13)),3) -> 1.693 | AQ53: =1/8/I53^0.5 -> 0.25 | AR53: =IF(AQ53>0.15,0.15,IF(AQ53<0.0625,0.0625,AQ53)) -> 0.15 | AS53: =$Q$5*AS$41*$Q$15*$AR53*$AH$6 -> 0.27979875 | AT53: =$Q$5*AT$41*$Q$15*$AR53*$AH$6 -> 0.210375 | AU53: =$Q$5*AU$41*$Q$15*$AR53*$AH$6 -> 0.1683 | AV53: =$Q$5*AV$41*$Q$15*$AR53*$AH$6 -> 0.210375 | AW53: =$AH$6*$Q$5*AW$41*$AR53*1.4*AW$40 -> 0.70686 | AX53: =IF(I53<=AX$39,$AH$6*$Q$5*AX$41*$AR53*1.4*AX$40*(0.4+3*I53/AX$38),$AH$6*$Q$5*AX$41*$AR53*1.4*AX$40) -> 0.789327 | AY53: =IF(I53>0.611,$T$12,IF(I53>0.406,AE$5+($T$12-AE$5)*(I53-0.406)/0.205,IF(I53>0.2,AE$5,IF(I53>0.03,AE$5+(AE$5-1)*(I53-0.2)/0.17,1)))) -> 1.5491933 | AZ53: =IF(I53<=S$17,1,IF(I53<T$17,X$17*I53+Y$17,IF(I53<U$17,Z$17,IF(I53<V$17,AA$17/I53^(AB$17),1)))) -> 2.5 | BA53: =AZ53/AY53 -> 1.6137431 | BB53: =IF(BA53>1,1,BA53) -> 1 | BC53: =AZ53*T$5 -> 0.825 | BD53: =$T$5*$T$11*BB53/1.4/$T$6*$AH$6 -> 0.22039286 | BE53: =AZ53*AD$5 -> 0.825 | BF53: =$V$5*$V$11*BB53/1.4/$V$6*$AH$6 -> 0.22039286 | BG53: =AA53 -> 0.8 | BH53: =AK53 -> 1 | BI53: =AO53/1.5*$AH$6 -> 0.27489 | BJ53: =Y53/B$13*1.4 -> 0.476 | BK53: =I53 -> 0.25 | BL53: =BJ53*U$39 -> 466.956
I54: 0.333 | J54: =ROUND(IF($I54>=D$17,D$12,IF($I54>=F$17,D$13+(D$12-D$13)*($I54-0.6*D$17)/0.4/D$17,IF($I54<E$17,D$13+(D$13-1)*($I54-E$17)/E$17,D$13))),3) -> 1.693 | K54: =IF($I54<E$17,ROUND(B$17*(0.4+3*$I54/D$17),3),IF($I54<=D$17,B$17,IF($I54<=2.5*D$17,C$17/$I54,0.4*B$17))) -> 0.975 | L54: =ROUND(K54/J54,4) -> 0.5759 | M54: =IF(L54<=0.3,L54,IF(L54<0.8,ROUND(0.52*L54+0.144,3),0.7*L54)) -> 0.443 | N54: =ROUND(B$13*M54/1.4/B$14,3) -> 0.316 | O54: =ROUND(IF($I54>=D$19,D$12,IF($I54>=F$19,D$13+(D$12-D$13)*($I54-0.6*D$19)/0.4/D$19,IF($I54<E$19,D$13+(D$13-1)*($I54-E$19)/E$19,D$13))),3) -> 1.693 | P54: =IF($I54<E$19,ROUND(B$19*(0.4+3*$I54/D$19),3),IF($I54<=D$19,B$19,IF($I54<=2.5*D$19,C$19/$I54,0.4*B$19))) -> 0.8 | Q54: =ROUND(P54/O54,4) -> 0.4725 | R54: =IF(Q54<=0.3,Q54,IF(Q54<0.8,ROUND(0.52*Q54+0.144,3),0.7*Q54)) -> 0.39 | S54: =ROUND(B$13*O54*R54/4.2/B$14,3) -> 0.157 | T54: =ROUND(IF($I54>=D$21,B$12,IF($I54>=F$21,D$14+(B$12-D$14)*($I54-0.6*D$21)/0.4/D$21,IF($I54<E$21,D$14+(D$14-1)*($I54-E$21)/E$21,D$14))),3) -> 1.949 | U54: =IF($I54<E$21,ROUND(B$21*(0.4+3*$I54/D$21),3),IF($I54<=D$21,B$21,IF($I54<=2.5*D$21,C$21/$I54,0.4*B$21))) -> 1.24498 | V54: =ROUND(U54/T54,4) -> 0.6388 | W54: =IF(V54<=0.3,V54,IF(V54<0.8,ROUND(0.52*V54+0.144,3),0.7*V54)) -> 0.476 | X54: =ROUND(B$13*W54/1.4/B$14,3) -> 0.34 | Y54: =MAX(X54,S54,N54) -> 0.34 | Z54: =ROUND(IF($I54>=K$17,D$12,IF($I54>=M$17,D$13+(D$12-D$13)*($I54-0.6*K$17)/0.4/K$17,IF($I54<L$17,D$13+(D$13-1)*($I54-L$17)/L$17,D$13))),3) -> 1.693 | AA54: =IF($I54<L$17,ROUND(I$17*(0.4+3*$I54/K$17),3),IF($I54<=K$17,I$17,IF($I54<=2.5*K$17,J$17/$I54,0.4*I$17))) -> 0.8 | AB54: =ROUND(AA54/Z54,4) -> 0.4725 | AC54: =IF(AB54<=0.3,AB54,IF(AB54<0.8,ROUND(0.52*AB54+0.144,3),0.7*AB54)) -> 0.39 | AD54: =ROUND(B$13*AC54/1.4/B$14,3) -> 0.279 | AE54: =ROUND(IF($I54>=K$19,D$12,IF($I54>=M$19,D$13+(D$12-D$13)*($I54-0.6*K$19)/0.4/K$19,IF($I54<L$19,D$13+(D$13-1)*($I54-L$19)/L$19,D$13))),3) -> 1.693 | AF54: =IF($I54<L$19,ROUND(I$19*(0.4+3*$I54/K$19),3),IF($I54<=K$19,I$19,IF($I54<=2.5*K$19,J$19/$I54,0.4*I$19))) -> 0.8 | AG54: =ROUND(AF54/AE54,4) -> 0.4725 | AH54: =IF(AG54<=0.3,AG54,IF(AG54<0.8,ROUND(0.52*AG54+0.144,3),0.7*AG54)) -> 0.39 | AI54: =ROUND(B$13*AE54*AH54/4.2/B$14,3) -> 0.157 | AJ54: =ROUND(IF($I54>=K$21,B$12,IF($I54>=M$21,D$14+(B$12-D$14)*($I54-0.6*K$21)/0.4/K$21,IF($I54<L$21,D$14+(D$14-1)*($I54-L$21)/L$21,D$14))),3) -> 1.949 | AK54: =IF($I54<L$21,ROUND(I$21*(0.4+3*$I54/K$21),3),IF($I54<=K$21,I$21,IF($I54<=2.5*K$21,J$21/$I54,0.4*I$21))) -> 1 | AL54: =ROUND(AK54/AJ54,4) -> 0.5131 | AM54: =IF(AL54<=0.3,AL54,IF(AL54<0.8,ROUND(0.52*AL54+0.144,3),0.7*AL54)) -> 0.411 | AN54: =ROUND(B$13*AM54/1.4/B$14,3) -> 0.294 | AO54: =MAX(AN54,AI54,AD54) -> 0.294 | AP54: =ROUND(IF($I54>=AX$38,D$13,IF($I54<AX$39,D$13+(D$13-1)*($I54-AX$39)/AX$39,D$13)),3) -> 1.693 | AQ54: =1/8/I54^0.5 -> 0.21661469 | AR54: =IF(AQ54>0.15,0.15,IF(AQ54<0.0625,0.0625,AQ54)) -> 0.15 | AS54: =$Q$5*AS$41*$Q$15*$AR54*$AH$6 -> 0.27979875 | AT54: =$Q$5*AT$41*$Q$15*$AR54*$AH$6 -> 0.210375 | AU54: =$Q$5*AU$41*$Q$15*$AR54*$AH$6 -> 0.1683 | AV54: =$Q$5*AV$41*$Q$15*$AR54*$AH$6 -> 0.210375 | AW54: =$AH$6*$Q$5*AW$41*$AR54*1.4*AW$40 -> 0.70686 | AX54: =IF(I54<=AX$39,$AH$6*$Q$5*AX$41*$AR54*1.4*AX$40*(0.4+3*I54/AX$38),$AH$6*$Q$5*AX$41*$AR54*1.4*AX$40) -> 0.789327 | AY54: =IF(I54>0.611,$T$12,IF(I54>0.406,AE$5+($T$12-AE$5)*(I54-0.406)/0.205,IF(I54>0.2,AE$5,IF(I54>0.03,AE$5+(AE$5-1)*(I54-0.2)/0.17,1)))) -> 1.5491933 | AZ54: =IF(I54<=S$17,1,IF(I54<T$17,X$17*I54+Y$17,IF(I54<U$17,Z$17,IF(I54<V$17,AA$17/I54^(AB$17),1)))) -> 2.5 | BA54: =AZ54/AY54 -> 1.6137431 | BB54: =IF(BA54>1,1,BA54) -> 1 | BC54: =AZ54*T$5 -> 0.825 | BD54: =$T$5*$T$11*BB54/1.4/$T$6*$AH$6 -> 0.22039286 | BE54: =AZ54*AD$5 -> 0.825 | BF54: =$V$5*$V$11*BB54/1.4/$V$6*$AH$6 -> 0.22039286 | BG54: =AA54 -> 0.8 | BH54: =AK54 -> 1 | BI54: =AO54/1.5*$AH$6 -> 0.27489 | BJ54: =Y54/B$13*1.4 -> 0.476 | BK54: =I54 -> 0.333 | BL54: =BJ54*U$39 -> 466.956
H55: 0.6T0D,T0M | I55: =MIN(F17,F19,F21) -> 0.50628 | J55: =ROUND(IF($I55>=D$17,D$12,IF($I55>=F$17,D$13+(D$12-D$13)*($I55-0.6*D$17)/0.4/D$17,IF($I55<E$17,D$13+(D$13-1)*($I55-E$17)/E$17,D$13))),3) -> 1.693 | K55: =IF($I55<E$17,ROUND(B$17*(0.4+3*$I55/D$17),3),IF($I55<=D$17,B$17,IF($I55<=2.5*D$17,C$17/$I55,0.4*B$17))) -> 0.975 | L55: =ROUND(K55/J55,4) -> 0.5759 | M55: =IF(L55<=0.3,L55,IF(L55<0.8,ROUND(0.52*L55+0.144,3),0.7*L55)) -> 0.443 | N55: =ROUND(B$13*M55/1.4/B$14,3) -> 0.316 | O55: =ROUND(IF($I55>=D$19,D$12,IF($I55>=F$19,D$13+(D$12-D$13)*($I55-0.6*D$19)/0.4/D$19,IF($I55<E$19,D$13+(D$13-1)*($I55-E$19)/E$19,D$13))),3) -> 1.693 | P55: =IF($I55<E$19,ROUND(B$19*(0.4+3*$I55/D$19),3),IF($I55<=D$19,B$19,IF($I55<=2.5*D$19,C$19/$I55,0.4*B$19))) -> 0.8 | Q55: =ROUND(P55/O55,4) -> 0.4725 | R55: =IF(Q55<=0.3,Q55,IF(Q55<0.8,ROUND(0.52*Q55+0.144,3),0.7*Q55)) -> 0.39 | S55: =ROUND(B$13*O55*R55/4.2/B$14,3) -> 0.157 | T55: =ROUND(IF($I55>=D$21,B$12,IF($I55>=F$21,D$14+(B$12-D$14)*($I55-0.6*D$21)/0.4/D$21,IF($I55<E$21,D$14+(D$14-1)*($I55-E$21)/E$21,D$14))),3) -> 1.949 | U55: =IF($I55<E$21,ROUND(B$21*(0.4+3*$I55/D$21),3),IF($I55<=D$21,B$21,IF($I55<=2.5*D$21,C$21/$I55,0.4*B$21))) -> 1.24498 | V55: =ROUND(U55/T55,4) -> 0.6388 | W55: =IF(V55<=0.3,V55,IF(V55<0.8,ROUND(0.52*V55+0.144,3),0.7*V55)) -> 0.476 | X55: =ROUND(B$13*W55/1.4/B$14,3) -> 0.34 | Y55: =MAX(X55,S55,N55) -> 0.34 | Z55: =ROUND(IF($I55>=K$17,D$12,IF($I55>=M$17,D$13+(D$12-D$13)*($I55-0.6*K$17)/0.4/K$17,IF($I55<L$17,D$13+(D$13-1)*($I55-L$17)/L$17,D$13))),3) -> 1.783 | AA55: =IF($I55<L$17,ROUND(I$17*(0.4+3*$I55/K$17),3),IF($I55<=K$17,I$17,IF($I55<=2.5*K$17,J$17/$I55,0.4*I$17))) -> 0.8 | AB55: =ROUND(AA55/Z55,4) -> 0.4487 | AC55: =IF(AB55<=0.3,AB55,IF(AB55<0.8,ROUND(0.52*AB55+0.144,3),0.7*AB55)) -> 0.377 | AD55: =ROUND(B$13*AC55/1.4/B$14,3) -> 0.269 | AE55: =ROUND(IF($I55>=K$19,D$12,IF($I55>=M$19,D$13+(D$12-D$13)*($I55-0.6*K$19)/0.4/K$19,IF($I55<L$19,D$13+(D$13-1)*($I55-L$19)/L$19,D$13))),3) -> 1.783 | AF55: =IF($I55<L$19,ROUND(I$19*(0.4+3*$I55/K$19),3),IF($I55<=K$19,I$19,IF($I55<=2.5*K$19,J$19/$I55,0.4*I$19))) -> 0.8 | AG55: =ROUND(AF55/AE55,4) -> 0.4487 | AH55: =IF(AG55<=0.3,AG55,IF(AG55<0.8,ROUND(0.52*AG55+0.144,3),0.7*AG55)) -> 0.377 | AI55: =ROUND(B$13*AE55*AH55/4.2/B$14,3) -> 0.16 | AJ55: =ROUND(IF($I55>=K$21,B$12,IF($I55>=M$21,D$14+(B$12-D$14)*($I55-0.6*K$21)/0.4/K$21,IF($I55<L$21,D$14+(D$14-1)*($I55-L$21)/L$21,D$14))),3) -> 2.216 | AK55: =IF($I55<L$21,ROUND(I$21*(0.4+3*$I55/K$21),3),IF($I55<=K$21,I$21,IF($I55<=2.5*K$21,J$21/$I55,0.4*I$21))) -> 1 | AL55: =ROUND(AK55/AJ55,4) -> 0.4513 | AM55: =IF(AL55<=0.3,AL55,IF(AL55<0.8,ROUND(0.52*AL55+0.144,3),0.7*AL55)) -> 0.379 | AN55: =ROUND(B$13*AM55/1.4/B$14,3) -> 0.271 | AO55: =MAX(AN55,AI55,AD55) -> 0.271 | AP55: =ROUND(IF($I55>=AX$38,D$13,IF($I55<AX$39,D$13+(D$13-1)*($I55-AX$39)/AX$39,D$13)),3) -> 1.693 | AQ55: =1/8/I55^0.5 -> 0.17567689 | AR55: =IF(AQ55>0.15,0.15,IF(AQ55<0.0625,0.0625,AQ55)) -> 0.15 | AS55: =$Q$5*AS$41*$Q$15*$AR55*$AH$6 -> 0.27979875 | AT55: =$Q$5*AT$41*$Q$15*$AR55*$AH$6 -> 0.210375 | AU55: =$Q$5*AU$41*$Q$15*$AR55*$AH$6 -> 0.1683 | AV55: =$Q$5*AV$41*$Q$15*$AR55*$AH$6 -> 0.210375 | AW55: =$AH$6*$Q$5*AW$41*$AR55*1.4*AW$40 -> 0.70686 | AX55: =IF(I55<=AX$39,$AH$6*$Q$5*AX$41*$AR55*1.4*AX$40*(0.4+3*I55/AX$38),$AH$6*$Q$5*AX$41*$AR55*1.4*AX$40) -> 0.789327 | AY55: =IF(I55>0.611,$T$12,IF(I55>0.406,AE$5+($T$12-AE$5)*(I55-0.406)/0.205,IF(I55>0.2,AE$5,IF(I55>0.03,AE$5+(AE$5-1)*(I55-0.2)/0.17,1)))) -> 1.6229635 | AZ55: =IF(I55<=S$17,1,IF(I55<T$17,X$17*I55+Y$17,IF(I55<U$17,Z$17,IF(I55<V$17,AA$17/I55^(AB$17),1)))) -> 2.5 | BA55: =AZ55/AY55 -> 1.540392 | BB55: =IF(BA55>1,1,BA55) -> 1 | BC55: =AZ55*T$5 -> 0.825 | BD55: =$T$5*$T$11*BB55/1.4/$T$6*$AH$6 -> 0.22039286 | BE55: =AZ55*AD$5 -> 0.825 | BF55: =$V$5*$V$11*BB55/1.4/$V$6*$AH$6 -> 0.22039286 | BG55: =AA55 -> 0.8 | BH55: =AK55 -> 1 | BI55: =AO55/1.5*$AH$6 -> 0.253385 | BJ55: =Y55/B$13*1.4 -> 0.476 | BK55: =I55 -> 0.50628 | BL55: =BJ55*U$39 -> 466.956
I56: =LARGE(F17:F21,2) -> 0.5245 | J56: =ROUND(IF($I56>=D$17,D$12,IF($I56>=F$17,D$13+(D$12-D$13)*($I56-0.6*D$17)/0.4/D$17,IF($I56<E$17,D$13+(D$13-1)*($I56-E$17)/E$17,D$13))),3) -> 1.693 | K56: =IF($I56<E$17,ROUND(B$17*(0.4+3*$I56/D$17),3),IF($I56<=D$17,B$17,IF($I56<=2.5*D$17,C$17/$I56,0.4*B$17))) -> 0.975 | L56: =ROUND(K56/J56,4) -> 0.5759 | M56: =IF(L56<=0.3,L56,IF(L56<0.8,ROUND(0.52*L56+0.144,3),0.7*L56)) -> 0.443 | N56: =ROUND(B$13*M56/1.4/B$14,3) -> 0.316 | O56: =ROUND(IF($I56>=D$19,D$12,IF($I56>=F$19,D$13+(D$12-D$13)*($I56-0.6*D$19)/0.4/D$19,IF($I56<E$19,D$13+(D$13-1)*($I56-E$19)/E$19,D$13))),3) -> 1.706 | P56: =IF($I56<E$19,ROUND(B$19*(0.4+3*$I56/D$19),3),IF($I56<=D$19,B$19,IF($I56<=2.5*D$19,C$19/$I56,0.4*B$19))) -> 0.8 | Q56: =ROUND(P56/O56,4) -> 0.4689 | R56: =IF(Q56<=0.3,Q56,IF(Q56<0.8,ROUND(0.52*Q56+0.144,3),0.7*Q56)) -> 0.388 | S56: =ROUND(B$13*O56*R56/4.2/B$14,3) -> 0.158 | T56: =ROUND(IF($I56>=D$21,B$12,IF($I56>=F$21,D$14+(B$12-D$14)*($I56-0.6*D$21)/0.4/D$21,IF($I56<E$21,D$14+(D$14-1)*($I56-E$21)/E$21,D$14))),3) -> 1.949 | U56: =IF($I56<E$21,ROUND(B$21*(0.4+3*$I56/D$21),3),IF($I56<=D$21,B$21,IF($I56<=2.5*D$21,C$21/$I56,0.4*B$21))) -> 1.24498 | V56: =ROUND(U56/T56,4) -> 0.6388 | W56: =IF(V56<=0.3,V56,IF(V56<0.8,ROUND(0.52*V56+0.144,3),0.7*V56)) -> 0.476 | X56: =ROUND(B$13*W56/1.4/B$14,3) -> 0.34 | Y56: =MAX(X56,S56,N56) -> 0.34 | Z56: =ROUND(IF($I56>=K$17,D$12,IF($I56>=M$17,D$13+(D$12-D$13)*($I56-0.6*K$17)/0.4/K$17,IF($I56<L$17,D$13+(D$13-1)*($I56-L$17)/L$17,D$13))),3) -> 1.799 | AA56: =IF($I56<L$17,ROUND(I$17*(0.4+3*$I56/K$17),3),IF($I56<=K$17,I$17,IF($I56<=2.5*K$17,J$17/$I56,0.4*I$17))) -> 0.8 | AB56: =ROUND(AA56/Z56,4) -> 0.4447 | AC56: =IF(AB56<=0.3,AB56,IF(AB56<0.8,ROUND(0.52*AB56+0.144,3),0.7*AB56)) -> 0.375 | AD56: =ROUND(B$13*AC56/1.4/B$14,3) -> 0.268 | AE56: =ROUND(IF($I56>=K$19,D$12,IF($I56>=M$19,D$13+(D$12-D$13)*($I56-0.6*K$19)/0.4/K$19,IF($I56<L$19,D$13+(D$13-1)*($I56-L$19)/L$19,D$13))),3) -> 1.799 | AF56: =IF($I56<L$19,ROUND(I$19*(0.4+3*$I56/K$19),3),IF($I56<=K$19,I$19,IF($I56<=2.5*K$19,J$19/$I56,0.4*I$19))) -> 0.8 | AG56: =ROUND(AF56/AE56,4) -> 0.4447 | AH56: =IF(AG56<=0.3,AG56,IF(AG56<0.8,ROUND(0.52*AG56+0.144,3),0.7*AG56)) -> 0.375 | AI56: =ROUND(B$13*AE56*AH56/4.2/B$14,3) -> 0.161 | AJ56: =ROUND(IF($I56>=K$21,B$12,IF($I56>=M$21,D$14+(B$12-D$14)*($I56-0.6*K$21)/0.4/K$21,IF($I56<L$21,D$14+(D$14-1)*($I56-L$21)/L$21,D$14))),3) -> 2.25 | AK56: =IF($I56<L$21,ROUND(I$21*(0.4+3*$I56/K$21),3),IF($I56<=K$21,I$21,IF($I56<=2.5*K$21,J$21/$I56,0.4*I$21))) -> 1 | AL56: =ROUND(AK56/AJ56,4) -> 0.4444 | AM56: =IF(AL56<=0.3,AL56,IF(AL56<0.8,ROUND(0.52*AL56+0.144,3),0.7*AL56)) -> 0.375 | AN56: =ROUND(B$13*AM56/1.4/B$14,3) -> 0.268 | AO56: =MAX(AN56,AI56,AD56) -> 0.268 | AP56: =ROUND(IF($I56>=AX$38,D$13,IF($I56<AX$39,D$13+(D$13-1)*($I56-AX$39)/AX$39,D$13)),3) -> 1.693 | AQ56: =1/8/I56^0.5 -> 0.1725986 | AR56: =IF(AQ56>0.15,0.15,IF(AQ56<0.0625,0.0625,AQ56)) -> 0.15 | AS56: =$Q$5*AS$41*$Q$15*$AR56*$AH$6 -> 0.27979875 | AT56: =$Q$5*AT$41*$Q$15*$AR56*$AH$6 -> 0.210375 | AU56: =$Q$5*AU$41*$Q$15*$AR56*$AH$6 -> 0.1683 | AV56: =$Q$5*AV$41*$Q$15*$AR56*$AH$6 -> 0.210375 | AW56: =$AH$6*$Q$5*AW$41*$AR56*1.4*AW$40 -> 0.70686 | AX56: =IF(I56<=AX$39,$AH$6*$Q$5*AX$41*$AR56*1.4*AX$40*(0.4+3*I56/AX$38),$AH$6*$Q$5*AX$41*$AR56*1.4*AX$40) -> 0.789327 | AY56: =IF(I56>0.611,$T$12,IF(I56>0.406,AE$5+($T$12-AE$5)*(I56-0.406)/0.205,IF(I56>0.2,AE$5,IF(I56>0.03,AE$5+(AE$5-1)*(I56-0.2)/0.17,1)))) -> 1.6363669 | AZ56: =IF(I56<=S$17,1,IF(I56<T$17,X$17*I56+Y$17,IF(I56<U$17,Z$17,IF(I56<V$17,AA$17/I56^(AB$17),1)))) -> 2.5 | BA56: =AZ56/AY56 -> 1.5277747 | BB56: =IF(BA56>1,1,BA56) -> 1 | BC56: =AZ56*T$5 -> 0.825 | BD56: =$T$5*$T$11*BB56/1.4/$T$6*$AH$6 -> 0.22039286 | BE56: =AZ56*AD$5 -> 0.825 | BF56: =$V$5*$V$11*BB56/1.4/$V$6*$AH$6 -> 0.22039286 | BG56: =AA56 -> 0.8 | BH56: =AK56 -> 1 | BI56: =AO56/1.5*$AH$6 -> 0.25058 | BJ56: =Y56/B$13*1.4 -> 0.476 | BK56: =I56 -> 0.5245 | BL56: =BJ56*U$39 -> 466.956
I57: =MAX(F17,F19,F21) -> 0.5575 | J57: =ROUND(IF($I57>=D$17,D$12,IF($I57>=F$17,D$13+(D$12-D$13)*($I57-0.6*D$17)/0.4/D$17,IF($I57<E$17,D$13+(D$13-1)*($I57-E$17)/E$17,D$13))),3) -> 1.716 | K57: =IF($I57<E$17,ROUND(B$17*(0.4+3*$I57/D$17),3),IF($I57<=D$17,B$17,IF($I57<=2.5*D$17,C$17/$I57,0.4*B$17))) -> 0.975 | L57: =ROUND(K57/J57,4) -> 0.5682 | M57: =IF(L57<=0.3,L57,IF(L57<0.8,ROUND(0.52*L57+0.144,3),0.7*L57)) -> 0.439 | N57: =ROUND(B$13*M57/1.4/B$14,3) -> 0.314 | O57: =ROUND(IF($I57>=D$19,D$12,IF($I57>=F$19,D$13+(D$12-D$13)*($I57-0.6*D$19)/0.4/D$19,IF($I57<E$19,D$13+(D$13-1)*($I57-E$19)/E$19,D$13))),3) -> 1.73 | P57: =IF($I57<E$19,ROUND(B$19*(0.4+3*$I57/D$19),3),IF($I57<=D$19,B$19,IF($I57<=2.5*D$19,C$19/$I57,0.4*B$19))) -> 0.8 | Q57: =ROUND(P57/O57,4) -> 0.4624 | R57: =IF(Q57<=0.3,Q57,IF(Q57<0.8,ROUND(0.52*Q57+0.144,3),0.7*Q57)) -> 0.384 | S57: =ROUND(B$13*O57*R57/4.2/B$14,3) -> 0.158 | T57: =ROUND(IF($I57>=D$21,B$12,IF($I57>=F$21,D$14+(B$12-D$14)*($I57-0.6*D$21)/0.4/D$21,IF($I57<E$21,D$14+(D$14-1)*($I57-E$21)/E$21,D$14))),3) -> 1.949 | U57: =IF($I57<E$21,ROUND(B$21*(0.4+3*$I57/D$21),3),IF($I57<=D$21,B$21,IF($I57<=2.5*D$21,C$21/$I57,0.4*B$21))) -> 1.24498 | V57: =ROUND(U57/T57,4) -> 0.6388 | W57: =IF(V57<=0.3,V57,IF(V57<0.8,ROUND(0.52*V57+0.144,3),0.7*V57)) -> 0.476 | X57: =ROUND(B$13*W57/1.4/B$14,3) -> 0.34 | Y57: =MAX(X57,S57,N57) -> 0.34 | Z57: =ROUND(IF($I57>=K$17,D$12,IF($I57>=M$17,D$13+(D$12-D$13)*($I57-0.6*K$17)/0.4/K$17,IF($I57<L$17,D$13+(D$13-1)*($I57-L$17)/L$17,D$13))),3) -> 1.829 | AA57: =IF($I57<L$17,ROUND(I$17*(0.4+3*$I57/K$17),3),IF($I57<=K$17,I$17,IF($I57<=2.5*K$17,J$17/$I57,0.4*I$17))) -> 0.8 | AB57: =ROUND(AA57/Z57,4) -> 0.4374 | AC57: =IF(AB57<=0.3,AB57,IF(AB57<0.8,ROUND(0.52*AB57+0.144,3),0.7*AB57)) -> 0.371 | AD57: =ROUND(B$13*AC57/1.4/B$14,3) -> 0.265 | AE57: =ROUND(IF($I57>=K$19,D$12,IF($I57>=M$19,D$13+(D$12-D$13)*($I57-0.6*K$19)/0.4/K$19,IF($I57<L$19,D$13+(D$13-1)*($I57-L$19)/L$19,D$13))),3) -> 1.829 | AF57: =IF($I57<L$19,ROUND(I$19*(0.4+3*$I57/K$19),3),IF($I57<=K$19,I$19,IF($I57<=2.5*K$19,J$19/$I57,0.4*I$19))) -> 0.8 | AG57: =ROUND(AF57/AE57,4) -> 0.4374 | AH57: =IF(AG57<=0.3,AG57,IF(AG57<0.8,ROUND(0.52*AG57+0.144,3),0.7*AG57)) -> 0.371 | AI57: =ROUND(B$13*AE57*AH57/4.2/B$14,3) -> 0.162 | AJ57: =ROUND(IF($I57>=K$21,B$12,IF($I57>=M$21,D$14+(B$12-D$14)*($I57-0.6*K$21)/0.4/K$21,IF($I57<L$21,D$14+(D$14-1)*($I57-L$21)/L$21,D$14))),3) -> 2.312 | AK57: =IF($I57<L$21,ROUND(I$21*(0.4+3*$I57/K$21),3),IF($I57<=K$21,I$21,IF($I57<=2.5*K$21,J$21/$I57,0.4*I$21))) -> 1 | AL57: =ROUND(AK57/AJ57,4) -> 0.4325 | AM57: =IF(AL57<=0.3,AL57,IF(AL57<0.8,ROUND(0.52*AL57+0.144,3),0.7*AL57)) -> 0.369 | AN57: =ROUND(B$13*AM57/1.4/B$14,3) -> 0.264 | AO57: =MAX(AN57,AI57,AD57) -> 0.265 | AP57: =ROUND(IF($I57>=AX$38,D$13,IF($I57<AX$39,D$13+(D$13-1)*($I57-AX$39)/AX$39,D$13)),3) -> 1.693 | AQ57: =1/8/I57^0.5 -> 0.16741238 | AR57: =IF(AQ57>0.15,0.15,IF(AQ57<0.0625,0.0625,AQ57)) -> 0.15 | AS57: =$Q$5*AS$41*$Q$15*$AR57*$AH$6 -> 0.27979875 | AT57: =$Q$5*AT$41*$Q$15*$AR57*$AH$6 -> 0.210375 | AU57: =$Q$5*AU$41*$Q$15*$AR57*$AH$6 -> 0.1683 | AV57: =$Q$5*AV$41*$Q$15*$AR57*$AH$6 -> 0.210375 | AW57: =$AH$6*$Q$5*AW$41*$AR57*1.4*AW$40 -> 0.70686 | AX57: =IF(I57<=AX$39,$AH$6*$Q$5*AX$41*$AR57*1.4*AX$40*(0.4+3*I57/AX$38),$AH$6*$Q$5*AX$41*$AR57*1.4*AX$40) -> 0.789327 | AY57: =IF(I57>0.611,$T$12,IF(I57>0.406,AE$5+($T$12-AE$5)*(I57-0.406)/0.205,IF(I57>0.2,AE$5,IF(I57>0.03,AE$5+(AE$5-1)*(I57-0.2)/0.17,1)))) -> 1.6606431 | AZ57: =IF(I57<=S$17,1,IF(I57<T$17,X$17*I57+Y$17,IF(I57<U$17,Z$17,IF(I57<V$17,AA$17/I57^(AB$17),1)))) -> 2.5 | BA57: =AZ57/AY57 -> 1.5054408 | BB57: =IF(BA57>1,1,BA57) -> 1 | BC57: =AZ57*T$5 -> 0.825 | BD57: =$T$5*$T$11*BB57/1.4/$T$6*$AH$6 -> 0.22039286 | BE57: =AZ57*AD$5 -> 0.825 | BF57: =$V$5*$V$11*BB57/1.4/$V$6*$AH$6 -> 0.22039286 | BG57: =AA57 -> 0.8 | BH57: =AK57 -> 1 | BI57: =AO57/1.5*$AH$6 -> 0.247775 | BJ57: =Y57/B$13*1.4 -> 0.476 | BK57: =I57 -> 0.5575 | BL57: =BJ57*U$39 -> 466.956
I58: =ROUND((I57+I59)/2,2) -> 0.51 | J58: =ROUND(IF($I58>=D$17,D$12,IF($I58>=F$17,D$13+(D$12-D$13)*($I58-0.6*D$17)/0.4/D$17,IF($I58<E$17,D$13+(D$13-1)*($I58-E$17)/E$17,D$13))),3) -> 1.693 | K58: =IF($I58<E$17,ROUND(B$17*(0.4+3*$I58/D$17),3),IF($I58<=D$17,B$17,IF($I58<=2.5*D$17,C$17/$I58,0.4*B$17))) -> 0.975 | L58: =ROUND(K58/J58,4) -> 0.5759 | M58: =IF(L58<=0.3,L58,IF(L58<0.8,ROUND(0.52*L58+0.144,3),0.7*L58)) -> 0.443 | N58: =ROUND(B$13*M58/1.4/B$14,3) -> 0.316 | O58: =ROUND(IF($I58>=D$19,D$12,IF($I58>=F$19,D$13+(D$12-D$13)*($I58-0.6*D$19)/0.4/D$19,IF($I58<E$19,D$13+(D$13-1)*($I58-E$19)/E$19,D$13))),3) -> 1.696 | P58: =IF($I58<E$19,ROUND(B$19*(0.4+3*$I58/D$19),3),IF($I58<=D$19,B$19,IF($I58<=2.5*D$19,C$19/$I58,0.4*B$19))) -> 0.8 | Q58: =ROUND(P58/O58,4) -> 0.4717 | R58: =IF(Q58<=0.3,Q58,IF(Q58<0.8,ROUND(0.52*Q58+0.144,3),0.7*Q58)) -> 0.389 | S58: =ROUND(B$13*O58*R58/4.2/B$14,3) -> 0.157 | T58: =ROUND(IF($I58>=D$21,B$12,IF($I58>=F$21,D$14+(B$12-D$14)*($I58-0.6*D$21)/0.4/D$21,IF($I58<E$21,D$14+(D$14-1)*($I58-E$21)/E$21,D$14))),3) -> 1.949 | U58: =IF($I58<E$21,ROUND(B$21*(0.4+3*$I58/D$21),3),IF($I58<=D$21,B$21,IF($I58<=2.5*D$21,C$21/$I58,0.4*B$21))) -> 1.24498 | V58: =ROUND(U58/T58,4) -> 0.6388 | W58: =IF(V58<=0.3,V58,IF(V58<0.8,ROUND(0.52*V58+0.144,3),0.7*V58)) -> 0.476 | X58: =ROUND(B$13*W58/1.4/B$14,3) -> 0.34 | Y58: =MAX(X58,S58,N58) -> 0.34 | Z58: =ROUND(IF($I58>=K$17,D$12,IF($I58>=M$17,D$13+(D$12-D$13)*($I58-0.6*K$17)/0.4/K$17,IF($I58<L$17,D$13+(D$13-1)*($I58-L$17)/L$17,D$13))),3) -> 1.787 | AA58: =IF($I58<L$17,ROUND(I$17*(0.4+3*$I58/K$17),3),IF($I58<=K$17,I$17,IF($I58<=2.5*K$17,J$17/$I58,0.4*I$17))) -> 0.8 | AB58: =ROUND(AA58/Z58,4) -> 0.4477 | AC58: =IF(AB58<=0.3,AB58,IF(AB58<0.8,ROUND(0.52*AB58+0.144,3),0.7*AB58)) -> 0.377 | AD58: =ROUND(B$13*AC58/1.4/B$14,3) -> 0.269 | AE58: =ROUND(IF($I58>=K$19,D$12,IF($I58>=M$19,D$13+(D$12-D$13)*($I58-0.6*K$19)/0.4/K$19,IF($I58<L$19,D$13+(D$13-1)*($I58-L$19)/L$19,D$13))),3) -> 1.787 | AF58: =IF($I58<L$19,ROUND(I$19*(0.4+3*$I58/K$19),3),IF($I58<=K$19,I$19,IF($I58<=2.5*K$19,J$19/$I58,0.4*I$19))) -> 0.8 | AG58: =ROUND(AF58/AE58,4) -> 0.4477 | AH58: =IF(AG58<=0.3,AG58,IF(AG58<0.8,ROUND(0.52*AG58+0.144,3),0.7*AG58)) -> 0.377 | AI58: =ROUND(B$13*AE58*AH58/4.2/B$14,3) -> 0.16 | AJ58: =ROUND(IF($I58>=K$21,B$12,IF($I58>=M$21,D$14+(B$12-D$14)*($I58-0.6*K$21)/0.4/K$21,IF($I58<L$21,D$14+(D$14-1)*($I58-L$21)/L$21,D$14))),3) -> 2.223 | AK58: =IF($I58<L$21,ROUND(I$21*(0.4+3*$I58/K$21),3),IF($I58<=K$21,I$21,IF($I58<=2.5*K$21,J$21/$I58,0.4*I$21))) -> 1 | AL58: =ROUND(AK58/AJ58,4) -> 0.4498 | AM58: =IF(AL58<=0.3,AL58,IF(AL58<0.8,ROUND(0.52*AL58+0.144,3),0.7*AL58)) -> 0.378 | AN58: =ROUND(B$13*AM58/1.4/B$14,3) -> 0.27 | AO58: =MAX(AN58,AI58,AD58) -> 0.27 | AP58: =ROUND(IF($I58>=AX$38,D$13,IF($I58<AX$39,D$13+(D$13-1)*($I58-AX$39)/AX$39,D$13)),3) -> 1.693 | AQ58: =1/8/I58^0.5 -> 0.17503501 | AR58: =IF(AQ58>0.15,0.15,IF(AQ58<0.0625,0.0625,AQ58)) -> 0.15 | AS58: =$Q$5*AS$41*$Q$15*$AR58*$AH$6 -> 0.27979875 | AT58: =$Q$5*AT$41*$Q$15*$AR58*$AH$6 -> 0.210375 | AU58: =$Q$5*AU$41*$Q$15*$AR58*$AH$6 -> 0.1683 | AV58: =$Q$5*AV$41*$Q$15*$AR58*$AH$6 -> 0.210375 | AW58: =$AH$6*$Q$5*AW$41*$AR58*1.4*AW$40 -> 0.70686 | AX58: =IF(I58<=AX$39,$AH$6*$Q$5*AX$41*$AR58*1.4*AX$40*(0.4+3*I58/AX$38),$AH$6*$Q$5*AX$41*$AR58*1.4*AX$40) -> 0.789327 | AY58: =IF(I58>0.611,$T$12,IF(I58>0.406,AE$5+($T$12-AE$5)*(I58-0.406)/0.205,IF(I58>0.2,AE$5,IF(I58>0.03,AE$5+(AE$5-1)*(I58-0.2)/0.17,1)))) -> 1.6257001 | AZ58: =IF(I58<=S$17,1,IF(I58<T$17,X$17*I58+Y$17,IF(I58<U$17,Z$17,IF(I58<V$17,AA$17/I58^(AB$17),1)))) -> 2.5 | BA58: =AZ58/AY58 -> 1.537799 | BB58: =IF(BA58>1,1,BA58) -> 1 | BC58: =AZ58*T$5 -> 0.825 | BD58: =$T$5*$T$11*BB58/1.4/$T$6*$AH$6 -> 0.22039286 | BE58: =AZ58*AD$5 -> 0.825 | BF58: =$V$5*$V$11*BB58/1.4/$V$6*$AH$6 -> 0.22039286 | BG58: =AA58 -> 0.8 | BH58: =AK58 -> 1 | BI58: =AO58/1.5*$AH$6 -> 0.25245 | BJ58: =Y58/B$13*1.4 -> 0.476 | BK58: =I58 -> 0.51 | BL58: =BJ58*U$39 -> 466.956
I59: 0.465 | J59: =ROUND(IF($I59>=D$17,D$12,IF($I59>=F$17,D$13+(D$12-D$13)*($I59-0.6*D$17)/0.4/D$17,IF($I59<E$17,D$13+(D$13-1)*($I59-E$17)/E$17,D$13))),3) -> 1.693 | K59: =IF($I59<E$17,ROUND(B$17*(0.4+3*$I59/D$17),3),IF($I59<=D$17,B$17,IF($I59<=2.5*D$17,C$17/$I59,0.4*B$17))) -> 0.975 | L59: =ROUND(K59/J59,4) -> 0.5759 | M59: =IF(L59<=0.3,L59,IF(L59<0.8,ROUND(0.52*L59+0.144,3),0.7*L59)) -> 0.443 | N59: =ROUND(B$13*M59/1.4/B$14,3) -> 0.316 | O59: =ROUND(IF($I59>=D$19,D$12,IF($I59>=F$19,D$13+(D$12-D$13)*($I59-0.6*D$19)/0.4/D$19,IF($I59<E$19,D$13+(D$13-1)*($I59-E$19)/E$19,D$13))),3) -> 1.693 | P59: =IF($I59<E$19,ROUND(B$19*(0.4+3*$I59/D$19),3),IF($I59<=D$19,B$19,IF($I59<=2.5*D$19,C$19/$I59,0.4*B$19))) -> 0.8 | Q59: =ROUND(P59/O59,4) -> 0.4725 | R59: =IF(Q59<=0.3,Q59,IF(Q59<0.8,ROUND(0.52*Q59+0.144,3),0.7*Q59)) -> 0.39 | S59: =ROUND(B$13*O59*R59/4.2/B$14,3) -> 0.157 | T59: =ROUND(IF($I59>=D$21,B$12,IF($I59>=F$21,D$14+(B$12-D$14)*($I59-0.6*D$21)/0.4/D$21,IF($I59<E$21,D$14+(D$14-1)*($I59-E$21)/E$21,D$14))),3) -> 1.949 | U59: =IF($I59<E$21,ROUND(B$21*(0.4+3*$I59/D$21),3),IF($I59<=D$21,B$21,IF($I59<=2.5*D$21,C$21/$I59,0.4*B$21))) -> 1.24498 | V59: =ROUND(U59/T59,4) -> 0.6388 | W59: =IF(V59<=0.3,V59,IF(V59<0.8,ROUND(0.52*V59+0.144,3),0.7*V59)) -> 0.476 | X59: =ROUND(B$13*W59/1.4/B$14,3) -> 0.34 | Y59: =MAX(X59,S59,N59) -> 0.34 | Z59: =ROUND(IF($I59>=K$17,D$12,IF($I59>=M$17,D$13+(D$12-D$13)*($I59-0.6*K$17)/0.4/K$17,IF($I59<L$17,D$13+(D$13-1)*($I59-L$17)/L$17,D$13))),3) -> 1.746 | AA59: =IF($I59<L$17,ROUND(I$17*(0.4+3*$I59/K$17),3),IF($I59<=K$17,I$17,IF($I59<=2.5*K$17,J$17/$I59,0.4*I$17))) -> 0.8 | AB59: =ROUND(AA59/Z59,4) -> 0.4582 | AC59: =IF(AB59<=0.3,AB59,IF(AB59<0.8,ROUND(0.52*AB59+0.144,3),0.7*AB59)) -> 0.382 | AD59: =ROUND(B$13*AC59/1.4/B$14,3) -> 0.273 | AE59: =ROUND(IF($I59>=K$19,D$12,IF($I59>=M$19,D$13+(D$12-D$13)*($I59-0.6*K$19)/0.4/K$19,IF($I59<L$19,D$13+(D$13-1)*($I59-L$19)/L$19,D$13))),3) -> 1.746 | AF59: =IF($I59<L$19,ROUND(I$19*(0.4+3*$I59/K$19),3),IF($I59<=K$19,I$19,IF($I59<=2.5*K$19,J$19/$I59,0.4*I$19))) -> 0.8 | AG59: =ROUND(AF59/AE59,4) -> 0.4582 | AH59: =IF(AG59<=0.3,AG59,IF(AG59<0.8,ROUND(0.52*AG59+0.144,3),0.7*AG59)) -> 0.382 | AI59: =ROUND(B$13*AE59*AH59/4.2/B$14,3) -> 0.159 | AJ59: =ROUND(IF($I59>=K$21,B$12,IF($I59>=M$21,D$14+(B$12-D$14)*($I59-0.6*K$21)/0.4/K$21,IF($I59<L$21,D$14+(D$14-1)*($I59-L$21)/L$21,D$14))),3) -> 2.139 | AK59: =IF($I59<L$21,ROUND(I$21*(0.4+3*$I59/K$21),3),IF($I59<=K$21,I$21,IF($I59<=2.5*K$21,J$21/$I59,0.4*I$21))) -> 1 | AL59: =ROUND(AK59/AJ59,4) -> 0.4675 | AM59: =IF(AL59<=0.3,AL59,IF(AL59<0.8,ROUND(0.52*AL59+0.144,3),0.7*AL59)) -> 0.387 | AN59: =ROUND(B$13*AM59/1.4/B$14,3) -> 0.276 | AO59: =MAX(AN59,AI59,AD59) -> 0.276 | AP59: =ROUND(IF($I59>=AX$38,D$13,IF($I59<AX$39,D$13+(D$13-1)*($I59-AX$39)/AX$39,D$13)),3) -> 1.693 | AQ59: =1/8/I59^0.5 -> 0.18330889 | AR59: =IF(AQ59>0.15,0.15,IF(AQ59<0.0625,0.0625,AQ59)) -> 0.15 | AS59: =$Q$5*AS$41*$Q$15*$AR59*$AH$6 -> 0.27979875 | AT59: =$Q$5*AT$41*$Q$15*$AR59*$AH$6 -> 0.210375 | AU59: =$Q$5*AU$41*$Q$15*$AR59*$AH$6 -> 0.1683 | AV59: =$Q$5*AV$41*$Q$15*$AR59*$AH$6 -> 0.210375 | AW59: =$AH$6*$Q$5*AW$41*$AR59*1.4*AW$40 -> 0.70686 | AX59: =IF(I59<=AX$39,$AH$6*$Q$5*AX$41*$AR59*1.4*AX$40*(0.4+3*I59/AX$38),$AH$6*$Q$5*AX$41*$AR59*1.4*AX$40) -> 0.789327 | AY59: =IF(I59>0.611,$T$12,IF(I59>0.406,AE$5+($T$12-AE$5)*(I59-0.406)/0.205,IF(I59>0.2,AE$5,IF(I59>0.03,AE$5+(AE$5-1)*(I59-0.2)/0.17,1)))) -> 1.5925962 | AZ59: =IF(I59<=S$17,1,IF(I59<T$17,X$17*I59+Y$17,IF(I59<U$17,Z$17,IF(I59<V$17,AA$17/I59^(AB$17),1)))) -> 2.5 | BA59: =AZ59/AY59 -> 1.5697639 | BB59: =IF(BA59>1,1,BA59) -> 1 | BC59: =AZ59*T$5 -> 0.825 | BD59: =$T$5*$T$11*BB59/1.4/$T$6*$AH$6 -> 0.22039286 | BE59: =AZ59*AD$5 -> 0.825 | BF59: =$V$5*$V$11*BB59/1.4/$V$6*$AH$6 -> 0.22039286 | BG59: =AA59 -> 0.8 | BH59: =AK59 -> 1 | BI59: =AO59/1.5*$AH$6 -> 0.25806 | BJ59: =Y59/B$13*1.4 -> 0.476 | BK59: =I59 -> 0.465 | BL59: =BJ59*U$39 -> 466.956
I60: =ROUND((I57+I62)/2,2) -> 0.7 | J60: =ROUND(IF($I60>=D$17,D$12,IF($I60>=F$17,D$13+(D$12-D$13)*($I60-0.6*D$17)/0.4/D$17,IF($I60<E$17,D$13+(D$13-1)*($I60-E$17)/E$17,D$13))),3) -> 1.814 | K60: =IF($I60<E$17,ROUND(B$17*(0.4+3*$I60/D$17),3),IF($I60<=D$17,B$17,IF($I60<=2.5*D$17,C$17/$I60,0.4*B$17))) -> 0.975 | L60: =ROUND(K60/J60,4) -> 0.5375 | M60: =IF(L60<=0.3,L60,IF(L60<0.8,ROUND(0.52*L60+0.144,3),0.7*L60)) -> 0.424 | N60: =ROUND(B$13*M60/1.4/B$14,3) -> 0.303 | O60: =ROUND(IF($I60>=D$19,D$12,IF($I60>=F$19,D$13+(D$12-D$13)*($I60-0.6*D$19)/0.4/D$19,IF($I60<E$19,D$13+(D$13-1)*($I60-E$19)/E$19,D$13))),3) -> 1.831 | P60: =IF($I60<E$19,ROUND(B$19*(0.4+3*$I60/D$19),3),IF($I60<=D$19,B$19,IF($I60<=2.5*D$19,C$19/$I60,0.4*B$19))) -> 0.8 | Q60: =ROUND(P60/O60,4) -> 0.4369 | R60: =IF(Q60<=0.3,Q60,IF(Q60<0.8,ROUND(0.52*Q60+0.144,3),0.7*Q60)) -> 0.371 | S60: =ROUND(B$13*O60*R60/4.2/B$14,3) -> 0.162 | T60: =ROUND(IF($I60>=D$21,B$12,IF($I60>=F$21,D$14+(B$12-D$14)*($I60-0.6*D$21)/0.4/D$21,IF($I60<E$21,D$14+(D$14-1)*($I60-E$21)/E$21,D$14))),3) -> 2.122 | U60: =IF($I60<E$21,ROUND(B$21*(0.4+3*$I60/D$21),3),IF($I60<=D$21,B$21,IF($I60<=2.5*D$21,C$21/$I60,0.4*B$21))) -> 1.24498 | V60: =ROUND(U60/T60,4) -> 0.5867 | W60: =IF(V60<=0.3,V60,IF(V60<0.8,ROUND(0.52*V60+0.144,3),0.7*V60)) -> 0.449 | X60: =ROUND(B$13*W60/1.4/B$14,3) -> 0.321 | Y60: =MAX(X60,S60,N60) -> 0.321 | Z60: =ROUND(IF($I60>=K$17,D$12,IF($I60>=M$17,D$13+(D$12-D$13)*($I60-0.6*K$17)/0.4/K$17,IF($I60<L$17,D$13+(D$13-1)*($I60-L$17)/L$17,D$13))),3) -> 1.933 | AA60: =IF($I60<L$17,ROUND(I$17*(0.4+3*$I60/K$17),3),IF($I60<=K$17,I$17,IF($I60<=2.5*K$17,J$17/$I60,0.4*I$17))) -> 0.77142857 | AB60: =ROUND(AA60/Z60,4) -> 0.3991 | AC60: =IF(AB60<=0.3,AB60,IF(AB60<0.8,ROUND(0.52*AB60+0.144,3),0.7*AB60)) -> 0.352 | AD60: =ROUND(B$13*AC60/1.4/B$14,3) -> 0.251 | AE60: =ROUND(IF($I60>=K$19,D$12,IF($I60>=M$19,D$13+(D$12-D$13)*($I60-0.6*K$19)/0.4/K$19,IF($I60<L$19,D$13+(D$13-1)*($I60-L$19)/L$19,D$13))),3) -> 1.933 | AF60: =IF($I60<L$19,ROUND(I$19*(0.4+3*$I60/K$19),3),IF($I60<=K$19,I$19,IF($I60<=2.5*K$19,J$19/$I60,0.4*I$19))) -> 0.77142857 | AG60: =ROUND(AF60/AE60,4) -> 0.3991 | AH60: =IF(AG60<=0.3,AG60,IF(AG60<0.8,ROUND(0.52*AG60+0.144,3),0.7*AG60)) -> 0.352 | AI60: =ROUND(B$13*AE60*AH60/4.2/B$14,3) -> 0.162 | AJ60: =ROUND(IF($I60>=K$21,B$12,IF($I60>=M$21,D$14+(B$12-D$14)*($I60-0.6*K$21)/0.4/K$21,IF($I60<L$21,D$14+(D$14-1)*($I60-L$21)/L$21,D$14))),3) -> 2.4 | AK60: =IF($I60<L$21,ROUND(I$21*(0.4+3*$I60/K$21),3),IF($I60<=K$21,I$21,IF($I60<=2.5*K$21,J$21/$I60,0.4*I$21))) -> 0.86428571 | AL60: =ROUND(AK60/AJ60,4) -> 0.3601 | AM60: =IF(AL60<=0.3,AL60,IF(AL60<0.8,ROUND(0.52*AL60+0.144,3),0.7*AL60)) -> 0.331 | AN60: =ROUND(B$13*AM60/1.4/B$14,3) -> 0.236 | AO60: =MAX(AN60,AI60,AD60) -> 0.251 | AP60: =ROUND(IF($I60>=AX$38,D$13,IF($I60<AX$39,D$13+(D$13-1)*($I60-AX$39)/AX$39,D$13)),3) -> 1.693 | AQ60: =1/8/I60^0.5 -> 0.14940358 | AR60: =IF(AQ60>0.15,0.15,IF(AQ60<0.0625,0.0625,AQ60)) -> 0.14940358 | AS60: =$Q$5*AS$41*$Q$15*$AR60*$AH$6 -> 0.27868623 | AT60: =$Q$5*AT$41*$Q$15*$AR60*$AH$6 -> 0.20953852 | AU60: =$Q$5*AU$41*$Q$15*$AR60*$AH$6 -> 0.16763081 | AV60: =$Q$5*AV$41*$Q$15*$AR60*$AH$6 -> 0.20953852 | AW60: =$AH$6*$Q$5*AW$41*$AR60*1.4*AW$40 -> 0.70404941 | AX60: =IF(I60<=AX$39,$AH$6*$Q$5*AX$41*$AR60*1.4*AX$40*(0.4+3*I60/AX$38),$AH$6*$Q$5*AX$41*$AR60*1.4*AX$40) -> 0.78618851 | AY60: =IF(I60>0.611,$T$12,IF(I60>0.406,AE$5+($T$12-AE$5)*(I60-0.406)/0.205,IF(I60>0.2,AE$5,IF(I60>0.03,AE$5+(AE$5-1)*(I60-0.2)/0.17,1)))) -> 1.7 | AZ60: =IF(I60<=S$17,1,IF(I60<T$17,X$17*I60+Y$17,IF(I60<U$17,Z$17,IF(I60<V$17,AA$17/I60^(AB$17),1)))) -> 2.2831817 | BA60: =AZ60/AY60 -> 1.3430481 | BB60: =IF(BA60>1,1,BA60) -> 1 | BC60: =AZ60*T$5 -> 0.75344997 | BD60: =$T$5*$T$11*BB60/1.4/$T$6*$AH$6 -> 0.22039286 | BE60: =AZ60*AD$5 -> 0.75344997 | BF60: =$V$5*$V$11*BB60/1.4/$V$6*$AH$6 -> 0.22039286 | BG60: =AA60 -> 0.77142857 | BH60: =AK60 -> 0.86428571 | BI60: =AO60/1.5*$AH$6 -> 0.234685 | BJ60: =Y60/B$13*1.4 -> 0.4494 | BK60: =I60 -> 0.7 | BL60: =BJ60*U$39 -> 440.8614 | BM60: =#REF!/#REF! -> #REF!
I61: =MIN(I62,ROUND((I60+I63)/2,2)) -> 0.7 | J61: =ROUND(IF($I61>=D$17,D$12,IF($I61>=F$17,D$13+(D$12-D$13)*($I61-0.6*D$17)/0.4/D$17,IF($I61<E$17,D$13+(D$13-1)*($I61-E$17)/E$17,D$13))),3) -> 1.814 | K61: =IF($I61<E$17,ROUND(B$17*(0.4+3*$I61/D$17),3),IF($I61<=D$17,B$17,IF($I61<=2.5*D$17,C$17/$I61,0.4*B$17))) -> 0.975 | L61: =ROUND(K61/J61,4) -> 0.5375 | M61: =IF(L61<=0.3,L61,IF(L61<0.8,ROUND(0.52*L61+0.144,3),0.7*L61)) -> 0.424 | N61: =ROUND(B$13*M61/1.4/B$14,3) -> 0.303 | O61: =ROUND(IF($I61>=D$19,D$12,IF($I61>=F$19,D$13+(D$12-D$13)*($I61-0.6*D$19)/0.4/D$19,IF($I61<E$19,D$13+(D$13-1)*($I61-E$19)/E$19,D$13))),3) -> 1.831 | P61: =IF($I61<E$19,ROUND(B$19*(0.4+3*$I61/D$19),3),IF($I61<=D$19,B$19,IF($I61<=2.5*D$19,C$19/$I61,0.4*B$19))) -> 0.8 | Q61: =ROUND(P61/O61,4) -> 0.4369 | R61: =IF(Q61<=0.3,Q61,IF(Q61<0.8,ROUND(0.52*Q61+0.144,3),0.7*Q61)) -> 0.371 | S61: =ROUND(B$13*O61*R61/4.2/B$14,3) -> 0.162 | T61: =ROUND(IF($I61>=D$21,B$12,IF($I61>=F$21,D$14+(B$12-D$14)*($I61-0.6*D$21)/0.4/D$21,IF($I61<E$21,D$14+(D$14-1)*($I61-E$21)/E$21,D$14))),3) -> 2.122 | U61: =IF($I61<E$21,ROUND(B$21*(0.4+3*$I61/D$21),3),IF($I61<=D$21,B$21,IF($I61<=2.5*D$21,C$21/$I61,0.4*B$21))) -> 1.24498 | V61: =ROUND(U61/T61,4) -> 0.5867 | W61: =IF(V61<=0.3,V61,IF(V61<0.8,ROUND(0.52*V61+0.144,3),0.7*V61)) -> 0.449 | X61: =ROUND(B$13*W61/1.4/B$14,3) -> 0.321 | Y61: =MAX(X61,S61,N61) -> 0.321 | Z61: =ROUND(IF($I61>=K$17,D$12,IF($I61>=M$17,D$13+(D$12-D$13)*($I61-0.6*K$17)/0.4/K$17,IF($I61<L$17,D$13+(D$13-1)*($I61-L$17)/L$17,D$13))),3) -> 1.933 | AA61: =IF($I61<L$17,ROUND(I$17*(0.4+3*$I61/K$17),3),IF($I61<=K$17,I$17,IF($I61<=2.5*K$17,J$17/$I61,0.4*I$17))) -> 0.77142857 | AB61: =ROUND(AA61/Z61,4) -> 0.3991 | AC61: =IF(AB61<=0.3,AB61,IF(AB61<0.8,ROUND(0.52*AB61+0.144,3),0.7*AB61)) -> 0.352 | AD61: =ROUND(B$13*AC61/1.4/B$14,3) -> 0.251 | AE61: =ROUND(IF($I61>=K$19,D$12,IF($I61>=M$19,D$13+(D$12-D$13)*($I61-0.6*K$19)/0.4/K$19,IF($I61<L$19,D$13+(D$13-1)*($I61-L$19)/L$19,D$13))),3) -> 1.933 | AF61: =IF($I61<L$19,ROUND(I$19*(0.4+3*$I61/K$19),3),IF($I61<=K$19,I$19,IF($I61<=2.5*K$19,J$19/$I61,0.4*I$19))) -> 0.77142857 | AG61: =ROUND(AF61/AE61,4) -> 0.3991 | AH61: =IF(AG61<=0.3,AG61,IF(AG61<0.8,ROUND(0.52*AG61+0.144,3),0.7*AG61)) -> 0.352 | AI61: =ROUND(B$13*AE61*AH61/4.2/B$14,3) -> 0.162 | AJ61: =ROUND(IF($I61>=K$21,B$12,IF($I61>=M$21,D$14+(B$12-D$14)*($I61-0.6*K$21)/0.4/K$21,IF($I61<L$21,D$14+(D$14-1)*($I61-L$21)/L$21,D$14))),3) -> 2.4 | AK61: =IF($I61<L$21,ROUND(I$21*(0.4+3*$I61/K$21),3),IF($I61<=K$21,I$21,IF($I61<=2.5*K$21,J$21/$I61,0.4*I$21))) -> 0.86428571 | AL61: =ROUND(AK61/AJ61,4) -> 0.3601 | AM61: =IF(AL61<=0.3,AL61,IF(AL61<0.8,ROUND(0.52*AL61+0.144,3),0.7*AL61)) -> 0.331 | AN61: =ROUND(B$13*AM61/1.4/B$14,3) -> 0.236 | AO61: =MAX(AN61,AI61,AD61) -> 0.251 | AP61: =ROUND(IF($I61>=AX$38,D$13,IF($I61<AX$39,D$13+(D$13-1)*($I61-AX$39)/AX$39,D$13)),3) -> 1.693 | AQ61: =1/8/I61^0.5 -> 0.14940358 | AR61: =IF(AQ61>0.15,0.15,IF(AQ61<0.0625,0.0625,AQ61)) -> 0.14940358 | AS61: =$Q$5*AS$41*$Q$15*$AR61*$AH$6 -> 0.27868623 | AT61: =$Q$5*AT$41*$Q$15*$AR61*$AH$6 -> 0.20953852 | AU61: =$Q$5*AU$41*$Q$15*$AR61*$AH$6 -> 0.16763081 | AV61: =$Q$5*AV$41*$Q$15*$AR61*$AH$6 -> 0.20953852 | AW61: =$AH$6*$Q$5*AW$41*$AR61*1.4*AW$40 -> 0.70404941 | AX61: =IF(I61<=AX$39,$AH$6*$Q$5*AX$41*$AR61*1.4*AX$40*(0.4+3*I61/AX$38),$AH$6*$Q$5*AX$41*$AR61*1.4*AX$40) -> 0.78618851 | AY61: =IF(I61>0.611,$T$12,IF(I61>0.406,AE$5+($T$12-AE$5)*(I61-0.406)/0.205,IF(I61>0.2,AE$5,IF(I61>0.03,AE$5+(AE$5-1)*(I61-0.2)/0.17,1)))) -> 1.7 | AZ61: =IF(I61<=S$17,1,IF(I61<T$17,X$17*I61+Y$17,IF(I61<U$17,Z$17,IF(I61<V$17,AA$17/I61^(AB$17),1)))) -> 2.2831817 | BA61: =AZ61/AY61 -> 1.3430481 | BB61: =IF(BA61>1,1,BA61) -> 1 | BC61: =AZ61*T$5 -> 0.75344997 | BD61: =$T$5*$T$11*BB61/1.4/$T$6*$AH$6 -> 0.22039286 | BE61: =AZ61*AD$5 -> 0.75344997 | BF61: =$V$5*$V$11*BB61/1.4/$V$6*$AH$6 -> 0.22039286 | BG61: =AA61 -> 0.77142857 | BH61: =AK61 -> 0.86428571 | BI61: =AO61/1.5*$AH$6 -> 0.234685 | BJ61: =Y61/B$13*1.4 -> 0.4494 | BK61: =I61 -> 0.7 | BL61: =BJ61*U$39 -> 440.8614
H62: T0D,T0M | I62: =MIN(D17,D19,D21) -> 0.8438 | J62: =ROUND(IF($I62>=D$17,D$12,IF($I62>=F$17,D$13+(D$12-D$13)*($I62-0.6*D$17)/0.4/D$17,IF($I62<E$17,D$13+(D$13-1)*($I62-E$17)/E$17,D$13))),3) -> 1.913 | K62: =IF($I62<E$17,ROUND(B$17*(0.4+3*$I62/D$17),3),IF($I62<=D$17,B$17,IF($I62<=2.5*D$17,C$17/$I62,0.4*B$17))) -> 0.975 | L62: =ROUND(K62/J62,4) -> 0.5097 | M62: =IF(L62<=0.3,L62,IF(L62<0.8,ROUND(0.52*L62+0.144,3),0.7*L62)) -> 0.409 | N62: =ROUND(B$13*M62/1.4/B$14,3) -> 0.292 | O62: =ROUND(IF($I62>=D$19,D$12,IF($I62>=F$19,D$13+(D$12-D$13)*($I62-0.6*D$19)/0.4/D$19,IF($I62<E$19,D$13+(D$13-1)*($I62-E$19)/E$19,D$13))),3) -> 1.933 | P62: =IF($I62<E$19,ROUND(B$19*(0.4+3*$I62/D$19),3),IF($I62<=D$19,B$19,IF($I62<=2.5*D$19,C$19/$I62,0.4*B$19))) -> 0.8 | Q62: =ROUND(P62/O62,4) -> 0.4139 | R62: =IF(Q62<=0.3,Q62,IF(Q62<0.8,ROUND(0.52*Q62+0.144,3),0.7*Q62)) -> 0.359 | S62: =ROUND(B$13*O62*R62/4.2/B$14,3) -> 0.165 | T62: =ROUND(IF($I62>=D$21,B$12,IF($I62>=F$21,D$14+(B$12-D$14)*($I62-0.6*D$21)/0.4/D$21,IF($I62<E$21,D$14+(D$14-1)*($I62-E$21)/E$21,D$14))),3) -> 2.297 | U62: =IF($I62<E$21,ROUND(B$21*(0.4+3*$I62/D$21),3),IF($I62<=D$21,B$21,IF($I62<=2.5*D$21,C$21/$I62,0.4*B$21))) -> 1.24498 | V62: =ROUND(U62/T62,4) -> 0.542 | W62: =IF(V62<=0.3,V62,IF(V62<0.8,ROUND(0.52*V62+0.144,3),0.7*V62)) -> 0.426 | X62: =ROUND(B$13*W62/1.4/B$14,3) -> 0.304 | Y62: =MAX(X62,S62,N62) -> 0.304 | Z62: =ROUND(IF($I62>=K$17,D$12,IF($I62>=M$17,D$13+(D$12-D$13)*($I62-0.6*K$17)/0.4/K$17,IF($I62<L$17,D$13+(D$13-1)*($I62-L$17)/L$17,D$13))),3) -> 1.933 | AA62: =IF($I62<L$17,ROUND(I$17*(0.4+3*$I62/K$17),3),IF($I62<=K$17,I$17,IF($I62<=2.5*K$17,J$17/$I62,0.4*I$17))) -> 0.63996208 | AB62: =ROUND(AA62/Z62,4) -> 0.3311 | AC62: =IF(AB62<=0.3,AB62,IF(AB62<0.8,ROUND(0.52*AB62+0.144,3),0.7*AB62)) -> 0.316 | AD62: =ROUND(B$13*AC62/1.4/B$14,3) -> 0.226 | AE62: =ROUND(IF($I62>=K$19,D$12,IF($I62>=M$19,D$13+(D$12-D$13)*($I62-0.6*K$19)/0.4/K$19,IF($I62<L$19,D$13+(D$13-1)*($I62-L$19)/L$19,D$13))),3) -> 1.933 | AF62: =IF($I62<L$19,ROUND(I$19*(0.4+3*$I62/K$19),3),IF($I62<=K$19,I$19,IF($I62<=2.5*K$19,J$19/$I62,0.4*I$19))) -> 0.63996208 | AG62: =ROUND(AF62/AE62,4) -> 0.3311 | AH62: =IF(AG62<=0.3,AG62,IF(AG62<0.8,ROUND(0.52*AG62+0.144,3),0.7*AG62)) -> 0.316 | AI62: =ROUND(B$13*AE62*AH62/4.2/B$14,3) -> 0.145 | AJ62: =ROUND(IF($I62>=K$21,B$12,IF($I62>=M$21,D$14+(B$12-D$14)*($I62-0.6*K$21)/0.4/K$21,IF($I62<L$21,D$14+(D$14-1)*($I62-L$21)/L$21,D$14))),3) -> 2.4 | AK62: =IF($I62<L$21,ROUND(I$21*(0.4+3*$I62/K$21),3),IF($I62<=K$21,I$21,IF($I62<=2.5*K$21,J$21/$I62,0.4*I$21))) -> 0.71699455 | AL62: =ROUND(AK62/AJ62,4) -> 0.2987 | AM62: =IF(AL62<=0.3,AL62,IF(AL62<0.8,ROUND(0.52*AL62+0.144,3),0.7*AL62)) -> 0.2987 | AN62: =ROUND(B$13*AM62/1.4/B$14,3) -> 0.213 | AO62: =MAX(AN62,AI62,AD62) -> 0.226 | AP62: =ROUND(IF($I62>=AX$38,D$13,IF($I62<AX$39,D$13+(D$13-1)*($I62-AX$39)/AX$39,D$13)),3) -> 1.693 | AQ62: =1/8/I62^0.5 -> 0.13607873 | AR62: =IF(AQ62>0.15,0.15,IF(AQ62<0.0625,0.0625,AQ62)) -> 0.13607873 | AS62: =$Q$5*AS$41*$Q$15*$AR62*$AH$6 -> 0.25383106 | AT62: =$Q$5*AT$41*$Q$15*$AR62*$AH$6 -> 0.19085042 | AU62: =$Q$5*AU$41*$Q$15*$AR62*$AH$6 -> 0.15268034 | AV62: =$Q$5*AV$41*$Q$15*$AR62*$AH$6 -> 0.19085042 | AW62: =$AH$6*$Q$5*AW$41*$AR62*1.4*AW$40 -> 0.64125741 | AX62: =IF(I62<=AX$39,$AH$6*$Q$5*AX$41*$AR62*1.4*AX$40*(0.4+3*I62/AX$38),$AH$6*$Q$5*AX$41*$AR62*1.4*AX$40) -> 0.71607078 | AY62: =IF(I62>0.611,$T$12,IF(I62>0.406,AE$5+($T$12-AE$5)*(I62-0.406)/0.205,IF(I62>0.2,AE$5,IF(I62>0.03,AE$5+(AE$5-1)*(I62-0.2)/0.17,1)))) -> 1.7 | AZ62: =IF(I62<=S$17,1,IF(I62<T$17,X$17*I62+Y$17,IF(I62<U$17,Z$17,IF(I62<V$17,AA$17/I62^(AB$17),1)))) -> 2.015794 | BA62: =AZ62/AY62 -> 1.1857612 | BB62: =IF(BA62>1,1,BA62) -> 1 | BC62: =AZ62*T$5 -> 0.66521203 | BD62: =$T$5*$T$11*BB62/1.4/$T$6*$AH$6 -> 0.22039286 | BE62: =AZ62*AD$5 -> 0.66521203 | BF62: =$V$5*$V$11*BB62/1.4/$V$6*$AH$6 -> 0.22039286 | BG62: =AA62 -> 0.63996208 | BH62: =AK62 -> 0.71699455 | BI62: =AO62/1.5*$AH$6 -> 0.21131 | BJ62: =Y62/B$13*1.4 -> 0.4256 | BK62: =I62 -> 0.8438 | BL62: =BJ62*U$39 -> 417.5136
I63: =MIN(LARGE(D17:D21,2),I66) -> 0.6944 | J63: =ROUND(IF($I63>=D$17,D$12,IF($I63>=F$17,D$13+(D$12-D$13)*($I63-0.6*D$17)/0.4/D$17,IF($I63<E$17,D$13+(D$13-1)*($I63-E$17)/E$17,D$13))),3) -> 1.81 | K63: =IF($I63<E$17,ROUND(B$17*(0.4+3*$I63/D$17),3),IF($I63<=D$17,B$17,IF($I63<=2.5*D$17,C$17/$I63,0.4*B$17))) -> 0.975 | L63: =ROUND(K63/J63,4) -> 0.5387 | M63: =IF(L63<=0.3,L63,IF(L63<0.8,ROUND(0.52*L63+0.144,3),0.7*L63)) -> 0.424 | N63: =ROUND(B$13*M63/1.4/B$14,3) -> 0.303 | O63: =ROUND(IF($I63>=D$19,D$12,IF($I63>=F$19,D$13+(D$12-D$13)*($I63-0.6*D$19)/0.4/D$19,IF($I63<E$19,D$13+(D$13-1)*($I63-E$19)/E$19,D$13))),3) -> 1.827 | P63: =IF($I63<E$19,ROUND(B$19*(0.4+3*$I63/D$19),3),IF($I63<=D$19,B$19,IF($I63<=2.5*D$19,C$19/$I63,0.4*B$19))) -> 0.8 | Q63: =ROUND(P63/O63,4) -> 0.4379 | R63: =IF(Q63<=0.3,Q63,IF(Q63<0.8,ROUND(0.52*Q63+0.144,3),0.7*Q63)) -> 0.372 | S63: =ROUND(B$13*O63*R63/4.2/B$14,3) -> 0.162 | T63: =ROUND(IF($I63>=D$21,B$12,IF($I63>=F$21,D$14+(B$12-D$14)*($I63-0.6*D$21)/0.4/D$21,IF($I63<E$21,D$14+(D$14-1)*($I63-E$21)/E$21,D$14))),3) -> 2.115 | U63: =IF($I63<E$21,ROUND(B$21*(0.4+3*$I63/D$21),3),IF($I63<=D$21,B$21,IF($I63<=2.5*D$21,C$21/$I63,0.4*B$21))) -> 1.24498 | V63: =ROUND(U63/T63,4) -> 0.5886 | W63: =IF(V63<=0.3,V63,IF(V63<0.8,ROUND(0.52*V63+0.144,3),0.7*V63)) -> 0.45 | X63: =ROUND(B$13*W63/1.4/B$14,3) -> 0.321 | Y63: =MAX(X63,S63,N63) -> 0.321 | Z63: =ROUND(IF($I63>=K$17,D$12,IF($I63>=M$17,D$13+(D$12-D$13)*($I63-0.6*K$17)/0.4/K$17,IF($I63<L$17,D$13+(D$13-1)*($I63-L$17)/L$17,D$13))),3) -> 1.933 | AA63: =IF($I63<L$17,ROUND(I$17*(0.4+3*$I63/K$17),3),IF($I63<=K$17,I$17,IF($I63<=2.5*K$17,J$17/$I63,0.4*I$17))) -> 0.77764977 | AB63: =ROUND(AA63/Z63,4) -> 0.4023 | AC63: =IF(AB63<=0.3,AB63,IF(AB63<0.8,ROUND(0.52*AB63+0.144,3),0.7*AB63)) -> 0.353 | AD63: =ROUND(B$13*AC63/1.4/B$14,3) -> 0.252 | AE63: =ROUND(IF($I63>=K$19,D$12,IF($I63>=M$19,D$13+(D$12-D$13)*($I63-0.6*K$19)/0.4/K$19,IF($I63<L$19,D$13+(D$13-1)*($I63-L$19)/L$19,D$13))),3) -> 1.933 | AF63: =IF($I63<L$19,ROUND(I$19*(0.4+3*$I63/K$19),3),IF($I63<=K$19,I$19,IF($I63<=2.5*K$19,J$19/$I63,0.4*I$19))) -> 0.77764977 | AG63: =ROUND(AF63/AE63,4) -> 0.4023 | AH63: =IF(AG63<=0.3,AG63,IF(AG63<0.8,ROUND(0.52*AG63+0.144,3),0.7*AG63)) -> 0.353 | AI63: =ROUND(B$13*AE63*AH63/4.2/B$14,3) -> 0.162 | AJ63: =ROUND(IF($I63>=K$21,B$12,IF($I63>=M$21,D$14+(B$12-D$14)*($I63-0.6*K$21)/0.4/K$21,IF($I63<L$21,D$14+(D$14-1)*($I63-L$21)/L$21,D$14))),3) -> 2.4 | AK63: =IF($I63<L$21,ROUND(I$21*(0.4+3*$I63/K$21),3),IF($I63<=K$21,I$21,IF($I63<=2.5*K$21,J$21/$I63,0.4*I$21))) -> 0.87125576 | AL63: =ROUND(AK63/AJ63,4) -> 0.363 | AM63: =IF(AL63<=0.3,AL63,IF(AL63<0.8,ROUND(0.52*AL63+0.144,3),0.7*AL63)) -> 0.333 | AN63: =ROUND(B$13*AM63/1.4/B$14,3) -> 0.238 | AO63: =MAX(AN63,AI63,AD63) -> 0.252 | AP63: =ROUND(IF($I63>=AX$38,D$13,IF($I63<AX$39,D$13+(D$13-1)*($I63-AX$39)/AX$39,D$13)),3) -> 1.693 | AQ63: =1/8/I63^0.5 -> 0.1500048 | AR63: =IF(AQ63>0.15,0.15,IF(AQ63<0.0625,0.0625,AQ63)) -> 0.15 | AS63: =$Q$5*AS$41*$Q$15*$AR63*$AH$6 -> 0.27979875 | AT63: =$Q$5*AT$41*$Q$15*$AR63*$AH$6 -> 0.210375 | AU63: =$Q$5*AU$41*$Q$15*$AR63*$AH$6 -> 0.1683 | AV63: =$Q$5*AV$41*$Q$15*$AR63*$AH$6 -> 0.210375 | AW63: =$AH$6*$Q$5*AW$41*$AR63*1.4*AW$40 -> 0.70686 | AX63: =IF(I63<=AX$39,$AH$6*$Q$5*AX$41*$AR63*1.4*AX$40*(0.4+3*I63/AX$38),$AH$6*$Q$5*AX$41*$AR63*1.4*AX$40) -> 0.789327 | AY63: =IF(I63>0.611,$T$12,IF(I63>0.406,AE$5+($T$12-AE$5)*(I63-0.406)/0.205,IF(I63>0.2,AE$5,IF(I63>0.03,AE$5+(AE$5-1)*(I63-0.2)/0.17,1)))) -> 1.7 | AZ63: =IF(I63<=S$17,1,IF(I63<T$17,X$17*I63+Y$17,IF(I63<U$17,Z$17,IF(I63<V$17,AA$17/I63^(AB$17),1)))) -> 2.2954404 | BA63: =AZ63/AY63 -> 1.3502591 | BB63: =IF(BA63>1,1,BA63) -> 1 | BC63: =AZ63*T$5 -> 0.75749535 | BD63: =$T$5*$T$11*BB63/1.4/$T$6*$AH$6 -> 0.22039286 | BE63: =AZ63*AD$5 -> 0.75749535 | BF63: =$V$5*$V$11*BB63/1.4/$V$6*$AH$6 -> 0.22039286 | BG63: =AA63 -> 0.77764977 | BH63: =AK63 -> 0.87125576 | BI63: =AO63/1.5*$AH$6 -> 0.23562 | BJ63: =Y63/B$13*1.4 -> 0.4494 | BK63: =I63 -> 0.6944 | BL63: =BJ63*U$39 -> 440.8614
I64: =MIN(MAX(D17,D19,D21),I66) -> 0.6944 | J64: =ROUND(IF($I64>=D$17,D$12,IF($I64>=F$17,D$13+(D$12-D$13)*($I64-0.6*D$17)/0.4/D$17,IF($I64<E$17,D$13+(D$13-1)*($I64-E$17)/E$17,D$13))),3) -> 1.81 | K64: =IF($I64<E$17,ROUND(B$17*(0.4+3*$I64/D$17),3),IF($I64<=D$17,B$17,IF($I64<=2.5*D$17,C$17/$I64,0.4*B$17))) -> 0.975 | L64: =ROUND(K64/J64,4) -> 0.5387 | M64: =IF(L64<=0.3,L64,IF(L64<0.8,ROUND(0.52*L64+0.144,3),0.7*L64)) -> 0.424 | N64: =ROUND(B$13*M64/1.4/B$14,3) -> 0.303 | O64: =ROUND(IF($I64>=D$19,D$12,IF($I64>=F$19,D$13+(D$12-D$13)*($I64-0.6*D$19)/0.4/D$19,IF($I64<E$19,D$13+(D$13-1)*($I64-E$19)/E$19,D$13))),3) -> 1.827 | P64: =IF($I64<E$19,ROUND(B$19*(0.4+3*$I64/D$19),3),IF($I64<=D$19,B$19,IF($I64<=2.5*D$19,C$19/$I64,0.4*B$19))) -> 0.8 | Q64: =ROUND(P64/O64,4) -> 0.4379 | R64: =IF(Q64<=0.3,Q64,IF(Q64<0.8,ROUND(0.52*Q64+0.144,3),0.7*Q64)) -> 0.372 | S64: =ROUND(B$13*O64*R64/4.2/B$14,3) -> 0.162 | T64: =ROUND(IF($I64>=D$21,B$12,IF($I64>=F$21,D$14+(B$12-D$14)*($I64-0.6*D$21)/0.4/D$21,IF($I64<E$21,D$14+(D$14-1)*($I64-E$21)/E$21,D$14))),3) -> 2.115 | U64: =IF($I64<E$21,ROUND(B$21*(0.4+3*$I64/D$21),3),IF($I64<=D$21,B$21,IF($I64<=2.5*D$21,C$21/$I64,0.4*B$21))) -> 1.24498 | V64: =ROUND(U64/T64,4) -> 0.5886 | W64: =IF(V64<=0.3,V64,IF(V64<0.8,ROUND(0.52*V64+0.144,3),0.7*V64)) -> 0.45 | X64: =ROUND(B$13*W64/1.4/B$14,3) -> 0.321 | Y64: =MAX(X64,S64,N64) -> 0.321 | Z64: =ROUND(IF($I64>=K$17,D$12,IF($I64>=M$17,D$13+(D$12-D$13)*($I64-0.6*K$17)/0.4/K$17,IF($I64<L$17,D$13+(D$13-1)*($I64-L$17)/L$17,D$13))),3) -> 1.933 | AA64: =IF($I64<L$17,ROUND(I$17*(0.4+3*$I64/K$17),3),IF($I64<=K$17,I$17,IF($I64<=2.5*K$17,J$17/$I64,0.4*I$17))) -> 0.77764977 | AB64: =ROUND(AA64/Z64,4) -> 0.4023 | AC64: =IF(AB64<=0.3,AB64,IF(AB64<0.8,ROUND(0.52*AB64+0.144,3),0.7*AB64)) -> 0.353 | AD64: =ROUND(B$13*AC64/1.4/B$14,3) -> 0.252 | AE64: =ROUND(IF($I64>=K$19,D$12,IF($I64>=M$19,D$13+(D$12-D$13)*($I64-0.6*K$19)/0.4/K$19,IF($I64<L$19,D$13+(D$13-1)*($I64-L$19)/L$19,D$13))),3) -> 1.933 | AF64: =IF($I64<L$19,ROUND(I$19*(0.4+3*$I64/K$19),3),IF($I64<=K$19,I$19,IF($I64<=2.5*K$19,J$19/$I64,0.4*I$19))) -> 0.77764977 | AG64: =ROUND(AF64/AE64,4) -> 0.4023 | AH64: =IF(AG64<=0.3,AG64,IF(AG64<0.8,ROUND(0.52*AG64+0.144,3),0.7*AG64)) -> 0.353 | AI64: =ROUND(B$13*AE64*AH64/4.2/B$14,3) -> 0.162 | AJ64: =ROUND(IF($I64>=K$21,B$12,IF($I64>=M$21,D$14+(B$12-D$14)*($I64-0.6*K$21)/0.4/K$21,IF($I64<L$21,D$14+(D$14-1)*($I64-L$21)/L$21,D$14))),3) -> 2.4 | AK64: =IF($I64<L$21,ROUND(I$21*(0.4+3*$I64/K$21),3),IF($I64<=K$21,I$21,IF($I64<=2.5*K$21,J$21/$I64,0.4*I$21))) -> 0.87125576 | AL64: =ROUND(AK64/AJ64,4) -> 0.363 | AM64: =IF(AL64<=0.3,AL64,IF(AL64<0.8,ROUND(0.52*AL64+0.144,3),0.7*AL64)) -> 0.333 | AN64: =ROUND(B$13*AM64/1.4/B$14,3) -> 0.238 | AO64: =MAX(AN64,AI64,AD64) -> 0.252 | AP64: =ROUND(IF($I64>=AX$38,D$13,IF($I64<AX$39,D$13+(D$13-1)*($I64-AX$39)/AX$39,D$13)),3) -> 1.693 | AQ64: =1/8/I64^0.5 -> 0.1500048 | AR64: =IF(AQ64>0.15,0.15,IF(AQ64<0.0625,0.0625,AQ64)) -> 0.15 | AS64: =$Q$5*AS$41*$Q$15*$AR64*$AH$6 -> 0.27979875 | AT64: =$Q$5*AT$41*$Q$15*$AR64*$AH$6 -> 0.210375 | AU64: =$Q$5*AU$41*$Q$15*$AR64*$AH$6 -> 0.1683 | AV64: =$Q$5*AV$41*$Q$15*$AR64*$AH$6 -> 0.210375 | AW64: =$AH$6*$Q$5*AW$41*$AR64*1.4*AW$40 -> 0.70686 | AX64: =IF(I64<=AX$39,$AH$6*$Q$5*AX$41*$AR64*1.4*AX$40*(0.4+3*I64/AX$38),$AH$6*$Q$5*AX$41*$AR64*1.4*AX$40) -> 0.789327 | AY64: =IF(I64>0.611,$T$12,IF(I64>0.406,AE$5+($T$12-AE$5)*(I64-0.406)/0.205,IF(I64>0.2,AE$5,IF(I64>0.03,AE$5+(AE$5-1)*(I64-0.2)/0.17,1)))) -> 1.7 | AZ64: =IF(I64<=S$17,1,IF(I64<T$17,X$17*I64+Y$17,IF(I64<U$17,Z$17,IF(I64<V$17,AA$17/I64^(AB$17),1)))) -> 2.2954404 | BA64: =AZ64/AY64 -> 1.3502591 | BB64: =IF(BA64>1,1,BA64) -> 1 | BC64: =AZ64*T$5 -> 0.75749535 | BD64: =$T$5*$T$11*BB64/1.4/$T$6*$AH$6 -> 0.22039286 | BE64: =AZ64*AD$5 -> 0.75749535 | BF64: =$V$5*$V$11*BB64/1.4/$V$6*$AH$6 -> 0.22039286 | BG64: =AA64 -> 0.77764977 | BH64: =AK64 -> 0.87125576 | BI64: =AO64/1.5*$AH$6 -> 0.23562 | BJ64: =Y64/B$13*1.4 -> 0.4494 | BK64: =I64 -> 0.6944 | BL64: =BJ64*U$39 -> 440.8614
I65: =MIN(ROUND((I64+I66)/2,2),I66) -> 0.69 | J65: =ROUND(IF($I65>=D$17,D$12,IF($I65>=F$17,D$13+(D$12-D$13)*($I65-0.6*D$17)/0.4/D$17,IF($I65<E$17,D$13+(D$13-1)*($I65-E$17)/E$17,D$13))),3) -> 1.807 | K65: =IF($I65<E$17,ROUND(B$17*(0.4+3*$I65/D$17),3),IF($I65<=D$17,B$17,IF($I65<=2.5*D$17,C$17/$I65,0.4*B$17))) -> 0.975 | L65: =ROUND(K65/J65,4) -> 0.5396 | M65: =IF(L65<=0.3,L65,IF(L65<0.8,ROUND(0.52*L65+0.144,3),0.7*L65)) -> 0.425 | N65: =ROUND(B$13*M65/1.4/B$14,3) -> 0.304 | O65: =ROUND(IF($I65>=D$19,D$12,IF($I65>=F$19,D$13+(D$12-D$13)*($I65-0.6*D$19)/0.4/D$19,IF($I65<E$19,D$13+(D$13-1)*($I65-E$19)/E$19,D$13))),3) -> 1.824 | P65: =IF($I65<E$19,ROUND(B$19*(0.4+3*$I65/D$19),3),IF($I65<=D$19,B$19,IF($I65<=2.5*D$19,C$19/$I65,0.4*B$19))) -> 0.8 | Q65: =ROUND(P65/O65,4) -> 0.4386 | R65: =IF(Q65<=0.3,Q65,IF(Q65<0.8,ROUND(0.52*Q65+0.144,3),0.7*Q65)) -> 0.372 | S65: =ROUND(B$13*O65*R65/4.2/B$14,3) -> 0.162 | T65: =ROUND(IF($I65>=D$21,B$12,IF($I65>=F$21,D$14+(B$12-D$14)*($I65-0.6*D$21)/0.4/D$21,IF($I65<E$21,D$14+(D$14-1)*($I65-E$21)/E$21,D$14))),3) -> 2.11 | U65: =IF($I65<E$21,ROUND(B$21*(0.4+3*$I65/D$21),3),IF($I65<=D$21,B$21,IF($I65<=2.5*D$21,C$21/$I65,0.4*B$21))) -> 1.24498 | V65: =ROUND(U65/T65,4) -> 0.59 | W65: =IF(V65<=0.3,V65,IF(V65<0.8,ROUND(0.52*V65+0.144,3),0.7*V65)) -> 0.451 | X65: =ROUND(B$13*W65/1.4/B$14,3) -> 0.322 | Y65: =MAX(X65,S65,N65) -> 0.322 | Z65: =ROUND(IF($I65>=K$17,D$12,IF($I65>=M$17,D$13+(D$12-D$13)*($I65-0.6*K$17)/0.4/K$17,IF($I65<L$17,D$13+(D$13-1)*($I65-L$17)/L$17,D$13))),3) -> 1.933 | AA65: =IF($I65<L$17,ROUND(I$17*(0.4+3*$I65/K$17),3),IF($I65<=K$17,I$17,IF($I65<=2.5*K$17,J$17/$I65,0.4*I$17))) -> 0.7826087 | AB65: =ROUND(AA65/Z65,4) -> 0.4049 | AC65: =IF(AB65<=0.3,AB65,IF(AB65<0.8,ROUND(0.52*AB65+0.144,3),0.7*AB65)) -> 0.355 | AD65: =ROUND(B$13*AC65/1.4/B$14,3) -> 0.254 | AE65: =ROUND(IF($I65>=K$19,D$12,IF($I65>=M$19,D$13+(D$12-D$13)*($I65-0.6*K$19)/0.4/K$19,IF($I65<L$19,D$13+(D$13-1)*($I65-L$19)/L$19,D$13))),3) -> 1.933 | AF65: =IF($I65<L$19,ROUND(I$19*(0.4+3*$I65/K$19),3),IF($I65<=K$19,I$19,IF($I65<=2.5*K$19,J$19/$I65,0.4*I$19))) -> 0.7826087 | AG65: =ROUND(AF65/AE65,4) -> 0.4049 | AH65: =IF(AG65<=0.3,AG65,IF(AG65<0.8,ROUND(0.52*AG65+0.144,3),0.7*AG65)) -> 0.355 | AI65: =ROUND(B$13*AE65*AH65/4.2/B$14,3) -> 0.163 | AJ65: =ROUND(IF($I65>=K$21,B$12,IF($I65>=M$21,D$14+(B$12-D$14)*($I65-0.6*K$21)/0.4/K$21,IF($I65<L$21,D$14+(D$14-1)*($I65-L$21)/L$21,D$14))),3) -> 2.4 | AK65: =IF($I65<L$21,ROUND(I$21*(0.4+3*$I65/K$21),3),IF($I65<=K$21,I$21,IF($I65<=2.5*K$21,J$21/$I65,0.4*I$21))) -> 0.87681159 | AL65: =ROUND(AK65/AJ65,4) -> 0.3653 | AM65: =IF(AL65<=0.3,AL65,IF(AL65<0.8,ROUND(0.52*AL65+0.144,3),0.7*AL65)) -> 0.334 | AN65: =ROUND(B$13*AM65/1.4/B$14,3) -> 0.239 | AO65: =MAX(AN65,AI65,AD65) -> 0.254 | AP65: =ROUND(IF($I65>=AX$38,D$13,IF($I65<AX$39,D$13+(D$13-1)*($I65-AX$39)/AX$39,D$13)),3) -> 1.693 | AQ65: =1/8/I65^0.5 -> 0.15048232 | AR65: =IF(AQ65>0.15,0.15,IF(AQ65<0.0625,0.0625,AQ65)) -> 0.15 | AS65: =$Q$5*AS$41*$Q$15*$AR65*$AH$6 -> 0.27979875 | AT65: =$Q$5*AT$41*$Q$15*$AR65*$AH$6 -> 0.210375 | AU65: =$Q$5*AU$41*$Q$15*$AR65*$AH$6 -> 0.1683 | AV65: =$Q$5*AV$41*$Q$15*$AR65*$AH$6 -> 0.210375 | AW65: =$AH$6*$Q$5*AW$41*$AR65*1.4*AW$40 -> 0.70686 | AX65: =IF(I65<=AX$39,$AH$6*$Q$5*AX$41*$AR65*1.4*AX$40*(0.4+3*I65/AX$38),$AH$6*$Q$5*AX$41*$AR65*1.4*AX$40) -> 0.789327 | AY65: =IF(I65>0.611,$T$12,IF(I65>0.406,AE$5+($T$12-AE$5)*(I65-0.406)/0.205,IF(I65>0.2,AE$5,IF(I65>0.03,AE$5+(AE$5-1)*(I65-0.2)/0.17,1)))) -> 1.7 | AZ65: =IF(I65<=S$17,1,IF(I65<T$17,X$17*I65+Y$17,IF(I65<U$17,Z$17,IF(I65<V$17,AA$17/I65^(AB$17),1)))) -> 2.3051885 | BA65: =AZ65/AY65 -> 1.3559932 | BB65: =IF(BA65>1,1,BA65) -> 1 | BC65: =AZ65*T$5 -> 0.76071221 | BD65: =$T$5*$T$11*BB65/1.4/$T$6*$AH$6 -> 0.22039286 | BE65: =AZ65*AD$5 -> 0.76071221 | BF65: =$V$5*$V$11*BB65/1.4/$V$6*$AH$6 -> 0.22039286 | BG65: =AA65 -> 0.7826087 | BH65: =AK65 -> 0.87681159 | BI65: =AO65/1.5*$AH$6 -> 0.23749 | BJ65: =Y65/B$13*1.4 -> 0.4508 | BK65: =I65 -> 0.69 | BL65: =BJ65*U$39 -> 442.2348
I66: =AX38 -> 0.6944 | J66: =ROUND(IF($I66>=D$17,D$12,IF($I66>=F$17,D$13+(D$12-D$13)*($I66-0.6*D$17)/0.4/D$17,IF($I66<E$17,D$13+(D$13-1)*($I66-E$17)/E$17,D$13))),3) -> 1.81 | K66: =IF($I66<E$17,ROUND(B$17*(0.4+3*$I66/D$17),3),IF($I66<=D$17,B$17,IF($I66<=2.5*D$17,C$17/$I66,0.4*B$17))) -> 0.975 | L66: =ROUND(K66/J66,4) -> 0.5387 | M66: =IF(L66<=0.3,L66,IF(L66<0.8,ROUND(0.52*L66+0.144,3),0.7*L66)) -> 0.424 | N66: =ROUND(B$13*M66/1.4/B$14,3) -> 0.303 | O66: =ROUND(IF($I66>=D$19,D$12,IF($I66>=F$19,D$13+(D$12-D$13)*($I66-0.6*D$19)/0.4/D$19,IF($I66<E$19,D$13+(D$13-1)*($I66-E$19)/E$19,D$13))),3) -> 1.827 | P66: =IF($I66<E$19,ROUND(B$19*(0.4+3*$I66/D$19),3),IF($I66<=D$19,B$19,IF($I66<=2.5*D$19,C$19/$I66,0.4*B$19))) -> 0.8 | Q66: =ROUND(P66/O66,4) -> 0.4379 | R66: =IF(Q66<=0.3,Q66,IF(Q66<0.8,ROUND(0.52*Q66+0.144,3),0.7*Q66)) -> 0.372 | S66: =ROUND(B$13*O66*R66/4.2/B$14,3) -> 0.162 | T66: =ROUND(IF($I66>=D$21,B$12,IF($I66>=F$21,D$14+(B$12-D$14)*($I66-0.6*D$21)/0.4/D$21,IF($I66<E$21,D$14+(D$14-1)*($I66-E$21)/E$21,D$14))),3) -> 2.115 | U66: =IF($I66<E$21,ROUND(B$21*(0.4+3*$I66/D$21),3),IF($I66<=D$21,B$21,IF($I66<=2.5*D$21,C$21/$I66,0.4*B$21))) -> 1.24498 | V66: =ROUND(U66/T66,4) -> 0.5886 | W66: =IF(V66<=0.3,V66,IF(V66<0.8,ROUND(0.52*V66+0.144,3),0.7*V66)) -> 0.45 | X66: =ROUND(B$13*W66/1.4/B$14,3) -> 0.321 | Y66: =MAX(X66,S66,N66) -> 0.321 | Z66: =ROUND(IF($I66>=K$17,D$12,IF($I66>=M$17,D$13+(D$12-D$13)*($I66-0.6*K$17)/0.4/K$17,IF($I66<L$17,D$13+(D$13-1)*($I66-L$17)/L$17,D$13))),3) -> 1.933 | AA66: =IF($I66<L$17,ROUND(I$17*(0.4+3*$I66/K$17),3),IF($I66<=K$17,I$17,IF($I66<=2.5*K$17,J$17/$I66,0.4*I$17))) -> 0.77764977 | AB66: =ROUND(AA66/Z66,4) -> 0.4023 | AC66: =IF(AB66<=0.3,AB66,IF(AB66<0.8,ROUND(0.52*AB66+0.144,3),0.7*AB66)) -> 0.353 | AD66: =ROUND(B$13*AC66/1.4/B$14,3) -> 0.252 | AE66: =ROUND(IF($I66>=K$19,D$12,IF($I66>=M$19,D$13+(D$12-D$13)*($I66-0.6*K$19)/0.4/K$19,IF($I66<L$19,D$13+(D$13-1)*($I66-L$19)/L$19,D$13))),3) -> 1.933 | AF66: =IF($I66<L$19,ROUND(I$19*(0.4+3*$I66/K$19),3),IF($I66<=K$19,I$19,IF($I66<=2.5*K$19,J$19/$I66,0.4*I$19))) -> 0.77764977 | AG66: =ROUND(AF66/AE66,4) -> 0.4023 | AH66: =IF(AG66<=0.3,AG66,IF(AG66<0.8,ROUND(0.52*AG66+0.144,3),0.7*AG66)) -> 0.353 | AI66: =ROUND(B$13*AE66*AH66/4.2/B$14,3) -> 0.162 | AJ66: =ROUND(IF($I66>=K$21,B$12,IF($I66>=M$21,D$14+(B$12-D$14)*($I66-0.6*K$21)/0.4/K$21,IF($I66<L$21,D$14+(D$14-1)*($I66-L$21)/L$21,D$14))),3) -> 2.4 | AK66: =IF($I66<L$21,ROUND(I$21*(0.4+3*$I66/K$21),3),IF($I66<=K$21,I$21,IF($I66<=2.5*K$21,J$21/$I66,0.4*I$21))) -> 0.87125576 | AL66: =ROUND(AK66/AJ66,4) -> 0.363 | AM66: =IF(AL66<=0.3,AL66,IF(AL66<0.8,ROUND(0.52*AL66+0.144,3),0.7*AL66)) -> 0.333 | AN66: =ROUND(B$13*AM66/1.4/B$14,3) -> 0.238 | AO66: =MAX(AN66,AI66,AD66) -> 0.252 | AP66: =ROUND(IF($I66>=AX$38,D$13,IF($I66<AX$39,D$13+(D$13-1)*($I66-AX$39)/AX$39,D$13)),3) -> 1.693 | AQ66: =1/8/I66^0.5 -> 0.1500048 | AR66: =IF(AQ66>0.15,0.15,IF(AQ66<0.0625,0.0625,AQ66)) -> 0.15 | AS66: =$Q$5*AS$41*$Q$15*$AR66*$AH$6 -> 0.27979875 | AT66: =$Q$5*AT$41*$Q$15*$AR66*$AH$6 -> 0.210375 | AU66: =$Q$5*AU$41*$Q$15*$AR66*$AH$6 -> 0.1683 | AV66: =$Q$5*AV$41*$Q$15*$AR66*$AH$6 -> 0.210375 | AW66: =$AH$6*$Q$5*AW$41*$AR66*1.4*AW$40 -> 0.70686 | AX66: =$AH$6*$Q$5*AX$41*$AR66*1.4*AX$40 -> 0.789327 | AY66: =IF(I66>0.611,$T$12,IF(I66>0.406,AE$5+($T$12-AE$5)*(I66-0.406)/0.205,IF(I66>0.2,AE$5,IF(I66>0.03,AE$5+(AE$5-1)*(I66-0.2)/0.17,1)))) -> 1.7 | AZ66: =IF(I66<=S$17,1,IF(I66<T$17,X$17*I66+Y$17,IF(I66<U$17,Z$17,IF(I66<V$17,AA$17/I66^(AB$17),1)))) -> 2.2954404 | BA66: =AZ66/AY66 -> 1.3502591 | BB66: =IF(BA66>1,1,BA66) -> 1 | BC66: =AZ66*T$5 -> 0.75749535 | BD66: =$T$5*$T$11*BB66/1.4/$T$6*$AH$6 -> 0.22039286 | BE66: =AZ66*AD$5 -> 0.75749535 | BF66: =$V$5*$V$11*BB66/1.4/$V$6*$AH$6 -> 0.22039286 | BG66: =AA66 -> 0.77764977 | BH66: =AK66 -> 0.87125576 | BI66: =AO66/1.5*$AH$6 -> 0.23562 | BJ66: =Y66/B$13*1.4 -> 0.4494 | BK66: =I66 -> 0.6944 | BL66: =BJ66*U$39 -> 440.8614
I67: =I66+0.05 -> 0.7444 | J67: =ROUND(IF($I67>=D$17,D$12,IF($I67>=F$17,D$13+(D$12-D$13)*($I67-0.6*D$17)/0.4/D$17,IF($I67<E$17,D$13+(D$13-1)*($I67-E$17)/E$17,D$13))),3) -> 1.844 | K67: =IF($I67<E$17,ROUND(B$17*(0.4+3*$I67/D$17),3),IF($I67<=D$17,B$17,IF($I67<=2.5*D$17,C$17/$I67,0.4*B$17))) -> 0.975 | L67: =ROUND(K67/J67,4) -> 0.5287 | M67: =IF(L67<=0.3,L67,IF(L67<0.8,ROUND(0.52*L67+0.144,3),0.7*L67)) -> 0.419 | N67: =ROUND(B$13*M67/1.4/B$14,3) -> 0.299 | O67: =ROUND(IF($I67>=D$19,D$12,IF($I67>=F$19,D$13+(D$12-D$13)*($I67-0.6*D$19)/0.4/D$19,IF($I67<E$19,D$13+(D$13-1)*($I67-E$19)/E$19,D$13))),3) -> 1.863 | P67: =IF($I67<E$19,ROUND(B$19*(0.4+3*$I67/D$19),3),IF($I67<=D$19,B$19,IF($I67<=2.5*D$19,C$19/$I67,0.4*B$19))) -> 0.8 | Q67: =ROUND(P67/O67,4) -> 0.4294 | R67: =IF(Q67<=0.3,Q67,IF(Q67<0.8,ROUND(0.52*Q67+0.144,3),0.7*Q67)) -> 0.367 | S67: =ROUND(B$13*O67*R67/4.2/B$14,3) -> 0.163 | T67: =ROUND(IF($I67>=D$21,B$12,IF($I67>=F$21,D$14+(B$12-D$14)*($I67-0.6*D$21)/0.4/D$21,IF($I67<E$21,D$14+(D$14-1)*($I67-E$21)/E$21,D$14))),3) -> 2.176 | U67: =IF($I67<E$21,ROUND(B$21*(0.4+3*$I67/D$21),3),IF($I67<=D$21,B$21,IF($I67<=2.5*D$21,C$21/$I67,0.4*B$21))) -> 1.24498 | V67: =ROUND(U67/T67,4) -> 0.5721 | W67: =IF(V67<=0.3,V67,IF(V67<0.8,ROUND(0.52*V67+0.144,3),0.7*V67)) -> 0.441 | X67: =ROUND(B$13*W67/1.4/B$14,3) -> 0.315 | Y67: =MAX(X67,S67,N67) -> 0.315 | Z67: =ROUND(IF($I67>=K$17,D$12,IF($I67>=M$17,D$13+(D$12-D$13)*($I67-0.6*K$17)/0.4/K$17,IF($I67<L$17,D$13+(D$13-1)*($I67-L$17)/L$17,D$13))),3) -> 1.933 | AA67: =IF($I67<L$17,ROUND(I$17*(0.4+3*$I67/K$17),3),IF($I67<=K$17,I$17,IF($I67<=2.5*K$17,J$17/$I67,0.4*I$17))) -> 0.72541644 | AB67: =ROUND(AA67/Z67,4) -> 0.3753 | AC67: =IF(AB67<=0.3,AB67,IF(AB67<0.8,ROUND(0.52*AB67+0.144,3),0.7*AB67)) -> 0.339 | AD67: =ROUND(B$13*AC67/1.4/B$14,3) -> 0.242 | AE67: =ROUND(IF($I67>=K$19,D$12,IF($I67>=M$19,D$13+(D$12-D$13)*($I67-0.6*K$19)/0.4/K$19,IF($I67<L$19,D$13+(D$13-1)*($I67-L$19)/L$19,D$13))),3) -> 1.933 | AF67: =IF($I67<L$19,ROUND(I$19*(0.4+3*$I67/K$19),3),IF($I67<=K$19,I$19,IF($I67<=2.5*K$19,J$19/$I67,0.4*I$19))) -> 0.72541644 | AG67: =ROUND(AF67/AE67,4) -> 0.3753 | AH67: =IF(AG67<=0.3,AG67,IF(AG67<0.8,ROUND(0.52*AG67+0.144,3),0.7*AG67)) -> 0.339 | AI67: =ROUND(B$13*AE67*AH67/4.2/B$14,3) -> 0.156 | AJ67: =ROUND(IF($I67>=K$21,B$12,IF($I67>=M$21,D$14+(B$12-D$14)*($I67-0.6*K$21)/0.4/K$21,IF($I67<L$21,D$14+(D$14-1)*($I67-L$21)/L$21,D$14))),3) -> 2.4 | AK67: =IF($I67<L$21,ROUND(I$21*(0.4+3*$I67/K$21),3),IF($I67<=K$21,I$21,IF($I67<=2.5*K$21,J$21/$I67,0.4*I$21))) -> 0.81273509 | AL67: =ROUND(AK67/AJ67,4) -> 0.3386 | AM67: =IF(AL67<=0.3,AL67,IF(AL67<0.8,ROUND(0.52*AL67+0.144,3),0.7*AL67)) -> 0.32 | AN67: =ROUND(B$13*AM67/1.4/B$14,3) -> 0.229 | AO67: =MAX(AN67,AI67,AD67) -> 0.242 | AP67: =ROUND(IF($I67>=AX$38,D$13,IF($I67<AX$39,D$13+(D$13-1)*($I67-AX$39)/AX$39,D$13)),3) -> 1.693 | AQ67: =1/8/I67^0.5 -> 0.14487946 | AR67: =IF(AQ67>0.15,0.15,IF(AQ67<0.0625,0.0625,AQ67)) -> 0.14487946 | AS67: =$Q$5*AS$41*$Q$15*$AR67*$AH$6 -> 0.27024729 | AT67: =$Q$5*AT$41*$Q$15*$AR67*$AH$6 -> 0.20319345 | AU67: =$Q$5*AU$41*$Q$15*$AR67*$AH$6 -> 0.16255476 | AV67: =$Q$5*AV$41*$Q$15*$AR67*$AH$6 -> 0.20319345 | AW67: =$AH$6*$Q$5*AW$41*$AR67*1.4*AW$40 -> 0.68272999 | AX67: =$AH$6*$Q$5*AX$41*$AR67*1.4*AX$40 -> 0.76238182 | AY67: =IF(I67>0.611,$T$12,IF(I67>0.406,AE$5+($T$12-AE$5)*(I67-0.406)/0.205,IF(I67>0.2,AE$5,IF(I67>0.03,AE$5+(AE$5-1)*(I67-0.2)/0.17,1)))) -> 1.7 | AZ67: =IF(I67<=S$17,1,IF(I67<T$17,X$17*I67+Y$17,IF(I67<U$17,Z$17,IF(I67<V$17,AA$17/I67^(AB$17),1)))) -> 2.191467 | BA67: =AZ67/AY67 -> 1.2890982 | BB67: =IF(BA67>1,1,BA67) -> 1 | BC67: =AZ67*T$5 -> 0.7231841 | BD67: =$T$5*$T$11*BB67/1.4/$T$6*$AH$6 -> 0.22039286 | BE67: =AZ67*AD$5 -> 0.7231841 | BF67: =$V$5*$V$11*BB67/1.4/$V$6*$AH$6 -> 0.22039286 | BG67: =AA67 -> 0.72541644 | BH67: =AK67 -> 0.81273509 | BI67: =AO67/1.5*$AH$6 -> 0.22627 | BJ67: =Y67/B$13*1.4 -> 0.441 | BK67: =I67 -> 0.7444 | BL67: =BJ67*U$39 -> 432.621
I68: =I67+0.05 -> 0.7944 | J68: =ROUND(IF($I68>=D$17,D$12,IF($I68>=F$17,D$13+(D$12-D$13)*($I68-0.6*D$17)/0.4/D$17,IF($I68<E$17,D$13+(D$13-1)*($I68-E$17)/E$17,D$13))),3) -> 1.879 | K68: =IF($I68<E$17,ROUND(B$17*(0.4+3*$I68/D$17),3),IF($I68<=D$17,B$17,IF($I68<=2.5*D$17,C$17/$I68,0.4*B$17))) -> 0.975 | L68: =ROUND(K68/J68,4) -> 0.5189 | M68: =IF(L68<=0.3,L68,IF(L68<0.8,ROUND(0.52*L68+0.144,3),0.7*L68)) -> 0.414 | N68: =ROUND(B$13*M68/1.4/B$14,3) -> 0.296 | O68: =ROUND(IF($I68>=D$19,D$12,IF($I68>=F$19,D$13+(D$12-D$13)*($I68-0.6*D$19)/0.4/D$19,IF($I68<E$19,D$13+(D$13-1)*($I68-E$19)/E$19,D$13))),3) -> 1.898 | P68: =IF($I68<E$19,ROUND(B$19*(0.4+3*$I68/D$19),3),IF($I68<=D$19,B$19,IF($I68<=2.5*D$19,C$19/$I68,0.4*B$19))) -> 0.8 | Q68: =ROUND(P68/O68,4) -> 0.4215 | R68: =IF(Q68<=0.3,Q68,IF(Q68<0.8,ROUND(0.52*Q68+0.144,3),0.7*Q68)) -> 0.363 | S68: =ROUND(B$13*O68*R68/4.2/B$14,3) -> 0.164 | T68: =ROUND(IF($I68>=D$21,B$12,IF($I68>=F$21,D$14+(B$12-D$14)*($I68-0.6*D$21)/0.4/D$21,IF($I68<E$21,D$14+(D$14-1)*($I68-E$21)/E$21,D$14))),3) -> 2.237 | U68: =IF($I68<E$21,ROUND(B$21*(0.4+3*$I68/D$21),3),IF($I68<=D$21,B$21,IF($I68<=2.5*D$21,C$21/$I68,0.4*B$21))) -> 1.24498 | V68: =ROUND(U68/T68,4) -> 0.5565 | W68: =IF(V68<=0.3,V68,IF(V68<0.8,ROUND(0.52*V68+0.144,3),0.7*V68)) -> 0.433 | X68: =ROUND(B$13*W68/1.4/B$14,3) -> 0.309 | Y68: =MAX(X68,S68,N68) -> 0.309 | Z68: =ROUND(IF($I68>=K$17,D$12,IF($I68>=M$17,D$13+(D$12-D$13)*($I68-0.6*K$17)/0.4/K$17,IF($I68<L$17,D$13+(D$13-1)*($I68-L$17)/L$17,D$13))),3) -> 1.933 | AA68: =IF($I68<L$17,ROUND(I$17*(0.4+3*$I68/K$17),3),IF($I68<=K$17,I$17,IF($I68<=2.5*K$17,J$17/$I68,0.4*I$17))) -> 0.67975831 | AB68: =ROUND(AA68/Z68,4) -> 0.3517 | AC68: =IF(AB68<=0.3,AB68,IF(AB68<0.8,ROUND(0.52*AB68+0.144,3),0.7*AB68)) -> 0.327 | AD68: =ROUND(B$13*AC68/1.4/B$14,3) -> 0.234 | AE68: =ROUND(IF($I68>=K$19,D$12,IF($I68>=M$19,D$13+(D$12-D$13)*($I68-0.6*K$19)/0.4/K$19,IF($I68<L$19,D$13+(D$13-1)*($I68-L$19)/L$19,D$13))),3) -> 1.933 | AF68: =IF($I68<L$19,ROUND(I$19*(0.4+3*$I68/K$19),3),IF($I68<=K$19,I$19,IF($I68<=2.5*K$19,J$19/$I68,0.4*I$19))) -> 0.67975831 | AG68: =ROUND(AF68/AE68,4) -> 0.3517 | AH68: =IF(AG68<=0.3,AG68,IF(AG68<0.8,ROUND(0.52*AG68+0.144,3),0.7*AG68)) -> 0.327 | AI68: =ROUND(B$13*AE68*AH68/4.2/B$14,3) -> 0.15 | AJ68: =ROUND(IF($I68>=K$21,B$12,IF($I68>=M$21,D$14+(B$12-D$14)*($I68-0.6*K$21)/0.4/K$21,IF($I68<L$21,D$14+(D$14-1)*($I68-L$21)/L$21,D$14))),3) -> 2.4 | AK68: =IF($I68<L$21,ROUND(I$21*(0.4+3*$I68/K$21),3),IF($I68<=K$21,I$21,IF($I68<=2.5*K$21,J$21/$I68,0.4*I$21))) -> 0.76158107 | AL68: =ROUND(AK68/AJ68,4) -> 0.3173 | AM68: =IF(AL68<=0.3,AL68,IF(AL68<0.8,ROUND(0.52*AL68+0.144,3),0.7*AL68)) -> 0.309 | AN68: =ROUND(B$13*AM68/1.4/B$14,3) -> 0.221 | AO68: =MAX(AN68,AI68,AD68) -> 0.234 | AP68: =ROUND(IF($I68>=AX$38,D$13,IF($I68<AX$39,D$13+(D$13-1)*($I68-AX$39)/AX$39,D$13)),3) -> 1.693 | AQ68: =1/8/I68^0.5 -> 0.14024597 | AR68: =IF(AQ68>0.15,0.15,IF(AQ68<0.0625,0.0625,AQ68)) -> 0.14024597 | AS68: =$Q$5*AS$41*$Q$15*$AR68*$AH$6 -> 0.26160432 | AT68: =$Q$5*AT$41*$Q$15*$AR68*$AH$6 -> 0.19669498 | AU68: =$Q$5*AU$41*$Q$15*$AR68*$AH$6 -> 0.15735598 | AV68: =$Q$5*AV$41*$Q$15*$AR68*$AH$6 -> 0.19669498 | AW68: =$AH$6*$Q$5*AW$41*$AR68*1.4*AW$40 -> 0.66089512 | AX68: =$AH$6*$Q$5*AX$41*$AR68*1.4*AX$40 -> 0.73799955 | AY68: =IF(I68>0.611,$T$12,IF(I68>0.406,AE$5+($T$12-AE$5)*(I68-0.406)/0.205,IF(I68>0.2,AE$5,IF(I68>0.03,AE$5+(AE$5-1)*(I68-0.2)/0.17,1)))) -> 1.7 | AZ68: =IF(I68<=S$17,1,IF(I68<T$17,X$17*I68+Y$17,IF(I68<U$17,Z$17,IF(I68<V$17,AA$17/I68^(AB$17),1)))) -> 2.0985195 | BA68: =AZ68/AY68 -> 1.2344233 | BB68: =IF(BA68>1,1,BA68) -> 1 | BC68: =AZ68*T$5 -> 0.69251144 | BD68: =$T$5*$T$11*BB68/1.4/$T$6*$AH$6 -> 0.22039286 | BE68: =AZ68*AD$5 -> 0.69251144 | BF68: =$V$5*$V$11*BB68/1.4/$V$6*$AH$6 -> 0.22039286 | BG68: =AA68 -> 0.67975831 | BH68: =AK68 -> 0.76158107 | BI68: =AO68/1.5*$AH$6 -> 0.21879 | BJ68: =Y68/B$13*1.4 -> 0.4326 | BK68: =I68 -> 0.7944 | BL68: =BJ68*U$39 -> 424.3806
I69: =I68+0.05 -> 0.8444 | J69: =ROUND(IF($I69>=D$17,D$12,IF($I69>=F$17,D$13+(D$12-D$13)*($I69-0.6*D$17)/0.4/D$17,IF($I69<E$17,D$13+(D$13-1)*($I69-E$17)/E$17,D$13))),3) -> 1.913 | K69: =IF($I69<E$17,ROUND(B$17*(0.4+3*$I69/D$17),3),IF($I69<=D$17,B$17,IF($I69<=2.5*D$17,C$17/$I69,0.4*B$17))) -> 0.975 | L69: =ROUND(K69/J69,4) -> 0.5097 | M69: =IF(L69<=0.3,L69,IF(L69<0.8,ROUND(0.52*L69+0.144,3),0.7*L69)) -> 0.409 | N69: =ROUND(B$13*M69/1.4/B$14,3) -> 0.292 | O69: =ROUND(IF($I69>=D$19,D$12,IF($I69>=F$19,D$13+(D$12-D$13)*($I69-0.6*D$19)/0.4/D$19,IF($I69<E$19,D$13+(D$13-1)*($I69-E$19)/E$19,D$13))),3) -> 1.933 | P69: =IF($I69<E$19,ROUND(B$19*(0.4+3*$I69/D$19),3),IF($I69<=D$19,B$19,IF($I69<=2.5*D$19,C$19/$I69,0.4*B$19))) -> 0.79938418 | Q69: =ROUND(P69/O69,4) -> 0.4135 | R69: =IF(Q69<=0.3,Q69,IF(Q69<0.8,ROUND(0.52*Q69+0.144,3),0.7*Q69)) -> 0.359 | S69: =ROUND(B$13*O69*R69/4.2/B$14,3) -> 0.165 | T69: =ROUND(IF($I69>=D$21,B$12,IF($I69>=F$21,D$14+(B$12-D$14)*($I69-0.6*D$21)/0.4/D$21,IF($I69<E$21,D$14+(D$14-1)*($I69-E$21)/E$21,D$14))),3) -> 2.297 | U69: =IF($I69<E$21,ROUND(B$21*(0.4+3*$I69/D$21),3),IF($I69<=D$21,B$21,IF($I69<=2.5*D$21,C$21/$I69,0.4*B$21))) -> 1.24498 | V69: =ROUND(U69/T69,4) -> 0.542 | W69: =IF(V69<=0.3,V69,IF(V69<0.8,ROUND(0.52*V69+0.144,3),0.7*V69)) -> 0.426 | X69: =ROUND(B$13*W69/1.4/B$14,3) -> 0.304 | Y69: =MAX(X69,S69,N69) -> 0.304 | Z69: =ROUND(IF($I69>=K$17,D$12,IF($I69>=M$17,D$13+(D$12-D$13)*($I69-0.6*K$17)/0.4/K$17,IF($I69<L$17,D$13+(D$13-1)*($I69-L$17)/L$17,D$13))),3) -> 1.933 | AA69: =IF($I69<L$17,ROUND(I$17*(0.4+3*$I69/K$17),3),IF($I69<=K$17,I$17,IF($I69<=2.5*K$17,J$17/$I69,0.4*I$17))) -> 0.63950734 | AB69: =ROUND(AA69/Z69,4) -> 0.3308 | AC69: =IF(AB69<=0.3,AB69,IF(AB69<0.8,ROUND(0.52*AB69+0.144,3),0.7*AB69)) -> 0.316 | AD69: =ROUND(B$13*AC69/1.4/B$14,3) -> 0.226 | AE69: =ROUND(IF($I69>=K$19,D$12,IF($I69>=M$19,D$13+(D$12-D$13)*($I69-0.6*K$19)/0.4/K$19,IF($I69<L$19,D$13+(D$13-1)*($I69-L$19)/L$19,D$13))),3) -> 1.933 | AF69: =IF($I69<L$19,ROUND(I$19*(0.4+3*$I69/K$19),3),IF($I69<=K$19,I$19,IF($I69<=2.5*K$19,J$19/$I69,0.4*I$19))) -> 0.63950734 | AG69: =ROUND(AF69/AE69,4) -> 0.3308 | AH69: =IF(AG69<=0.3,AG69,IF(AG69<0.8,ROUND(0.52*AG69+0.144,3),0.7*AG69)) -> 0.316 | AI69: =ROUND(B$13*AE69*AH69/4.2/B$14,3) -> 0.145 | AJ69: =ROUND(IF($I69>=K$21,B$12,IF($I69>=M$21,D$14+(B$12-D$14)*($I69-0.6*K$21)/0.4/K$21,IF($I69<L$21,D$14+(D$14-1)*($I69-L$21)/L$21,D$14))),3) -> 2.4 | AK69: =IF($I69<L$21,ROUND(I$21*(0.4+3*$I69/K$21),3),IF($I69<=K$21,I$21,IF($I69<=2.5*K$21,J$21/$I69,0.4*I$21))) -> 0.71648508 | AL69: =ROUND(AK69/AJ69,4) -> 0.2985 | AM69: =IF(AL69<=0.3,AL69,IF(AL69<0.8,ROUND(0.52*AL69+0.144,3),0.7*AL69)) -> 0.2985 | AN69: =ROUND(B$13*AM69/1.4/B$14,3) -> 0.213 | AO69: =MAX(AN69,AI69,AD69) -> 0.226 | AP69: =ROUND(IF($I69>=AX$38,D$13,IF($I69<AX$39,D$13+(D$13-1)*($I69-AX$39)/AX$39,D$13)),3) -> 1.693 | AQ69: =1/8/I69^0.5 -> 0.13603038 | AR69: =IF(AQ69>0.15,0.15,IF(AQ69<0.0625,0.0625,AQ69)) -> 0.13603038 | AS69: =$Q$5*AS$41*$Q$15*$AR69*$AH$6 -> 0.25374086 | AT69: =$Q$5*AT$41*$Q$15*$AR69*$AH$6 -> 0.1907826 | AU69: =$Q$5*AU$41*$Q$15*$AR69*$AH$6 -> 0.15262608 | AV69: =$Q$5*AV$41*$Q$15*$AR69*$AH$6 -> 0.1907826 | AW69: =$AH$6*$Q$5*AW$41*$AR69*1.4*AW$40 -> 0.64102955 | AX69: =$AH$6*$Q$5*AX$41*$AR69*1.4*AX$40 -> 0.71581633 | AY69: =IF(I69>0.611,$T$12,IF(I69>0.406,AE$5+($T$12-AE$5)*(I69-0.406)/0.205,IF(I69>0.2,AE$5,IF(I69>0.03,AE$5+(AE$5-1)*(I69-0.2)/0.17,1)))) -> 1.7 | AZ69: =IF(I69<=S$17,1,IF(I69<T$17,X$17*I69+Y$17,IF(I69<U$17,Z$17,IF(I69<V$17,AA$17/I69^(AB$17),1)))) -> 2.014839 | BA69: =AZ69/AY69 -> 1.1851994 | BB69: =IF(BA69>1,1,BA69) -> 1 | BC69: =AZ69*T$5 -> 0.66489688 | BD69: =$T$5*$T$11*BB69/1.4/$T$6*$AH$6 -> 0.22039286 | BE69: =AZ69*AD$5 -> 0.66489688 | BF69: =$V$5*$V$11*BB69/1.4/$V$6*$AH$6 -> 0.22039286 | BG69: =AA69 -> 0.63950734 | BH69: =AK69 -> 0.71648508 | BI69: =AO69/1.5*$AH$6 -> 0.21131 | BJ69: =Y69/B$13*1.4 -> 0.4256 | BK69: =I69 -> 0.8444 | BL69: =BJ69*U$39 -> 417.5136
I70: =I69+0.05 -> 0.8944 | J70: =ROUND(IF($I70>=D$17,D$12,IF($I70>=F$17,D$13+(D$12-D$13)*($I70-0.6*D$17)/0.4/D$17,IF($I70<E$17,D$13+(D$13-1)*($I70-E$17)/E$17,D$13))),3) -> 1.933 | K70: =IF($I70<E$17,ROUND(B$17*(0.4+3*$I70/D$17),3),IF($I70<=D$17,B$17,IF($I70<=2.5*D$17,C$17/$I70,0.4*B$17))) -> 0.95281753 | L70: =ROUND(K70/J70,4) -> 0.4929 | M70: =IF(L70<=0.3,L70,IF(L70<0.8,ROUND(0.52*L70+0.144,3),0.7*L70)) -> 0.4 | N70: =ROUND(B$13*M70/1.4/B$14,3) -> 0.286 | O70: =ROUND(IF($I70>=D$19,D$12,IF($I70>=F$19,D$13+(D$12-D$13)*($I70-0.6*D$19)/0.4/D$19,IF($I70<E$19,D$13+(D$13-1)*($I70-E$19)/E$19,D$13))),3) -> 1.933 | P70: =IF($I70<E$19,ROUND(B$19*(0.4+3*$I70/D$19),3),IF($I70<=D$19,B$19,IF($I70<=2.5*D$19,C$19/$I70,0.4*B$19))) -> 0.75469589 | Q70: =ROUND(P70/O70,4) -> 0.3904 | R70: =IF(Q70<=0.3,Q70,IF(Q70<0.8,ROUND(0.52*Q70+0.144,3),0.7*Q70)) -> 0.347 | S70: =ROUND(B$13*O70*R70/4.2/B$14,3) -> 0.16 | T70: =ROUND(IF($I70>=D$21,B$12,IF($I70>=F$21,D$14+(B$12-D$14)*($I70-0.6*D$21)/0.4/D$21,IF($I70<E$21,D$14+(D$14-1)*($I70-E$21)/E$21,D$14))),3) -> 2.358 | U70: =IF($I70<E$21,ROUND(B$21*(0.4+3*$I70/D$21),3),IF($I70<=D$21,B$21,IF($I70<=2.5*D$21,C$21/$I70,0.4*B$21))) -> 1.24498 | V70: =ROUND(U70/T70,4) -> 0.528 | W70: =IF(V70<=0.3,V70,IF(V70<0.8,ROUND(0.52*V70+0.144,3),0.7*V70)) -> 0.419 | X70: =ROUND(B$13*W70/1.4/B$14,3) -> 0.299 | Y70: =MAX(X70,S70,N70) -> 0.299 | Z70: =ROUND(IF($I70>=K$17,D$12,IF($I70>=M$17,D$13+(D$12-D$13)*($I70-0.6*K$17)/0.4/K$17,IF($I70<L$17,D$13+(D$13-1)*($I70-L$17)/L$17,D$13))),3) -> 1.933 | AA70: =IF($I70<L$17,ROUND(I$17*(0.4+3*$I70/K$17),3),IF($I70<=K$17,I$17,IF($I70<=2.5*K$17,J$17/$I70,0.4*I$17))) -> 0.60375671 | AB70: =ROUND(AA70/Z70,4) -> 0.3123 | AC70: =IF(AB70<=0.3,AB70,IF(AB70<0.8,ROUND(0.52*AB70+0.144,3),0.7*AB70)) -> 0.306 | AD70: =ROUND(B$13*AC70/1.4/B$14,3) -> 0.219 | AE70: =ROUND(IF($I70>=K$19,D$12,IF($I70>=M$19,D$13+(D$12-D$13)*($I70-0.6*K$19)/0.4/K$19,IF($I70<L$19,D$13+(D$13-1)*($I70-L$19)/L$19,D$13))),3) -> 1.933 | AF70: =IF($I70<L$19,ROUND(I$19*(0.4+3*$I70/K$19),3),IF($I70<=K$19,I$19,IF($I70<=2.5*K$19,J$19/$I70,0.4*I$19))) -> 0.60375671 | AG70: =ROUND(AF70/AE70,4) -> 0.3123 | AH70: =IF(AG70<=0.3,AG70,IF(AG70<0.8,ROUND(0.52*AG70+0.144,3),0.7*AG70)) -> 0.306 | AI70: =ROUND(B$13*AE70*AH70/4.2/B$14,3) -> 0.141 | AJ70: =ROUND(IF($I70>=K$21,B$12,IF($I70>=M$21,D$14+(B$12-D$14)*($I70-0.6*K$21)/0.4/K$21,IF($I70<L$21,D$14+(D$14-1)*($I70-L$21)/L$21,D$14))),3) -> 2.4 | AK70: =IF($I70<L$21,ROUND(I$21*(0.4+3*$I70/K$21),3),IF($I70<=K$21,I$21,IF($I70<=2.5*K$21,J$21/$I70,0.4*I$21))) -> 0.67643113 | AL70: =ROUND(AK70/AJ70,4) -> 0.2818 | AM70: =IF(AL70<=0.3,AL70,IF(AL70<0.8,ROUND(0.52*AL70+0.144,3),0.7*AL70)) -> 0.2818 | AN70: =ROUND(B$13*AM70/1.4/B$14,3) -> 0.201 | AO70: =MAX(AN70,AI70,AD70) -> 0.219 | AP70: =ROUND(IF($I70>=AX$38,D$13,IF($I70<AX$39,D$13+(D$13-1)*($I70-AX$39)/AX$39,D$13)),3) -> 1.693 | AQ70: =1/8/I70^0.5 -> 0.13217342 | AR70: =IF(AQ70>0.15,0.15,IF(AQ70<0.0625,0.0625,AQ70)) -> 0.13217342 | AS70: =$Q$5*AS$41*$Q$15*$AR70*$AH$6 -> 0.24654638 | AT70: =$Q$5*AT$41*$Q$15*$AR70*$AH$6 -> 0.18537322 | AU70: =$Q$5*AU$41*$Q$15*$AR70*$AH$6 -> 0.14829857 | AV70: =$Q$5*AV$41*$Q$15*$AR70*$AH$6 -> 0.18537322 | AW70: =$AH$6*$Q$5*AW$41*$AR70*1.4*AW$40 -> 0.62285401 | AX70: =$AH$6*$Q$5*AX$41*$AR70*1.4*AX$40 -> 0.69552031 | AY70: =IF(I70>0.611,$T$12,IF(I70>0.406,AE$5+($T$12-AE$5)*(I70-0.406)/0.205,IF(I70>0.2,AE$5,IF(I70>0.03,AE$5+(AE$5-1)*(I70-0.2)/0.17,1)))) -> 1.7 | AZ70: =IF(I70<=S$17,1,IF(I70<T$17,X$17*I70+Y$17,IF(I70<U$17,Z$17,IF(I70<V$17,AA$17/I70^(AB$17),1)))) -> 1.9390305 | BA70: =AZ70/AY70 -> 1.1406062 | BB70: =IF(BA70>1,1,BA70) -> 1 | BC70: =AZ70*T$5 -> 0.63988007 | BD70: =$T$5*$T$11*BB70/1.4/$T$6*$AH$6 -> 0.22039286 | BE70: =AZ70*AD$5 -> 0.63988007 | BF70: =$V$5*$V$11*BB70/1.4/$V$6*$AH$6 -> 0.22039286 | BG70: =AA70 -> 0.60375671 | BH70: =AK70 -> 0.67643113 | BI70: =AO70/1.5*$AH$6 -> 0.204765 | BJ70: =Y70/B$13*1.4 -> 0.4186 | BK70: =I70 -> 0.8944 | BL70: =BJ70*U$39 -> 410.6466
I71: =I70+0.05 -> 0.9444 | J71: =ROUND(IF($I71>=D$17,D$12,IF($I71>=F$17,D$13+(D$12-D$13)*($I71-0.6*D$17)/0.4/D$17,IF($I71<E$17,D$13+(D$13-1)*($I71-E$17)/E$17,D$13))),3) -> 1.933 | K71: =IF($I71<E$17,ROUND(B$17*(0.4+3*$I71/D$17),3),IF($I71<=D$17,B$17,IF($I71<=2.5*D$17,C$17/$I71,0.4*B$17))) -> 0.90237188 | L71: =ROUND(K71/J71,4) -> 0.4668 | M71: =IF(L71<=0.3,L71,IF(L71<0.8,ROUND(0.52*L71+0.144,3),0.7*L71)) -> 0.387 | N71: =ROUND(B$13*M71/1.4/B$14,3) -> 0.276 | O71: =ROUND(IF($I71>=D$19,D$12,IF($I71>=F$19,D$13+(D$12-D$13)*($I71-0.6*D$19)/0.4/D$19,IF($I71<E$19,D$13+(D$13-1)*($I71-E$19)/E$19,D$13))),3) -> 1.933 | P71: =IF($I71<E$19,ROUND(B$19*(0.4+3*$I71/D$19),3),IF($I71<=D$19,B$19,IF($I71<=2.5*D$19,C$19/$I71,0.4*B$19))) -> 0.71473952 | Q71: =ROUND(P71/O71,4) -> 0.3698 | R71: =IF(Q71<=0.3,Q71,IF(Q71<0.8,ROUND(0.52*Q71+0.144,3),0.7*Q71)) -> 0.336 | S71: =ROUND(B$13*O71*R71/4.2/B$14,3) -> 0.155 | T71: =ROUND(IF($I71>=D$21,B$12,IF($I71>=F$21,D$14+(B$12-D$14)*($I71-0.6*D$21)/0.4/D$21,IF($I71<E$21,D$14+(D$14-1)*($I71-E$21)/E$21,D$14))),3) -> 2.4 | U71: =IF($I71<E$21,ROUND(B$21*(0.4+3*$I71/D$21),3),IF($I71<=D$21,B$21,IF($I71<=2.5*D$21,C$21/$I71,0.4*B$21))) -> 1.2248295 | V71: =ROUND(U71/T71,4) -> 0.5103 | W71: =IF(V71<=0.3,V71,IF(V71<0.8,ROUND(0.52*V71+0.144,3),0.7*V71)) -> 0.409 | X71: =ROUND(B$13*W71/1.4/B$14,3) -> 0.292 | Y71: =MAX(X71,S71,N71) -> 0.292 | Z71: =ROUND(IF($I71>=K$17,D$12,IF($I71>=M$17,D$13+(D$12-D$13)*($I71-0.6*K$17)/0.4/K$17,IF($I71<L$17,D$13+(D$13-1)*($I71-L$17)/L$17,D$13))),3) -> 1.933 | AA71: =IF($I71<L$17,ROUND(I$17*(0.4+3*$I71/K$17),3),IF($I71<=K$17,I$17,IF($I71<=2.5*K$17,J$17/$I71,0.4*I$17))) -> 0.57179161 | AB71: =ROUND(AA71/Z71,4) -> 0.2958 | AC71: =IF(AB71<=0.3,AB71,IF(AB71<0.8,ROUND(0.52*AB71+0.144,3),0.7*AB71)) -> 0.2958 | AD71: =ROUND(B$13*AC71/1.4/B$14,3) -> 0.211 | AE71: =ROUND(IF($I71>=K$19,D$12,IF($I71>=M$19,D$13+(D$12-D$13)*($I71-0.6*K$19)/0.4/K$19,IF($I71<L$19,D$13+(D$13-1)*($I71-L$19)/L$19,D$13))),3) -> 1.933 | AF71: =IF($I71<L$19,ROUND(I$19*(0.4+3*$I71/K$19),3),IF($I71<=K$19,I$19,IF($I71<=2.5*K$19,J$19/$I71,0.4*I$19))) -> 0.57179161 | AG71: =ROUND(AF71/AE71,4) -> 0.2958 | AH71: =IF(AG71<=0.3,AG71,IF(AG71<0.8,ROUND(0.52*AG71+0.144,3),0.7*AG71)) -> 0.2958 | AI71: =ROUND(B$13*AE71*AH71/4.2/B$14,3) -> 0.136 | AJ71: =ROUND(IF($I71>=K$21,B$12,IF($I71>=M$21,D$14+(B$12-D$14)*($I71-0.6*K$21)/0.4/K$21,IF($I71<L$21,D$14+(D$14-1)*($I71-L$21)/L$21,D$14))),3) -> 2.4 | AK71: =IF($I71<L$21,ROUND(I$21*(0.4+3*$I71/K$21),3),IF($I71<=K$21,I$21,IF($I71<=2.5*K$21,J$21/$I71,0.4*I$21))) -> 0.64061838 | AL71: =ROUND(AK71/AJ71,4) -> 0.2669 | AM71: =IF(AL71<=0.3,AL71,IF(AL71<0.8,ROUND(0.52*AL71+0.144,3),0.7*AL71)) -> 0.2669 | AN71: =ROUND(B$13*AM71/1.4/B$14,3) -> 0.191 | AO71: =MAX(AN71,AI71,AD71) -> 0.211 | AP71: =ROUND(IF($I71>=AX$38,D$13,IF($I71<AX$39,D$13+(D$13-1)*($I71-AX$39)/AX$39,D$13)),3) -> 1.693 | AQ71: =1/8/I71^0.5 -> 0.12862697 | AR71: =IF(AQ71>0.15,0.15,IF(AQ71<0.0625,0.0625,AQ71)) -> 0.12862697 | AS71: =$Q$5*AS$41*$Q$15*$AR71*$AH$6 -> 0.23993109 | AT71: =$Q$5*AT$41*$Q$15*$AR71*$AH$6 -> 0.18039932 | AU71: =$Q$5*AU$41*$Q$15*$AR71*$AH$6 -> 0.14431946 | AV71: =$Q$5*AV$41*$Q$15*$AR71*$AH$6 -> 0.18039932 | AW71: =$AH$6*$Q$5*AW$41*$AR71*1.4*AW$40 -> 0.60614171 | AX71: =$AH$6*$Q$5*AX$41*$AR71*1.4*AX$40 -> 0.67685824 | AY71: =IF(I71>0.611,$T$12,IF(I71>0.406,AE$5+($T$12-AE$5)*(I71-0.406)/0.205,IF(I71>0.2,AE$5,IF(I71>0.03,AE$5+(AE$5-1)*(I71-0.2)/0.17,1)))) -> 1.7 | AZ71: =IF(I71<=S$17,1,IF(I71<T$17,X$17*I71+Y$17,IF(I71<U$17,Z$17,IF(I71<V$17,AA$17/I71^(AB$17),1)))) -> 1.8699724 | BA71: =AZ71/AY71 -> 1.0999837 | BB71: =IF(BA71>1,1,BA71) -> 1 | BC71: =AZ71*T$5 -> 0.61709088 | BD71: =$T$5*$T$11*BB71/1.4/$T$6*$AH$6 -> 0.22039286 | BE71: =AZ71*AD$5 -> 0.61709088 | BF71: =$V$5*$V$11*BB71/1.4/$V$6*$AH$6 -> 0.22039286 | BG71: =AA71 -> 0.57179161 | BH71: =AK71 -> 0.64061838 | BI71: =AO71/1.5*$AH$6 -> 0.197285 | BJ71: =Y71/B$13*1.4 -> 0.4088 | BK71: =I71 -> 0.9444 | BL71: =BJ71*U$39 -> 401.0328
I72: =I71+0.05 -> 0.9944 | J72: =ROUND(IF($I72>=D$17,D$12,IF($I72>=F$17,D$13+(D$12-D$13)*($I72-0.6*D$17)/0.4/D$17,IF($I72<E$17,D$13+(D$13-1)*($I72-E$17)/E$17,D$13))),3) -> 1.933 | K72: =IF($I72<E$17,ROUND(B$17*(0.4+3*$I72/D$17),3),IF($I72<=D$17,B$17,IF($I72<=2.5*D$17,C$17/$I72,0.4*B$17))) -> 0.8569992 | L72: =ROUND(K72/J72,4) -> 0.4434 | M72: =IF(L72<=0.3,L72,IF(L72<0.8,ROUND(0.52*L72+0.144,3),0.7*L72)) -> 0.375 | N72: =ROUND(B$13*M72/1.4/B$14,3) -> 0.268 | O72: =ROUND(IF($I72>=D$19,D$12,IF($I72>=F$19,D$13+(D$12-D$13)*($I72-0.6*D$19)/0.4/D$19,IF($I72<E$19,D$13+(D$13-1)*($I72-E$19)/E$19,D$13))),3) -> 1.933 | P72: =IF($I72<E$19,ROUND(B$19*(0.4+3*$I72/D$19),3),IF($I72<=D$19,B$19,IF($I72<=2.5*D$19,C$19/$I72,0.4*B$19))) -> 0.67880129 | Q72: =ROUND(P72/O72,4) -> 0.3512 | R72: =IF(Q72<=0.3,Q72,IF(Q72<0.8,ROUND(0.52*Q72+0.144,3),0.7*Q72)) -> 0.327 | S72: =ROUND(B$13*O72*R72/4.2/B$14,3) -> 0.15 | T72: =ROUND(IF($I72>=D$21,B$12,IF($I72>=F$21,D$14+(B$12-D$14)*($I72-0.6*D$21)/0.4/D$21,IF($I72<E$21,D$14+(D$14-1)*($I72-E$21)/E$21,D$14))),3) -> 2.4 | U72: =IF($I72<E$21,ROUND(B$21*(0.4+3*$I72/D$21),3),IF($I72<=D$21,B$21,IF($I72<=2.5*D$21,C$21/$I72,0.4*B$21))) -> 1.1632432 | V72: =ROUND(U72/T72,4) -> 0.4847 | W72: =IF(V72<=0.3,V72,IF(V72<0.8,ROUND(0.52*V72+0.144,3),0.7*V72)) -> 0.396 | X72: =ROUND(B$13*W72/1.4/B$14,3) -> 0.283 | Y72: =MAX(X72,S72,N72) -> 0.283 | Z72: =ROUND(IF($I72>=K$17,D$12,IF($I72>=M$17,D$13+(D$12-D$13)*($I72-0.6*K$17)/0.4/K$17,IF($I72<L$17,D$13+(D$13-1)*($I72-L$17)/L$17,D$13))),3) -> 1.933 | AA72: =IF($I72<L$17,ROUND(I$17*(0.4+3*$I72/K$17),3),IF($I72<=K$17,I$17,IF($I72<=2.5*K$17,J$17/$I72,0.4*I$17))) -> 0.54304103 | AB72: =ROUND(AA72/Z72,4) -> 0.2809 | AC72: =IF(AB72<=0.3,AB72,IF(AB72<0.8,ROUND(0.52*AB72+0.144,3),0.7*AB72)) -> 0.2809 | AD72: =ROUND(B$13*AC72/1.4/B$14,3) -> 0.201 | AE72: =ROUND(IF($I72>=K$19,D$12,IF($I72>=M$19,D$13+(D$12-D$13)*($I72-0.6*K$19)/0.4/K$19,IF($I72<L$19,D$13+(D$13-1)*($I72-L$19)/L$19,D$13))),3) -> 1.933 | AF72: =IF($I72<L$19,ROUND(I$19*(0.4+3*$I72/K$19),3),IF($I72<=K$19,I$19,IF($I72<=2.5*K$19,J$19/$I72,0.4*I$19))) -> 0.54304103 | AG72: =ROUND(AF72/AE72,4) -> 0.2809 | AH72: =IF(AG72<=0.3,AG72,IF(AG72<0.8,ROUND(0.52*AG72+0.144,3),0.7*AG72)) -> 0.2809 | AI72: =ROUND(B$13*AE72*AH72/4.2/B$14,3) -> 0.129 | AJ72: =ROUND(IF($I72>=K$21,B$12,IF($I72>=M$21,D$14+(B$12-D$14)*($I72-0.6*K$21)/0.4/K$21,IF($I72<L$21,D$14+(D$14-1)*($I72-L$21)/L$21,D$14))),3) -> 2.4 | AK72: =IF($I72<L$21,ROUND(I$21*(0.4+3*$I72/K$21),3),IF($I72<=K$21,I$21,IF($I72<=2.5*K$21,J$21/$I72,0.4*I$21))) -> 0.60840708 | AL72: =ROUND(AK72/AJ72,4) -> 0.2535 | AM72: =IF(AL72<=0.3,AL72,IF(AL72<0.8,ROUND(0.52*AL72+0.144,3),0.7*AL72)) -> 0.2535 | AN72: =ROUND(B$13*AM72/1.4/B$14,3) -> 0.181 | AO72: =MAX(AN72,AI72,AD72) -> 0.201 | AP72: =ROUND(IF($I72>=AX$38,D$13,IF($I72<AX$39,D$13+(D$13-1)*($I72-AX$39)/AX$39,D$13)),3) -> 1.693 | AQ72: =1/8/I72^0.5 -> 0.12535148 | AR72: =IF(AQ72>0.15,0.15,IF(AQ72<0.0625,0.0625,AQ72)) -> 0.12535148 | AS72: =$Q$5*AS$41*$Q$15*$AR72*$AH$6 -> 0.23382124 | AT72: =$Q$5*AT$41*$Q$15*$AR72*$AH$6 -> 0.17580545 | AU72: =$Q$5*AU$41*$Q$15*$AR72*$AH$6 -> 0.14064436 | AV72: =$Q$5*AV$41*$Q$15*$AR72*$AH$6 -> 0.17580545 | AW72: =$AH$6*$Q$5*AW$41*$AR72*1.4*AW$40 -> 0.5907063 | AX72: =$AH$6*$Q$5*AX$41*$AR72*1.4*AX$40 -> 0.65962203 | AY72: =IF(I72>0.611,$T$12,IF(I72>0.406,AE$5+($T$12-AE$5)*(I72-0.406)/0.205,IF(I72>0.2,AE$5,IF(I72>0.03,AE$5+(AE$5-1)*(I72-0.2)/0.17,1)))) -> 1.7 | AZ72: =IF(I72<=S$17,1,IF(I72<T$17,X$17*I72+Y$17,IF(I72<U$17,Z$17,IF(I72<V$17,AA$17/I72^(AB$17),1)))) -> 1.8067515 | BA72: =AZ72/AY72 -> 1.062795 | BB72: =IF(BA72>1,1,BA72) -> 1 | BC72: =AZ72*T$5 -> 0.596228 | BD72: =$T$5*$T$11*BB72/1.4/$T$6*$AH$6 -> 0.22039286 | BE72: =AZ72*AD$5 -> 0.596228 | BF72: =$V$5*$V$11*BB72/1.4/$V$6*$AH$6 -> 0.22039286 | BG72: =AA72 -> 0.54304103 | BH72: =AK72 -> 0.60840708 | BI72: =AO72/1.5*$AH$6 -> 0.187935 | BJ72: =Y72/B$13*1.4 -> 0.3962 | BK72: =I72 -> 0.9944 | BL72: =BJ72*U$39 -> 388.6722
I73: =I72+0.05 -> 1.0444 | J73: =ROUND(IF($I73>=D$17,D$12,IF($I73>=F$17,D$13+(D$12-D$13)*($I73-0.6*D$17)/0.4/D$17,IF($I73<E$17,D$13+(D$13-1)*($I73-E$17)/E$17,D$13))),3) -> 1.933 | K73: =IF($I73<E$17,ROUND(B$17*(0.4+3*$I73/D$17),3),IF($I73<=D$17,B$17,IF($I73<=2.5*D$17,C$17/$I73,0.4*B$17))) -> 0.81597089 | L73: =ROUND(K73/J73,4) -> 0.4221 | M73: =IF(L73<=0.3,L73,IF(L73<0.8,ROUND(0.52*L73+0.144,3),0.7*L73)) -> 0.363 | N73: =ROUND(B$13*M73/1.4/B$14,3) -> 0.259 | O73: =ROUND(IF($I73>=D$19,D$12,IF($I73>=F$19,D$13+(D$12-D$13)*($I73-0.6*D$19)/0.4/D$19,IF($I73<E$19,D$13+(D$13-1)*($I73-E$19)/E$19,D$13))),3) -> 1.933 | P73: =IF($I73<E$19,ROUND(B$19*(0.4+3*$I73/D$19),3),IF($I73<=D$19,B$19,IF($I73<=2.5*D$19,C$19/$I73,0.4*B$19))) -> 0.6463041 | Q73: =ROUND(P73/O73,4) -> 0.3344 | R73: =IF(Q73<=0.3,Q73,IF(Q73<0.8,ROUND(0.52*Q73+0.144,3),0.7*Q73)) -> 0.318 | S73: =ROUND(B$13*O73*R73/4.2/B$14,3) -> 0.146 | T73: =ROUND(IF($I73>=D$21,B$12,IF($I73>=F$21,D$14+(B$12-D$14)*($I73-0.6*D$21)/0.4/D$21,IF($I73<E$21,D$14+(D$14-1)*($I73-E$21)/E$21,D$14))),3) -> 2.4 | U73: =IF($I73<E$21,ROUND(B$21*(0.4+3*$I73/D$21),3),IF($I73<=D$21,B$21,IF($I73<=2.5*D$21,C$21/$I73,0.4*B$21))) -> 1.1075536 | V73: =ROUND(U73/T73,4) -> 0.4615 | W73: =IF(V73<=0.3,V73,IF(V73<0.8,ROUND(0.52*V73+0.144,3),0.7*V73)) -> 0.384 | X73: =ROUND(B$13*W73/1.4/B$14,3) -> 0.274 | Y73: =MAX(X73,S73,N73) -> 0.274 | Z73: =ROUND(IF($I73>=K$17,D$12,IF($I73>=M$17,D$13+(D$12-D$13)*($I73-0.6*K$17)/0.4/K$17,IF($I73<L$17,D$13+(D$13-1)*($I73-L$17)/L$17,D$13))),3) -> 1.933 | AA73: =IF($I73<L$17,ROUND(I$17*(0.4+3*$I73/K$17),3),IF($I73<=K$17,I$17,IF($I73<=2.5*K$17,J$17/$I73,0.4*I$17))) -> 0.51704328 | AB73: =ROUND(AA73/Z73,4) -> 0.2675 | AC73: =IF(AB73<=0.3,AB73,IF(AB73<0.8,ROUND(0.52*AB73+0.144,3),0.7*AB73)) -> 0.2675 | AD73: =ROUND(B$13*AC73/1.4/B$14,3) -> 0.191 | AE73: =ROUND(IF($I73>=K$19,D$12,IF($I73>=M$19,D$13+(D$12-D$13)*($I73-0.6*K$19)/0.4/K$19,IF($I73<L$19,D$13+(D$13-1)*($I73-L$19)/L$19,D$13))),3) -> 1.933 | AF73: =IF($I73<L$19,ROUND(I$19*(0.4+3*$I73/K$19),3),IF($I73<=K$19,I$19,IF($I73<=2.5*K$19,J$19/$I73,0.4*I$19))) -> 0.51704328 | AG73: =ROUND(AF73/AE73,4) -> 0.2675 | AH73: =IF(AG73<=0.3,AG73,IF(AG73<0.8,ROUND(0.52*AG73+0.144,3),0.7*AG73)) -> 0.2675 | AI73: =ROUND(B$13*AE73*AH73/4.2/B$14,3) -> 0.123 | AJ73: =ROUND(IF($I73>=K$21,B$12,IF($I73>=M$21,D$14+(B$12-D$14)*($I73-0.6*K$21)/0.4/K$21,IF($I73<L$21,D$14+(D$14-1)*($I73-L$21)/L$21,D$14))),3) -> 2.4 | AK73: =IF($I73<L$21,ROUND(I$21*(0.4+3*$I73/K$21),3),IF($I73<=K$21,I$21,IF($I73<=2.5*K$21,J$21/$I73,0.4*I$21))) -> 0.57927997 | AL73: =ROUND(AK73/AJ73,4) -> 0.2414 | AM73: =IF(AL73<=0.3,AL73,IF(AL73<0.8,ROUND(0.52*AL73+0.144,3),0.7*AL73)) -> 0.2414 | AN73: =ROUND(B$13*AM73/1.4/B$14,3) -> 0.172 | AO73: =MAX(AN73,AI73,AD73) -> 0.191 | AP73: =ROUND(IF($I73>=AX$38,D$13,IF($I73<AX$39,D$13+(D$13-1)*($I73-AX$39)/AX$39,D$13)),3) -> 1.693 | AQ73: =1/8/I73^0.5 -> 0.12231412 | AR73: =IF(AQ73>0.15,0.15,IF(AQ73<0.0625,0.0625,AQ73)) -> 0.12231412 | AS73: =$Q$5*AS$41*$Q$15*$AR73*$AH$6 -> 0.22815558 | AT73: =$Q$5*AT$41*$Q$15*$AR73*$AH$6 -> 0.17154555 | AU73: =$Q$5*AU$41*$Q$15*$AR73*$AH$6 -> 0.13723644 | AV73: =$Q$5*AV$41*$Q$15*$AR73*$AH$6 -> 0.17154555 | AW73: =$AH$6*$Q$5*AW$41*$AR73*1.4*AW$40 -> 0.57639304 | AX73: =$AH$6*$Q$5*AX$41*$AR73*1.4*AX$40 -> 0.6436389 | AY73: =IF(I73>0.611,$T$12,IF(I73>0.406,AE$5+($T$12-AE$5)*(I73-0.406)/0.205,IF(I73>0.2,AE$5,IF(I73>0.03,AE$5+(AE$5-1)*(I73-0.2)/0.17,1)))) -> 1.7 | AZ73: =IF(I73<=S$17,1,IF(I73<T$17,X$17*I73+Y$17,IF(I73<U$17,Z$17,IF(I73<V$17,AA$17/I73^(AB$17),1)))) -> 1.7486166 | BA73: =AZ73/AY73 -> 1.028598 | BB73: =IF(BA73>1,1,BA73) -> 1 | BC73: =AZ73*T$5 -> 0.57704348 | BD73: =$T$5*$T$11*BB73/1.4/$T$6*$AH$6 -> 0.22039286 | BE73: =AZ73*AD$5 -> 0.57704348 | BF73: =$V$5*$V$11*BB73/1.4/$V$6*$AH$6 -> 0.22039286 | BG73: =AA73 -> 0.51704328 | BH73: =AK73 -> 0.57927997 | BI73: =AO73/1.5*$AH$6 -> 0.178585 | BJ73: =Y73/B$13*1.4 -> 0.3836 | BK73: =I73 -> 1.0444 | BL73: =BJ73*U$39 -> 376.3116
I74: =I73+0.05 -> 1.0944 | J74: =ROUND(IF($I74>=D$17,D$12,IF($I74>=F$17,D$13+(D$12-D$13)*($I74-0.6*D$17)/0.4/D$17,IF($I74<E$17,D$13+(D$13-1)*($I74-E$17)/E$17,D$13))),3) -> 1.933 | K74: =IF($I74<E$17,ROUND(B$17*(0.4+3*$I74/D$17),3),IF($I74<=D$17,B$17,IF($I74<=2.5*D$17,C$17/$I74,0.4*B$17))) -> 0.77869152 | L74: =ROUND(K74/J74,4) -> 0.4028 | M74: =IF(L74<=0.3,L74,IF(L74<0.8,ROUND(0.52*L74+0.144,3),0.7*L74)) -> 0.353 | N74: =ROUND(B$13*M74/1.4/B$14,3) -> 0.252 | O74: =ROUND(IF($I74>=D$19,D$12,IF($I74>=F$19,D$13+(D$12-D$13)*($I74-0.6*D$19)/0.4/D$19,IF($I74<E$19,D$13+(D$13-1)*($I74-E$19)/E$19,D$13))),3) -> 1.933 | P74: =IF($I74<E$19,ROUND(B$19*(0.4+3*$I74/D$19),3),IF($I74<=D$19,B$19,IF($I74<=2.5*D$19,C$19/$I74,0.4*B$19))) -> 0.61677632 | Q74: =ROUND(P74/O74,4) -> 0.3191 | R74: =IF(Q74<=0.3,Q74,IF(Q74<0.8,ROUND(0.52*Q74+0.144,3),0.7*Q74)) -> 0.31 | S74: =ROUND(B$13*O74*R74/4.2/B$14,3) -> 0.143 | T74: =ROUND(IF($I74>=D$21,B$12,IF($I74>=F$21,D$14+(B$12-D$14)*($I74-0.6*D$21)/0.4/D$21,IF($I74<E$21,D$14+(D$14-1)*($I74-E$21)/E$21,D$14))),3) -> 2.4 | U74: =IF($I74<E$21,ROUND(B$21*(0.4+3*$I74/D$21),3),IF($I74<=D$21,B$21,IF($I74<=2.5*D$21,C$21/$I74,0.4*B$21))) -> 1.0569527 | V74: =ROUND(U74/T74,4) -> 0.4404 | W74: =IF(V74<=0.3,V74,IF(V74<0.8,ROUND(0.52*V74+0.144,3),0.7*V74)) -> 0.373 | X74: =ROUND(B$13*W74/1.4/B$14,3) -> 0.266 | Y74: =MAX(X74,S74,N74) -> 0.266 | Z74: =ROUND(IF($I74>=K$17,D$12,IF($I74>=M$17,D$13+(D$12-D$13)*($I74-0.6*K$17)/0.4/K$17,IF($I74<L$17,D$13+(D$13-1)*($I74-L$17)/L$17,D$13))),3) -> 1.933 | AA74: =IF($I74<L$17,ROUND(I$17*(0.4+3*$I74/K$17),3),IF($I74<=K$17,I$17,IF($I74<=2.5*K$17,J$17/$I74,0.4*I$17))) -> 0.49342105 | AB74: =ROUND(AA74/Z74,4) -> 0.2553 | AC74: =IF(AB74<=0.3,AB74,IF(AB74<0.8,ROUND(0.52*AB74+0.144,3),0.7*AB74)) -> 0.2553 | AD74: =ROUND(B$13*AC74/1.4/B$14,3) -> 0.182 | AE74: =ROUND(IF($I74>=K$19,D$12,IF($I74>=M$19,D$13+(D$12-D$13)*($I74-0.6*K$19)/0.4/K$19,IF($I74<L$19,D$13+(D$13-1)*($I74-L$19)/L$19,D$13))),3) -> 1.933 | AF74: =IF($I74<L$19,ROUND(I$19*(0.4+3*$I74/K$19),3),IF($I74<=K$19,I$19,IF($I74<=2.5*K$19,J$19/$I74,0.4*I$19))) -> 0.49342105 | AG74: =ROUND(AF74/AE74,4) -> 0.2553 | AH74: =IF(AG74<=0.3,AG74,IF(AG74<0.8,ROUND(0.52*AG74+0.144,3),0.7*AG74)) -> 0.2553 | AI74: =ROUND(B$13*AE74*AH74/4.2/B$14,3) -> 0.117 | AJ74: =ROUND(IF($I74>=K$21,B$12,IF($I74>=M$21,D$14+(B$12-D$14)*($I74-0.6*K$21)/0.4/K$21,IF($I74<L$21,D$14+(D$14-1)*($I74-L$21)/L$21,D$14))),3) -> 2.4 | AK74: =IF($I74<L$21,ROUND(I$21*(0.4+3*$I74/K$21),3),IF($I74<=K$21,I$21,IF($I74<=2.5*K$21,J$21/$I74,0.4*I$21))) -> 0.55281433 | AL74: =ROUND(AK74/AJ74,4) -> 0.2303 | AM74: =IF(AL74<=0.3,AL74,IF(AL74<0.8,ROUND(0.52*AL74+0.144,3),0.7*AL74)) -> 0.2303 | AN74: =ROUND(B$13*AM74/1.4/B$14,3) -> 0.165 | AO74: =MAX(AN74,AI74,AD74) -> 0.182 | AP74: =ROUND(IF($I74>=AX$38,D$13,IF($I74<AX$39,D$13+(D$13-1)*($I74-AX$39)/AX$39,D$13)),3) -> 1.693 | AQ74: =1/8/I74^0.5 -> 0.11948736 | AR74: =IF(AQ74>0.15,0.15,IF(AQ74<0.0625,0.0625,AQ74)) -> 0.11948736 | AS74: =$Q$5*AS$41*$Q$15*$AR74*$AH$6 -> 0.22288276 | AT74: =$Q$5*AT$41*$Q$15*$AR74*$AH$6 -> 0.16758102 | AU74: =$Q$5*AU$41*$Q$15*$AR74*$AH$6 -> 0.13406482 | AV74: =$Q$5*AV$41*$Q$15*$AR74*$AH$6 -> 0.16758102 | AW74: =$AH$6*$Q$5*AW$41*$AR74*1.4*AW$40 -> 0.56307224 | AX74: =$AH$6*$Q$5*AX$41*$AR74*1.4*AX$40 -> 0.628764 | AY74: =IF(I74>0.611,$T$12,IF(I74>0.406,AE$5+($T$12-AE$5)*(I74-0.406)/0.205,IF(I74>0.2,AE$5,IF(I74>0.03,AE$5+(AE$5-1)*(I74-0.2)/0.17,1)))) -> 1.7 | AZ74: =IF(I74<=S$17,1,IF(I74<T$17,X$17*I74+Y$17,IF(I74<U$17,Z$17,IF(I74<V$17,AA$17/I74^(AB$17),1)))) -> 1.6949431 | BA74: =AZ74/AY74 -> 0.99702534 | BB74: =IF(BA74>1,1,BA74) -> 0.99702534 | BC74: =AZ74*T$5 -> 0.55933121 | BD74: =$T$5*$T$11*BB74/1.4/$T$6*$AH$6 -> 0.21973726 | BE74: =AZ74*AD$5 -> 0.55933121 | BF74: =$V$5*$V$11*BB74/1.4/$V$6*$AH$6 -> 0.21973726 | BG74: =AA74 -> 0.49342105 | BH74: =AK74 -> 0.55281433 | BI74: =AO74/1.5*$AH$6 -> 0.17017 | BJ74: =Y74/B$13*1.4 -> 0.3724 | BK74: =I74 -> 1.0944 | BL74: =BJ74*U$39 -> 365.3244
I75: =I74+0.05 -> 1.1444 | J75: =ROUND(IF($I75>=D$17,D$12,IF($I75>=F$17,D$13+(D$12-D$13)*($I75-0.6*D$17)/0.4/D$17,IF($I75<E$17,D$13+(D$13-1)*($I75-E$17)/E$17,D$13))),3) -> 1.933 | K75: =IF($I75<E$17,ROUND(B$17*(0.4+3*$I75/D$17),3),IF($I75<=D$17,B$17,IF($I75<=2.5*D$17,C$17/$I75,0.4*B$17))) -> 0.7446697 | L75: =ROUND(K75/J75,4) -> 0.3852 | M75: =IF(L75<=0.3,L75,IF(L75<0.8,ROUND(0.52*L75+0.144,3),0.7*L75)) -> 0.344 | N75: =ROUND(B$13*M75/1.4/B$14,3) -> 0.246 | O75: =ROUND(IF($I75>=D$19,D$12,IF($I75>=F$19,D$13+(D$12-D$13)*($I75-0.6*D$19)/0.4/D$19,IF($I75<E$19,D$13+(D$13-1)*($I75-E$19)/E$19,D$13))),3) -> 1.933 | P75: =IF($I75<E$19,ROUND(B$19*(0.4+3*$I75/D$19),3),IF($I75<=D$19,B$19,IF($I75<=2.5*D$19,C$19/$I75,0.4*B$19))) -> 0.58982873 | Q75: =ROUND(P75/O75,4) -> 0.3051 | R75: =IF(Q75<=0.3,Q75,IF(Q75<0.8,ROUND(0.52*Q75+0.144,3),0.7*Q75)) -> 0.303 | S75: =ROUND(B$13*O75*R75/4.2/B$14,3) -> 0.139 | T75: =ROUND(IF($I75>=D$21,B$12,IF($I75>=F$21,D$14+(B$12-D$14)*($I75-0.6*D$21)/0.4/D$21,IF($I75<E$21,D$14+(D$14-1)*($I75-E$21)/E$21,D$14))),3) -> 2.4 | U75: =IF($I75<E$21,ROUND(B$21*(0.4+3*$I75/D$21),3),IF($I75<=D$21,B$21,IF($I75<=2.5*D$21,C$21/$I75,0.4*B$21))) -> 1.0107733 | V75: =ROUND(U75/T75,4) -> 0.4212 | W75: =IF(V75<=0.3,V75,IF(V75<0.8,ROUND(0.52*V75+0.144,3),0.7*V75)) -> 0.363 | X75: =ROUND(B$13*W75/1.4/B$14,3) -> 0.259 | Y75: =MAX(X75,S75,N75) -> 0.259 | Z75: =ROUND(IF($I75>=K$17,D$12,IF($I75>=M$17,D$13+(D$12-D$13)*($I75-0.6*K$17)/0.4/K$17,IF($I75<L$17,D$13+(D$13-1)*($I75-L$17)/L$17,D$13))),3) -> 1.933 | AA75: =IF($I75<L$17,ROUND(I$17*(0.4+3*$I75/K$17),3),IF($I75<=K$17,I$17,IF($I75<=2.5*K$17,J$17/$I75,0.4*I$17))) -> 0.47186298 | AB75: =ROUND(AA75/Z75,4) -> 0.2441 | AC75: =IF(AB75<=0.3,AB75,IF(AB75<0.8,ROUND(0.52*AB75+0.144,3),0.7*AB75)) -> 0.2441 | AD75: =ROUND(B$13*AC75/1.4/B$14,3) -> 0.174 | AE75: =ROUND(IF($I75>=K$19,D$12,IF($I75>=M$19,D$13+(D$12-D$13)*($I75-0.6*K$19)/0.4/K$19,IF($I75<L$19,D$13+(D$13-1)*($I75-L$19)/L$19,D$13))),3) -> 1.933 | AF75: =IF($I75<L$19,ROUND(I$19*(0.4+3*$I75/K$19),3),IF($I75<=K$19,I$19,IF($I75<=2.5*K$19,J$19/$I75,0.4*I$19))) -> 0.47186298 | AG75: =ROUND(AF75/AE75,4) -> 0.2441 | AH75: =IF(AG75<=0.3,AG75,IF(AG75<0.8,ROUND(0.52*AG75+0.144,3),0.7*AG75)) -> 0.2441 | AI75: =ROUND(B$13*AE75*AH75/4.2/B$14,3) -> 0.112 | AJ75: =ROUND(IF($I75>=K$21,B$12,IF($I75>=M$21,D$14+(B$12-D$14)*($I75-0.6*K$21)/0.4/K$21,IF($I75<L$21,D$14+(D$14-1)*($I75-L$21)/L$21,D$14))),3) -> 2.4 | AK75: =IF($I75<L$21,ROUND(I$21*(0.4+3*$I75/K$21),3),IF($I75<=K$21,I$21,IF($I75<=2.5*K$21,J$21/$I75,0.4*I$21))) -> 0.52866131 | AL75: =ROUND(AK75/AJ75,4) -> 0.2203 | AM75: =IF(AL75<=0.3,AL75,IF(AL75<0.8,ROUND(0.52*AL75+0.144,3),0.7*AL75)) -> 0.2203 | AN75: =ROUND(B$13*AM75/1.4/B$14,3) -> 0.157 | AO75: =MAX(AN75,AI75,AD75) -> 0.174 | AP75: =ROUND(IF($I75>=AX$38,D$13,IF($I75<AX$39,D$13+(D$13-1)*($I75-AX$39)/AX$39,D$13)),3) -> 1.693 | AQ75: =1/8/I75^0.5 -> 0.11684795 | AR75: =IF(AQ75>0.15,0.15,IF(AQ75<0.0625,0.0625,AQ75)) -> 0.11684795 | AS75: =$Q$5*AS$41*$Q$15*$AR75*$AH$6 -> 0.2179594 | AT75: =$Q$5*AT$41*$Q$15*$AR75*$AH$6 -> 0.16387925 | AU75: =$Q$5*AU$41*$Q$15*$AR75*$AH$6 -> 0.1311034 | AV75: =$Q$5*AV$41*$Q$15*$AR75*$AH$6 -> 0.16387925 | AW75: =$AH$6*$Q$5*AW$41*$AR75*1.4*AW$40 -> 0.55063427 | AX75: =$AH$6*$Q$5*AX$41*$AR75*1.4*AX$40 -> 0.61487493 | AY75: =IF(I75>0.611,$T$12,IF(I75>0.406,AE$5+($T$12-AE$5)*(I75-0.406)/0.205,IF(I75>0.2,AE$5,IF(I75>0.03,AE$5+(AE$5-1)*(I75-0.2)/0.17,1)))) -> 1.7 | AZ75: =IF(I75<=S$17,1,IF(I75<T$17,X$17*I75+Y$17,IF(I75<U$17,Z$17,IF(I75<V$17,AA$17/I75^(AB$17),1)))) -> 1.6452072 | BA75: =AZ75/AY75 -> 0.96776895 | BB75: =IF(BA75>1,1,BA75) -> 0.96776895 | BC75: =AZ75*T$5 -> 0.54291838 | BD75: =$T$5*$T$11*BB75/1.4/$T$6*$AH$6 -> 0.21328936 | BE75: =AZ75*AD$5 -> 0.54291838 | BF75: =$V$5*$V$11*BB75/1.4/$V$6*$AH$6 -> 0.21328936 | BG75: =AA75 -> 0.47186298 | BH75: =AK75 -> 0.52866131 | BI75: =AO75/1.5*$AH$6 -> 0.16269 | BJ75: =Y75/B$13*1.4 -> 0.3626 | BK75: =I75 -> 1.1444 | BL75: =BJ75*U$39 -> 355.7106
I76: =I75+0.05 -> 1.1944 | J76: =ROUND(IF($I76>=D$17,D$12,IF($I76>=F$17,D$13+(D$12-D$13)*($I76-0.6*D$17)/0.4/D$17,IF($I76<E$17,D$13+(D$13-1)*($I76-E$17)/E$17,D$13))),3) -> 1.933 | K76: =IF($I76<E$17,ROUND(B$17*(0.4+3*$I76/D$17),3),IF($I76<=D$17,B$17,IF($I76<=2.5*D$17,C$17/$I76,0.4*B$17))) -> 0.71349632 | L76: =ROUND(K76/J76,4) -> 0.3691 | M76: =IF(L76<=0.3,L76,IF(L76<0.8,ROUND(0.52*L76+0.144,3),0.7*L76)) -> 0.336 | N76: =ROUND(B$13*M76/1.4/B$14,3) -> 0.24 | O76: =ROUND(IF($I76>=D$19,D$12,IF($I76>=F$19,D$13+(D$12-D$13)*($I76-0.6*D$19)/0.4/D$19,IF($I76<E$19,D$13+(D$13-1)*($I76-E$19)/E$19,D$13))),3) -> 1.933 | P76: =IF($I76<E$19,ROUND(B$19*(0.4+3*$I76/D$19),3),IF($I76<=D$19,B$19,IF($I76<=2.5*D$19,C$19/$I76,0.4*B$19))) -> 0.56513731 | Q76: =ROUND(P76/O76,4) -> 0.2924 | R76: =IF(Q76<=0.3,Q76,IF(Q76<0.8,ROUND(0.52*Q76+0.144,3),0.7*Q76)) -> 0.2924 | S76: =ROUND(B$13*O76*R76/4.2/B$14,3) -> 0.135 | T76: =ROUND(IF($I76>=D$21,B$12,IF($I76>=F$21,D$14+(B$12-D$14)*($I76-0.6*D$21)/0.4/D$21,IF($I76<E$21,D$14+(D$14-1)*($I76-E$21)/E$21,D$14))),3) -> 2.4 | U76: =IF($I76<E$21,ROUND(B$21*(0.4+3*$I76/D$21),3),IF($I76<=D$21,B$21,IF($I76<=2.5*D$21,C$21/$I76,0.4*B$21))) -> 0.96846031 | V76: =ROUND(U76/T76,4) -> 0.4035 | W76: =IF(V76<=0.3,V76,IF(V76<0.8,ROUND(0.52*V76+0.144,3),0.7*V76)) -> 0.354 | X76: =ROUND(B$13*W76/1.4/B$14,3) -> 0.253 | Y76: =MAX(X76,S76,N76) -> 0.253 | Z76: =ROUND(IF($I76>=K$17,D$12,IF($I76>=M$17,D$13+(D$12-D$13)*($I76-0.6*K$17)/0.4/K$17,IF($I76<L$17,D$13+(D$13-1)*($I76-L$17)/L$17,D$13))),3) -> 1.933 | AA76: =IF($I76<L$17,ROUND(I$17*(0.4+3*$I76/K$17),3),IF($I76<=K$17,I$17,IF($I76<=2.5*K$17,J$17/$I76,0.4*I$17))) -> 0.45210985 | AB76: =ROUND(AA76/Z76,4) -> 0.2339 | AC76: =IF(AB76<=0.3,AB76,IF(AB76<0.8,ROUND(0.52*AB76+0.144,3),0.7*AB76)) -> 0.2339 | AD76: =ROUND(B$13*AC76/1.4/B$14,3) -> 0.167 | AE76: =ROUND(IF($I76>=K$19,D$12,IF($I76>=M$19,D$13+(D$12-D$13)*($I76-0.6*K$19)/0.4/K$19,IF($I76<L$19,D$13+(D$13-1)*($I76-L$19)/L$19,D$13))),3) -> 1.933 | AF76: =IF($I76<L$19,ROUND(I$19*(0.4+3*$I76/K$19),3),IF($I76<=K$19,I$19,IF($I76<=2.5*K$19,J$19/$I76,0.4*I$19))) -> 0.45210985 | AG76: =ROUND(AF76/AE76,4) -> 0.2339 | AH76: =IF(AG76<=0.3,AG76,IF(AG76<0.8,ROUND(0.52*AG76+0.144,3),0.7*AG76)) -> 0.2339 | AI76: =ROUND(B$13*AE76*AH76/4.2/B$14,3) -> 0.108 | AJ76: =ROUND(IF($I76>=K$21,B$12,IF($I76>=M$21,D$14+(B$12-D$14)*($I76-0.6*K$21)/0.4/K$21,IF($I76<L$21,D$14+(D$14-1)*($I76-L$21)/L$21,D$14))),3) -> 2.4 | AK76: =IF($I76<L$21,ROUND(I$21*(0.4+3*$I76/K$21),3),IF($I76<=K$21,I$21,IF($I76<=2.5*K$21,J$21/$I76,0.4*I$21))) -> 0.50653048 | AL76: =ROUND(AK76/AJ76,4) -> 0.2111 | AM76: =IF(AL76<=0.3,AL76,IF(AL76<0.8,ROUND(0.52*AL76+0.144,3),0.7*AL76)) -> 0.2111 | AN76: =ROUND(B$13*AM76/1.4/B$14,3) -> 0.151 | AO76: =MAX(AN76,AI76,AD76) -> 0.167 | AP76: =ROUND(IF($I76>=AX$38,D$13,IF($I76<AX$39,D$13+(D$13-1)*($I76-AX$39)/AX$39,D$13)),3) -> 1.693 | AQ76: =1/8/I76^0.5 -> 0.11437606 | AR76: =IF(AQ76>0.15,0.15,IF(AQ76<0.0625,0.0625,AQ76)) -> 0.11437606 | AS76: =$Q$5*AS$41*$Q$15*$AR76*$AH$6 -> 0.21334852 | AT76: =$Q$5*AT$41*$Q$15*$AR76*$AH$6 -> 0.16041242 | AU76: =$Q$5*AU$41*$Q$15*$AR76*$AH$6 -> 0.12832993 | AV76: =$Q$5*AV$41*$Q$15*$AR76*$AH$6 -> 0.16041242 | AW76: =$AH$6*$Q$5*AW$41*$AR76*1.4*AW$40 -> 0.53898572 | AX76: =$AH$6*$Q$5*AX$41*$AR76*1.4*AX$40 -> 0.60186739 | AY76: =IF(I76>0.611,$T$12,IF(I76>0.406,AE$5+($T$12-AE$5)*(I76-0.406)/0.205,IF(I76>0.2,AE$5,IF(I76>0.03,AE$5+(AE$5-1)*(I76-0.2)/0.17,1)))) -> 1.7 | AZ76: =IF(I76<=S$17,1,IF(I76<T$17,X$17*I76+Y$17,IF(I76<U$17,Z$17,IF(I76<V$17,AA$17/I76^(AB$17),1)))) -> 1.5989663 | BA76: =AZ76/AY76 -> 0.94056841 | BB76: =IF(BA76>1,1,BA76) -> 0.94056841 | BC76: =AZ76*T$5 -> 0.52765888 | BD76: =$T$5*$T$11*BB76/1.4/$T$6*$AH$6 -> 0.20729456 | BE76: =AZ76*AD$5 -> 0.52765888 | BF76: =$V$5*$V$11*BB76/1.4/$V$6*$AH$6 -> 0.20729456 | BG76: =AA76 -> 0.45210985 | BH76: =AK76 -> 0.50653048 | BI76: =AO76/1.5*$AH$6 -> 0.156145 | BJ76: =Y76/B$13*1.4 -> 0.3542 | BK76: =I76 -> 1.1944 | BL76: =BJ76*U$39 -> 347.4702
I77: =I76+0.05 -> 1.2444 | J77: =ROUND(IF($I77>=D$17,D$12,IF($I77>=F$17,D$13+(D$12-D$13)*($I77-0.6*D$17)/0.4/D$17,IF($I77<E$17,D$13+(D$13-1)*($I77-E$17)/E$17,D$13))),3) -> 1.933 | K77: =IF($I77<E$17,ROUND(B$17*(0.4+3*$I77/D$17),3),IF($I77<=D$17,B$17,IF($I77<=2.5*D$17,C$17/$I77,0.4*B$17))) -> 0.68482803 | L77: =ROUND(K77/J77,4) -> 0.3543 | M77: =IF(L77<=0.3,L77,IF(L77<0.8,ROUND(0.52*L77+0.144,3),0.7*L77)) -> 0.328 | N77: =ROUND(B$13*M77/1.4/B$14,3) -> 0.234 | O77: =ROUND(IF($I77>=D$19,D$12,IF($I77>=F$19,D$13+(D$12-D$13)*($I77-0.6*D$19)/0.4/D$19,IF($I77<E$19,D$13+(D$13-1)*($I77-E$19)/E$19,D$13))),3) -> 1.933 | P77: =IF($I77<E$19,ROUND(B$19*(0.4+3*$I77/D$19),3),IF($I77<=D$19,B$19,IF($I77<=2.5*D$19,C$19/$I77,0.4*B$19))) -> 0.54243009 | Q77: =ROUND(P77/O77,4) -> 0.2806 | R77: =IF(Q77<=0.3,Q77,IF(Q77<0.8,ROUND(0.52*Q77+0.144,3),0.7*Q77)) -> 0.2806 | S77: =ROUND(B$13*O77*R77/4.2/B$14,3) -> 0.129 | T77: =ROUND(IF($I77>=D$21,B$12,IF($I77>=F$21,D$14+(B$12-D$14)*($I77-0.6*D$21)/0.4/D$21,IF($I77<E$21,D$14+(D$14-1)*($I77-E$21)/E$21,D$14))),3) -> 2.4 | U77: =IF($I77<E$21,ROUND(B$21*(0.4+3*$I77/D$21),3),IF($I77<=D$21,B$21,IF($I77<=2.5*D$21,C$21/$I77,0.4*B$21))) -> 0.92954757 | V77: =ROUND(U77/T77,4) -> 0.3873 | W77: =IF(V77<=0.3,V77,IF(V77<0.8,ROUND(0.52*V77+0.144,3),0.7*V77)) -> 0.345 | X77: =ROUND(B$13*W77/1.4/B$14,3) -> 0.246 | Y77: =MAX(X77,S77,N77) -> 0.246 | Z77: =ROUND(IF($I77>=K$17,D$12,IF($I77>=M$17,D$13+(D$12-D$13)*($I77-0.6*K$17)/0.4/K$17,IF($I77<L$17,D$13+(D$13-1)*($I77-L$17)/L$17,D$13))),3) -> 1.933 | AA77: =IF($I77<L$17,ROUND(I$17*(0.4+3*$I77/K$17),3),IF($I77<=K$17,I$17,IF($I77<=2.5*K$17,J$17/$I77,0.4*I$17))) -> 0.43394407 | AB77: =ROUND(AA77/Z77,4) -> 0.2245 | AC77: =IF(AB77<=0.3,AB77,IF(AB77<0.8,ROUND(0.52*AB77+0.144,3),0.7*AB77)) -> 0.2245 | AD77: =ROUND(B$13*AC77/1.4/B$14,3) -> 0.16 | AE77: =ROUND(IF($I77>=K$19,D$12,IF($I77>=M$19,D$13+(D$12-D$13)*($I77-0.6*K$19)/0.4/K$19,IF($I77<L$19,D$13+(D$13-1)*($I77-L$19)/L$19,D$13))),3) -> 1.933 | AF77: =IF($I77<L$19,ROUND(I$19*(0.4+3*$I77/K$19),3),IF($I77<=K$19,I$19,IF($I77<=2.5*K$19,J$19/$I77,0.4*I$19))) -> 0.43394407 | AG77: =ROUND(AF77/AE77,4) -> 0.2245 | AH77: =IF(AG77<=0.3,AG77,IF(AG77<0.8,ROUND(0.52*AG77+0.144,3),0.7*AG77)) -> 0.2245 | AI77: =ROUND(B$13*AE77*AH77/4.2/B$14,3) -> 0.103 | AJ77: =ROUND(IF($I77>=K$21,B$12,IF($I77>=M$21,D$14+(B$12-D$14)*($I77-0.6*K$21)/0.4/K$21,IF($I77<L$21,D$14+(D$14-1)*($I77-L$21)/L$21,D$14))),3) -> 2.4 | AK77: =IF($I77<L$21,ROUND(I$21*(0.4+3*$I77/K$21),3),IF($I77<=K$21,I$21,IF($I77<=2.5*K$21,J$21/$I77,0.4*I$21))) -> 0.48617808 | AL77: =ROUND(AK77/AJ77,4) -> 0.2026 | AM77: =IF(AL77<=0.3,AL77,IF(AL77<0.8,ROUND(0.52*AL77+0.144,3),0.7*AL77)) -> 0.2026 | AN77: =ROUND(B$13*AM77/1.4/B$14,3) -> 0.145 | AO77: =MAX(AN77,AI77,AD77) -> 0.16 | AP77: =ROUND(IF($I77>=AX$38,D$13,IF($I77<AX$39,D$13+(D$13-1)*($I77-AX$39)/AX$39,D$13)),3) -> 1.693 | AQ77: =1/8/I77^0.5 -> 0.11205468 | AR77: =IF(AQ77>0.15,0.15,IF(AQ77<0.0625,0.0625,AQ77)) -> 0.11205468 | AS77: =$Q$5*AS$41*$Q$15*$AR77*$AH$6 -> 0.2090184 | AT77: =$Q$5*AT$41*$Q$15*$AR77*$AH$6 -> 0.15715669 | AU77: =$Q$5*AU$41*$Q$15*$AR77*$AH$6 -> 0.12572535 | AV77: =$Q$5*AV$41*$Q$15*$AR77*$AH$6 -> 0.15715669 | AW77: =$AH$6*$Q$5*AW$41*$AR77*1.4*AW$40 -> 0.52804649 | AX77: =$AH$6*$Q$5*AX$41*$AR77*1.4*AX$40 -> 0.58965191 | AY77: =IF(I77>0.611,$T$12,IF(I77>0.406,AE$5+($T$12-AE$5)*(I77-0.406)/0.205,IF(I77>0.2,AE$5,IF(I77>0.03,AE$5+(AE$5-1)*(I77-0.2)/0.17,1)))) -> 1.7 | AZ77: =IF(I77<=S$17,1,IF(I77<T$17,X$17*I77+Y$17,IF(I77<U$17,Z$17,IF(I77<V$17,AA$17/I77^(AB$17),1)))) -> 1.5558432 | BA77: =AZ77/AY77 -> 0.9152019 | BB77: =IF(BA77>1,1,BA77) -> 0.9152019 | BC77: =AZ77*T$5 -> 0.51342827 | BD77: =$T$5*$T$11*BB77/1.4/$T$6*$AH$6 -> 0.20170396 | BE77: =AZ77*AD$5 -> 0.51342827 | BF77: =$V$5*$V$11*BB77/1.4/$V$6*$AH$6 -> 0.20170396 | BG77: =AA77 -> 0.43394407 | BH77: =AK77 -> 0.48617808 | BI77: =AO77/1.5*$AH$6 -> 0.1496 | BJ77: =Y77/B$13*1.4 -> 0.3444 | BK77: =I77 -> 1.2444 | BL77: =BJ77*U$39 -> 337.8564
I78: =I77+0.05 -> 1.2944 | J78: =ROUND(IF($I78>=D$17,D$12,IF($I78>=F$17,D$13+(D$12-D$13)*($I78-0.6*D$17)/0.4/D$17,IF($I78<E$17,D$13+(D$13-1)*($I78-E$17)/E$17,D$13))),3) -> 1.933 | K78: =IF($I78<E$17,ROUND(B$17*(0.4+3*$I78/D$17),3),IF($I78<=D$17,B$17,IF($I78<=2.5*D$17,C$17/$I78,0.4*B$17))) -> 0.65837454 | L78: =ROUND(K78/J78,4) -> 0.3406 | M78: =IF(L78<=0.3,L78,IF(L78<0.8,ROUND(0.52*L78+0.144,3),0.7*L78)) -> 0.321 | N78: =ROUND(B$13*M78/1.4/B$14,3) -> 0.229 | O78: =ROUND(IF($I78>=D$19,D$12,IF($I78>=F$19,D$13+(D$12-D$13)*($I78-0.6*D$19)/0.4/D$19,IF($I78<E$19,D$13+(D$13-1)*($I78-E$19)/E$19,D$13))),3) -> 1.933 | P78: =IF($I78<E$19,ROUND(B$19*(0.4+3*$I78/D$19),3),IF($I78<=D$19,B$19,IF($I78<=2.5*D$19,C$19/$I78,0.4*B$19))) -> 0.52147713 | Q78: =ROUND(P78/O78,4) -> 0.2698 | R78: =IF(Q78<=0.3,Q78,IF(Q78<0.8,ROUND(0.52*Q78+0.144,3),0.7*Q78)) -> 0.2698 | S78: =ROUND(B$13*O78*R78/4.2/B$14,3) -> 0.124 | T78: =ROUND(IF($I78>=D$21,B$12,IF($I78>=F$21,D$14+(B$12-D$14)*($I78-0.6*D$21)/0.4/D$21,IF($I78<E$21,D$14+(D$14-1)*($I78-E$21)/E$21,D$14))),3) -> 2.4 | U78: =IF($I78<E$21,ROUND(B$21*(0.4+3*$I78/D$21),3),IF($I78<=D$21,B$21,IF($I78<=2.5*D$21,C$21/$I78,0.4*B$21))) -> 0.89364107 | V78: =ROUND(U78/T78,4) -> 0.3724 | W78: =IF(V78<=0.3,V78,IF(V78<0.8,ROUND(0.52*V78+0.144,3),0.7*V78)) -> 0.338 | X78: =ROUND(B$13*W78/1.4/B$14,3) -> 0.241 | Y78: =MAX(X78,S78,N78) -> 0.241 | Z78: =ROUND(IF($I78>=K$17,D$12,IF($I78>=M$17,D$13+(D$12-D$13)*($I78-0.6*K$17)/0.4/K$17,IF($I78<L$17,D$13+(D$13-1)*($I78-L$17)/L$17,D$13))),3) -> 1.933 | AA78: =IF($I78<L$17,ROUND(I$17*(0.4+3*$I78/K$17),3),IF($I78<=K$17,I$17,IF($I78<=2.5*K$17,J$17/$I78,0.4*I$17))) -> 0.41718171 | AB78: =ROUND(AA78/Z78,4) -> 0.2158 | AC78: =IF(AB78<=0.3,AB78,IF(AB78<0.8,ROUND(0.52*AB78+0.144,3),0.7*AB78)) -> 0.2158 | AD78: =ROUND(B$13*AC78/1.4/B$14,3) -> 0.154 | AE78: =ROUND(IF($I78>=K$19,D$12,IF($I78>=M$19,D$13+(D$12-D$13)*($I78-0.6*K$19)/0.4/K$19,IF($I78<L$19,D$13+(D$13-1)*($I78-L$19)/L$19,D$13))),3) -> 1.933 | AF78: =IF($I78<L$19,ROUND(I$19*(0.4+3*$I78/K$19),3),IF($I78<=K$19,I$19,IF($I78<=2.5*K$19,J$19/$I78,0.4*I$19))) -> 0.41718171 | AG78: =ROUND(AF78/AE78,4) -> 0.2158 | AH78: =IF(AG78<=0.3,AG78,IF(AG78<0.8,ROUND(0.52*AG78+0.144,3),0.7*AG78)) -> 0.2158 | AI78: =ROUND(B$13*AE78*AH78/4.2/B$14,3) -> 0.099 | AJ78: =ROUND(IF($I78>=K$21,B$12,IF($I78>=M$21,D$14+(B$12-D$14)*($I78-0.6*K$21)/0.4/K$21,IF($I78<L$21,D$14+(D$14-1)*($I78-L$21)/L$21,D$14))),3) -> 2.4 | AK78: =IF($I78<L$21,ROUND(I$21*(0.4+3*$I78/K$21),3),IF($I78<=K$21,I$21,IF($I78<=2.5*K$21,J$21/$I78,0.4*I$21))) -> 0.46739802 | AL78: =ROUND(AK78/AJ78,4) -> 0.1947 | AM78: =IF(AL78<=0.3,AL78,IF(AL78<0.8,ROUND(0.52*AL78+0.144,3),0.7*AL78)) -> 0.1947 | AN78: =ROUND(B$13*AM78/1.4/B$14,3) -> 0.139 | AO78: =MAX(AN78,AI78,AD78) -> 0.154 | AP78: =ROUND(IF($I78>=AX$38,D$13,IF($I78<AX$39,D$13+(D$13-1)*($I78-AX$39)/AX$39,D$13)),3) -> 1.693 | AQ78: =1/8/I78^0.5 -> 0.10986915 | AR78: =IF(AQ78>0.15,0.15,IF(AQ78<0.0625,0.0625,AQ78)) -> 0.10986915 | AS78: =$Q$5*AS$41*$Q$15*$AR78*$AH$6 -> 0.20494167 | AT78: =$Q$5*AT$41*$Q$15*$AR78*$AH$6 -> 0.15409148 | AU78: =$Q$5*AU$41*$Q$15*$AR78*$AH$6 -> 0.12327319 | AV78: =$Q$5*AV$41*$Q$15*$AR78*$AH$6 -> 0.15409148 | AW78: =$AH$6*$Q$5*AW$41*$AR78*1.4*AW$40 -> 0.51774738 | AX78: =$AH$6*$Q$5*AX$41*$AR78*1.4*AX$40 -> 0.57815124 | AY78: =IF(I78>0.611,$T$12,IF(I78>0.406,AE$5+($T$12-AE$5)*(I78-0.406)/0.205,IF(I78>0.2,AE$5,IF(I78>0.03,AE$5+(AE$5-1)*(I78-0.2)/0.17,1)))) -> 1.7 | AZ78: =IF(I78<=S$17,1,IF(I78<T$17,X$17*I78+Y$17,IF(I78<U$17,Z$17,IF(I78<V$17,AA$17/I78^(AB$17),1)))) -> 1.5155148 | BA78: =AZ78/AY78 -> 0.89147927 | BB78: =IF(BA78>1,1,BA78) -> 0.89147927 | BC78: =AZ78*T$5 -> 0.50011987 | BD78: =$T$5*$T$11*BB78/1.4/$T$6*$AH$6 -> 0.19647566 | BE78: =AZ78*AD$5 -> 0.50011987 | BF78: =$V$5*$V$11*BB78/1.4/$V$6*$AH$6 -> 0.19647566 | BG78: =AA78 -> 0.41718171 | BH78: =AK78 -> 0.46739802 | BI78: =AO78/1.5*$AH$6 -> 0.14399 | BJ78: =Y78/B$13*1.4 -> 0.3374 | BK78: =I78 -> 1.2944 | BL78: =BJ78*U$39 -> 330.9894
I79: 1.315 | J79: =ROUND(IF($I79>=D$17,D$12,IF($I79>=F$17,D$13+(D$12-D$13)*($I79-0.6*D$17)/0.4/D$17,IF($I79<E$17,D$13+(D$13-1)*($I79-E$17)/E$17,D$13))),3) -> 1.933 | K79: =IF($I79<E$17,ROUND(B$17*(0.4+3*$I79/D$17),3),IF($I79<=D$17,B$17,IF($I79<=2.5*D$17,C$17/$I79,0.4*B$17))) -> 0.64806084 | L79: =ROUND(K79/J79,4) -> 0.3353 | M79: =IF(L79<=0.3,L79,IF(L79<0.8,ROUND(0.52*L79+0.144,3),0.7*L79)) -> 0.318 | N79: =ROUND(B$13*M79/1.4/B$14,3) -> 0.227 | O79: =ROUND(IF($I79>=D$19,D$12,IF($I79>=F$19,D$13+(D$12-D$13)*($I79-0.6*D$19)/0.4/D$19,IF($I79<E$19,D$13+(D$13-1)*($I79-E$19)/E$19,D$13))),3) -> 1.933 | P79: =IF($I79<E$19,ROUND(B$19*(0.4+3*$I79/D$19),3),IF($I79<=D$19,B$19,IF($I79<=2.5*D$19,C$19/$I79,0.4*B$19))) -> 0.51330798 | Q79: =ROUND(P79/O79,4) -> 0.2655 | R79: =IF(Q79<=0.3,Q79,IF(Q79<0.8,ROUND(0.52*Q79+0.144,3),0.7*Q79)) -> 0.2655 | S79: =ROUND(B$13*O79*R79/4.2/B$14,3) -> 0.122 | T79: =ROUND(IF($I79>=D$21,B$12,IF($I79>=F$21,D$14+(B$12-D$14)*($I79-0.6*D$21)/0.4/D$21,IF($I79<E$21,D$14+(D$14-1)*($I79-E$21)/E$21,D$14))),3) -> 2.4 | U79: =IF($I79<E$21,ROUND(B$21*(0.4+3*$I79/D$21),3),IF($I79<=D$21,B$21,IF($I79<=2.5*D$21,C$21/$I79,0.4*B$21))) -> 0.87964183 | V79: =ROUND(U79/T79,4) -> 0.3665 | W79: =IF(V79<=0.3,V79,IF(V79<0.8,ROUND(0.52*V79+0.144,3),0.7*V79)) -> 0.335 | X79: =ROUND(B$13*W79/1.4/B$14,3) -> 0.239 | Y79: =MAX(X79,S79,N79) -> 0.239 | Z79: =ROUND(IF($I79>=K$17,D$12,IF($I79>=M$17,D$13+(D$12-D$13)*($I79-0.6*K$17)/0.4/K$17,IF($I79<L$17,D$13+(D$13-1)*($I79-L$17)/L$17,D$13))),3) -> 1.933 | AA79: =IF($I79<L$17,ROUND(I$17*(0.4+3*$I79/K$17),3),IF($I79<=K$17,I$17,IF($I79<=2.5*K$17,J$17/$I79,0.4*I$17))) -> 0.41064639 | AB79: =ROUND(AA79/Z79,4) -> 0.2124 | AC79: =IF(AB79<=0.3,AB79,IF(AB79<0.8,ROUND(0.52*AB79+0.144,3),0.7*AB79)) -> 0.2124 | AD79: =ROUND(B$13*AC79/1.4/B$14,3) -> 0.152 | AE79: =ROUND(IF($I79>=K$19,D$12,IF($I79>=M$19,D$13+(D$12-D$13)*($I79-0.6*K$19)/0.4/K$19,IF($I79<L$19,D$13+(D$13-1)*($I79-L$19)/L$19,D$13))),3) -> 1.933 | AF79: =IF($I79<L$19,ROUND(I$19*(0.4+3*$I79/K$19),3),IF($I79<=K$19,I$19,IF($I79<=2.5*K$19,J$19/$I79,0.4*I$19))) -> 0.41064639 | AG79: =ROUND(AF79/AE79,4) -> 0.2124 | AH79: =IF(AG79<=0.3,AG79,IF(AG79<0.8,ROUND(0.52*AG79+0.144,3),0.7*AG79)) -> 0.2124 | AI79: =ROUND(B$13*AE79*AH79/4.2/B$14,3) -> 0.098 | AJ79: =ROUND(IF($I79>=K$21,B$12,IF($I79>=M$21,D$14+(B$12-D$14)*($I79-0.6*K$21)/0.4/K$21,IF($I79<L$21,D$14+(D$14-1)*($I79-L$21)/L$21,D$14))),3) -> 2.4 | AK79: =IF($I79<L$21,ROUND(I$21*(0.4+3*$I79/K$21),3),IF($I79<=K$21,I$21,IF($I79<=2.5*K$21,J$21/$I79,0.4*I$21))) -> 0.46007605 | AL79: =ROUND(AK79/AJ79,4) -> 0.1917 | AM79: =IF(AL79<=0.3,AL79,IF(AL79<0.8,ROUND(0.52*AL79+0.144,3),0.7*AL79)) -> 0.1917 | AN79: =ROUND(B$13*AM79/1.4/B$14,3) -> 0.137 | AO79: =MAX(AN79,AI79,AD79) -> 0.152 | AP79: =ROUND(IF($I79>=AX$38,D$13,IF($I79<AX$39,D$13+(D$13-1)*($I79-AX$39)/AX$39,D$13)),3) -> 1.693 | AQ79: =1/8/I79^0.5 -> 0.10900518 | AR79: =IF(AQ79>0.15,0.15,IF(AQ79<0.0625,0.0625,AQ79)) -> 0.10900518 | AS79: =$Q$5*AS$41*$Q$15*$AR79*$AH$6 -> 0.20333009 | AT79: =$Q$5*AT$41*$Q$15*$AR79*$AH$6 -> 0.15287977 | AU79: =$Q$5*AU$41*$Q$15*$AR79*$AH$6 -> 0.12230381 | AV79: =$Q$5*AV$41*$Q$15*$AR79*$AH$6 -> 0.15287977 | AW79: =$AH$6*$Q$5*AW$41*$AR79*1.4*AW$40 -> 0.51367601 | AX79: =$AH$6*$Q$5*AX$41*$AR79*1.4*AX$40 -> 0.57360488 | AY79: =IF(I79>0.611,$T$12,IF(I79>0.406,AE$5+($T$12-AE$5)*(I79-0.406)/0.205,IF(I79>0.2,AE$5,IF(I79>0.03,AE$5+(AE$5-1)*(I79-0.2)/0.17,1)))) -> 1.7 | AZ79: =IF(I79<=S$17,1,IF(I79<T$17,X$17*I79+Y$17,IF(I79<U$17,Z$17,IF(I79<V$17,AA$17/I79^(AB$17),1)))) -> 1.4996457 | BA79: =AZ79/AY79 -> 0.88214454 | BB79: =IF(BA79>1,1,BA79) -> 0.88214454 | BC79: =AZ79*T$5 -> 0.49488308 | BD79: =$T$5*$T$11*BB79/1.4/$T$6*$AH$6 -> 0.19441835 | BE79: =AZ79*AD$5 -> 0.49488308 | BF79: =$V$5*$V$11*BB79/1.4/$V$6*$AH$6 -> 0.19441835 | BG79: =AA79 -> 0.41064639 | BH79: =AK79 -> 0.46007605 | BI79: =AO79/1.5*$AH$6 -> 0.14212 | BJ79: =Y79/B$13*1.4 -> 0.3346 | BK79: =I79 -> 1.315 | BL79: =BJ79*U$39 -> 328.2426
I80: =I78+0.05 -> 1.3444 | J80: =ROUND(IF($I80>=D$17,D$12,IF($I80>=F$17,D$13+(D$12-D$13)*($I80-0.6*D$17)/0.4/D$17,IF($I80<E$17,D$13+(D$13-1)*($I80-E$17)/E$17,D$13))),3) -> 1.933 | K80: =IF($I80<E$17,ROUND(B$17*(0.4+3*$I80/D$17),3),IF($I80<=D$17,B$17,IF($I80<=2.5*D$17,C$17/$I80,0.4*B$17))) -> 0.63388872 | L80: =ROUND(K80/J80,4) -> 0.3279 | M80: =IF(L80<=0.3,L80,IF(L80<0.8,ROUND(0.52*L80+0.144,3),0.7*L80)) -> 0.315 | N80: =ROUND(B$13*M80/1.4/B$14,3) -> 0.225 | O80: =ROUND(IF($I80>=D$19,D$12,IF($I80>=F$19,D$13+(D$12-D$13)*($I80-0.6*D$19)/0.4/D$19,IF($I80<E$19,D$13+(D$13-1)*($I80-E$19)/E$19,D$13))),3) -> 1.933 | P80: =IF($I80<E$19,ROUND(B$19*(0.4+3*$I80/D$19),3),IF($I80<=D$19,B$19,IF($I80<=2.5*D$19,C$19/$I80,0.4*B$19))) -> 0.50208271 | Q80: =ROUND(P80/O80,4) -> 0.2597 | R80: =IF(Q80<=0.3,Q80,IF(Q80<0.8,ROUND(0.52*Q80+0.144,3),0.7*Q80)) -> 0.2597 | S80: =ROUND(B$13*O80*R80/4.2/B$14,3) -> 0.12 | T80: =ROUND(IF($I80>=D$21,B$12,IF($I80>=F$21,D$14+(B$12-D$14)*($I80-0.6*D$21)/0.4/D$21,IF($I80<E$21,D$14+(D$14-1)*($I80-E$21)/E$21,D$14))),3) -> 2.4 | U80: =IF($I80<E$21,ROUND(B$21*(0.4+3*$I80/D$21),3),IF($I80<=D$21,B$21,IF($I80<=2.5*D$21,C$21/$I80,0.4*B$21))) -> 0.86040539 | V80: =ROUND(U80/T80,4) -> 0.3585 | W80: =IF(V80<=0.3,V80,IF(V80<0.8,ROUND(0.52*V80+0.144,3),0.7*V80)) -> 0.33 | X80: =ROUND(B$13*W80/1.4/B$14,3) -> 0.236 | Y80: =MAX(X80,S80,N80) -> 0.236 | Z80: =ROUND(IF($I80>=K$17,D$12,IF($I80>=M$17,D$13+(D$12-D$13)*($I80-0.6*K$17)/0.4/K$17,IF($I80<L$17,D$13+(D$13-1)*($I80-L$17)/L$17,D$13))),3) -> 1.933 | AA80: =IF($I80<L$17,ROUND(I$17*(0.4+3*$I80/K$17),3),IF($I80<=K$17,I$17,IF($I80<=2.5*K$17,J$17/$I80,0.4*I$17))) -> 0.40166617 | AB80: =ROUND(AA80/Z80,4) -> 0.2078 | AC80: =IF(AB80<=0.3,AB80,IF(AB80<0.8,ROUND(0.52*AB80+0.144,3),0.7*AB80)) -> 0.2078 | AD80: =ROUND(B$13*AC80/1.4/B$14,3) -> 0.148 | AE80: =ROUND(IF($I80>=K$19,D$12,IF($I80>=M$19,D$13+(D$12-D$13)*($I80-0.6*K$19)/0.4/K$19,IF($I80<L$19,D$13+(D$13-1)*($I80-L$19)/L$19,D$13))),3) -> 1.933 | AF80: =IF($I80<L$19,ROUND(I$19*(0.4+3*$I80/K$19),3),IF($I80<=K$19,I$19,IF($I80<=2.5*K$19,J$19/$I80,0.4*I$19))) -> 0.40166617 | AG80: =ROUND(AF80/AE80,4) -> 0.2078 | AH80: =IF(AG80<=0.3,AG80,IF(AG80<0.8,ROUND(0.52*AG80+0.144,3),0.7*AG80)) -> 0.2078 | AI80: =ROUND(B$13*AE80*AH80/4.2/B$14,3) -> 0.096 | AJ80: =ROUND(IF($I80>=K$21,B$12,IF($I80>=M$21,D$14+(B$12-D$14)*($I80-0.6*K$21)/0.4/K$21,IF($I80<L$21,D$14+(D$14-1)*($I80-L$21)/L$21,D$14))),3) -> 2.4 | AK80: =IF($I80<L$21,ROUND(I$21*(0.4+3*$I80/K$21),3),IF($I80<=K$21,I$21,IF($I80<=2.5*K$21,J$21/$I80,0.4*I$21))) -> 0.45001488 | AL80: =ROUND(AK80/AJ80,4) -> 0.1875 | AM80: =IF(AL80<=0.3,AL80,IF(AL80<0.8,ROUND(0.52*AL80+0.144,3),0.7*AL80)) -> 0.1875 | AN80: =ROUND(B$13*AM80/1.4/B$14,3) -> 0.134 | AO80: =MAX(AN80,AI80,AD80) -> 0.148 | AP80: =ROUND(IF($I80>=AX$38,D$13,IF($I80<AX$39,D$13+(D$13-1)*($I80-AX$39)/AX$39,D$13)),3) -> 1.693 | AQ80: =1/8/I80^0.5 -> 0.1078067 | AR80: =IF(AQ80>0.15,0.15,IF(AQ80<0.0625,0.0625,AQ80)) -> 0.1078067 | AS80: =$Q$5*AS$41*$Q$15*$AR80*$AH$6 -> 0.20109454 | AT80: =$Q$5*AT$41*$Q$15*$AR80*$AH$6 -> 0.1511989 | AU80: =$Q$5*AU$41*$Q$15*$AR80*$AH$6 -> 0.12095912 | AV80: =$Q$5*AV$41*$Q$15*$AR80*$AH$6 -> 0.1511989 | AW80: =$AH$6*$Q$5*AW$41*$AR80*1.4*AW$40 -> 0.5080283 | AX80: =$AH$6*$Q$5*AX$41*$AR80*1.4*AX$40 -> 0.56729827 | AY80: =IF(I80>0.611,$T$12,IF(I80>0.406,AE$5+($T$12-AE$5)*(I80-0.406)/0.205,IF(I80>0.2,AE$5,IF(I80>0.03,AE$5+(AE$5-1)*(I80-0.2)/0.17,1)))) -> 1.7 | AZ80: =IF(I80<=S$17,1,IF(I80<T$17,X$17*I80+Y$17,IF(I80<U$17,Z$17,IF(I80<V$17,AA$17/I80^(AB$17),1)))) -> 1.4777019 | BA80: =AZ80/AY80 -> 0.86923642 | BB80: =IF(BA80>1,1,BA80) -> 0.86923642 | BC80: =AZ80*T$5 -> 0.48764163 | BD80: =$T$5*$T$11*BB80/1.4/$T$6*$AH$6 -> 0.1915735 | BE80: =AZ80*AD$5 -> 0.48764163 | BF80: =$V$5*$V$11*BB80/1.4/$V$6*$AH$6 -> 0.1915735 | BG80: =AA80 -> 0.40166617 | BH80: =AK80 -> 0.45001488 | BI80: =AO80/1.5*$AH$6 -> 0.13838 | BJ80: =Y80/B$13*1.4 -> 0.3304 | BK80: =I80 -> 1.3444 | BL80: =BJ80*U$39 -> 324.1224
I81: =I80+0.05 -> 1.3944 | J81: =ROUND(IF($I81>=D$17,D$12,IF($I81>=F$17,D$13+(D$12-D$13)*($I81-0.6*D$17)/0.4/D$17,IF($I81<E$17,D$13+(D$13-1)*($I81-E$17)/E$17,D$13))),3) -> 1.933 | K81: =IF($I81<E$17,ROUND(B$17*(0.4+3*$I81/D$17),3),IF($I81<=D$17,B$17,IF($I81<=2.5*D$17,C$17/$I81,0.4*B$17))) -> 0.61115892 | L81: =ROUND(K81/J81,4) -> 0.3162 | M81: =IF(L81<=0.3,L81,IF(L81<0.8,ROUND(0.52*L81+0.144,3),0.7*L81)) -> 0.308 | N81: =ROUND(B$13*M81/1.4/B$14,3) -> 0.22 | O81: =ROUND(IF($I81>=D$19,D$12,IF($I81>=F$19,D$13+(D$12-D$13)*($I81-0.6*D$19)/0.4/D$19,IF($I81<E$19,D$13+(D$13-1)*($I81-E$19)/E$19,D$13))),3) -> 1.933 | P81: =IF($I81<E$19,ROUND(B$19*(0.4+3*$I81/D$19),3),IF($I81<=D$19,B$19,IF($I81<=2.5*D$19,C$19/$I81,0.4*B$19))) -> 0.48407917 | Q81: =ROUND(P81/O81,4) -> 0.2504 | R81: =IF(Q81<=0.3,Q81,IF(Q81<0.8,ROUND(0.52*Q81+0.144,3),0.7*Q81)) -> 0.2504 | S81: =ROUND(B$13*O81*R81/4.2/B$14,3) -> 0.115 | T81: =ROUND(IF($I81>=D$21,B$12,IF($I81>=F$21,D$14+(B$12-D$14)*($I81-0.6*D$21)/0.4/D$21,IF($I81<E$21,D$14+(D$14-1)*($I81-E$21)/E$21,D$14))),3) -> 2.4 | U81: =IF($I81<E$21,ROUND(B$21*(0.4+3*$I81/D$21),3),IF($I81<=D$21,B$21,IF($I81<=2.5*D$21,C$21/$I81,0.4*B$21))) -> 0.82955321 | V81: =ROUND(U81/T81,4) -> 0.3456 | W81: =IF(V81<=0.3,V81,IF(V81<0.8,ROUND(0.52*V81+0.144,3),0.7*V81)) -> 0.324 | X81: =ROUND(B$13*W81/1.4/B$14,3) -> 0.231 | Y81: =MAX(X81,S81,N81) -> 0.231 | Z81: =ROUND(IF($I81>=K$17,D$12,IF($I81>=M$17,D$13+(D$12-D$13)*($I81-0.6*K$17)/0.4/K$17,IF($I81<L$17,D$13+(D$13-1)*($I81-L$17)/L$17,D$13))),3) -> 1.933 | AA81: =IF($I81<L$17,ROUND(I$17*(0.4+3*$I81/K$17),3),IF($I81<=K$17,I$17,IF($I81<=2.5*K$17,J$17/$I81,0.4*I$17))) -> 0.38726334 | AB81: =ROUND(AA81/Z81,4) -> 0.2003 | AC81: =IF(AB81<=0.3,AB81,IF(AB81<0.8,ROUND(0.52*AB81+0.144,3),0.7*AB81)) -> 0.2003 | AD81: =ROUND(B$13*AC81/1.4/B$14,3) -> 0.143 | AE81: =ROUND(IF($I81>=K$19,D$12,IF($I81>=M$19,D$13+(D$12-D$13)*($I81-0.6*K$19)/0.4/K$19,IF($I81<L$19,D$13+(D$13-1)*($I81-L$19)/L$19,D$13))),3) -> 1.933 | AF81: =IF($I81<L$19,ROUND(I$19*(0.4+3*$I81/K$19),3),IF($I81<=K$19,I$19,IF($I81<=2.5*K$19,J$19/$I81,0.4*I$19))) -> 0.38726334 | AG81: =ROUND(AF81/AE81,4) -> 0.2003 | AH81: =IF(AG81<=0.3,AG81,IF(AG81<0.8,ROUND(0.52*AG81+0.144,3),0.7*AG81)) -> 0.2003 | AI81: =ROUND(B$13*AE81*AH81/4.2/B$14,3) -> 0.092 | AJ81: =ROUND(IF($I81>=K$21,B$12,IF($I81>=M$21,D$14+(B$12-D$14)*($I81-0.6*K$21)/0.4/K$21,IF($I81<L$21,D$14+(D$14-1)*($I81-L$21)/L$21,D$14))),3) -> 2.4 | AK81: =IF($I81<L$21,ROUND(I$21*(0.4+3*$I81/K$21),3),IF($I81<=K$21,I$21,IF($I81<=2.5*K$21,J$21/$I81,0.4*I$21))) -> 0.43387837 | AL81: =ROUND(AK81/AJ81,4) -> 0.1808 | AM81: =IF(AL81<=0.3,AL81,IF(AL81<0.8,ROUND(0.52*AL81+0.144,3),0.7*AL81)) -> 0.1808 | AN81: =ROUND(B$13*AM81/1.4/B$14,3) -> 0.129 | AO81: =MAX(AN81,AI81,AD81) -> 0.143 | AP81: =ROUND(IF($I81>=AX$38,D$13,IF($I81<AX$39,D$13+(D$13-1)*($I81-AX$39)/AX$39,D$13)),3) -> 1.693 | AQ81: =1/8/I81^0.5 -> 0.10585621 | AR81: =IF(AQ81>0.15,0.15,IF(AQ81<0.0625,0.0625,AQ81)) -> 0.10585621 | AS81: =$Q$5*AS$41*$Q$15*$AR81*$AH$6 -> 0.19745623 | AT81: =$Q$5*AT$41*$Q$15*$AR81*$AH$6 -> 0.14846333 | AU81: =$Q$5*AU$41*$Q$15*$AR81*$AH$6 -> 0.11877066 | AV81: =$Q$5*AV$41*$Q$15*$AR81*$AH$6 -> 0.14846333 | AW81: =$AH$6*$Q$5*AW$41*$AR81*1.4*AW$40 -> 0.49883679 | AX81: =$AH$6*$Q$5*AX$41*$AR81*1.4*AX$40 -> 0.55703441 | AY81: =IF(I81>0.611,$T$12,IF(I81>0.406,AE$5+($T$12-AE$5)*(I81-0.406)/0.205,IF(I81>0.2,AE$5,IF(I81>0.03,AE$5+(AE$5-1)*(I81-0.2)/0.17,1)))) -> 1.7 | AZ81: =IF(I81<=S$17,1,IF(I81<T$17,X$17*I81+Y$17,IF(I81<U$17,Z$17,IF(I81<V$17,AA$17/I81^(AB$17),1)))) -> 1.4421627 | BA81: =AZ81/AY81 -> 0.84833099 | BB81: =IF(BA81>1,1,BA81) -> 0.84833099 | BC81: =AZ81*T$5 -> 0.47591369 | BD81: =$T$5*$T$11*BB81/1.4/$T$6*$AH$6 -> 0.18696609 | BE81: =AZ81*AD$5 -> 0.47591369 | BF81: =$V$5*$V$11*BB81/1.4/$V$6*$AH$6 -> 0.18696609 | BG81: =AA81 -> 0.38726334 | BH81: =AK81 -> 0.43387837 | BI81: =AO81/1.5*$AH$6 -> 0.133705 | BJ81: =Y81/B$13*1.4 -> 0.3234 | BK81: =I81 -> 1.3944 | BL81: =BJ81*U$39 -> 317.2554
I82: =I81+0.05 -> 1.4444 | J82: =ROUND(IF($I82>=D$17,D$12,IF($I82>=F$17,D$13+(D$12-D$13)*($I82-0.6*D$17)/0.4/D$17,IF($I82<E$17,D$13+(D$13-1)*($I82-E$17)/E$17,D$13))),3) -> 1.933 | K82: =IF($I82<E$17,ROUND(B$17*(0.4+3*$I82/D$17),3),IF($I82<=D$17,B$17,IF($I82<=2.5*D$17,C$17/$I82,0.4*B$17))) -> 0.59000277 | L82: =ROUND(K82/J82,4) -> 0.3052 | M82: =IF(L82<=0.3,L82,IF(L82<0.8,ROUND(0.52*L82+0.144,3),0.7*L82)) -> 0.303 | N82: =ROUND(B$13*M82/1.4/B$14,3) -> 0.216 | O82: =ROUND(IF($I82>=D$19,D$12,IF($I82>=F$19,D$13+(D$12-D$13)*($I82-0.6*D$19)/0.4/D$19,IF($I82<E$19,D$13+(D$13-1)*($I82-E$19)/E$19,D$13))),3) -> 1.933 | P82: =IF($I82<E$19,ROUND(B$19*(0.4+3*$I82/D$19),3),IF($I82<=D$19,B$19,IF($I82<=2.5*D$19,C$19/$I82,0.4*B$19))) -> 0.46732207 | Q82: =ROUND(P82/O82,4) -> 0.2418 | R82: =IF(Q82<=0.3,Q82,IF(Q82<0.8,ROUND(0.52*Q82+0.144,3),0.7*Q82)) -> 0.2418 | S82: =ROUND(B$13*O82*R82/4.2/B$14,3) -> 0.111 | T82: =ROUND(IF($I82>=D$21,B$12,IF($I82>=F$21,D$14+(B$12-D$14)*($I82-0.6*D$21)/0.4/D$21,IF($I82<E$21,D$14+(D$14-1)*($I82-E$21)/E$21,D$14))),3) -> 2.4 | U82: =IF($I82<E$21,ROUND(B$21*(0.4+3*$I82/D$21),3),IF($I82<=D$21,B$21,IF($I82<=2.5*D$21,C$21/$I82,0.4*B$21))) -> 0.80083703 | V82: =ROUND(U82/T82,4) -> 0.3337 | W82: =IF(V82<=0.3,V82,IF(V82<0.8,ROUND(0.52*V82+0.144,3),0.7*V82)) -> 0.318 | X82: =ROUND(B$13*W82/1.4/B$14,3) -> 0.227 | Y82: =MAX(X82,S82,N82) -> 0.227 | Z82: =ROUND(IF($I82>=K$17,D$12,IF($I82>=M$17,D$13+(D$12-D$13)*($I82-0.6*K$17)/0.4/K$17,IF($I82<L$17,D$13+(D$13-1)*($I82-L$17)/L$17,D$13))),3) -> 1.933 | AA82: =IF($I82<L$17,ROUND(I$17*(0.4+3*$I82/K$17),3),IF($I82<=K$17,I$17,IF($I82<=2.5*K$17,J$17/$I82,0.4*I$17))) -> 0.37385766 | AB82: =ROUND(AA82/Z82,4) -> 0.1934 | AC82: =IF(AB82<=0.3,AB82,IF(AB82<0.8,ROUND(0.52*AB82+0.144,3),0.7*AB82)) -> 0.1934 | AD82: =ROUND(B$13*AC82/1.4/B$14,3) -> 0.138 | AE82: =ROUND(IF($I82>=K$19,D$12,IF($I82>=M$19,D$13+(D$12-D$13)*($I82-0.6*K$19)/0.4/K$19,IF($I82<L$19,D$13+(D$13-1)*($I82-L$19)/L$19,D$13))),3) -> 1.933 | AF82: =IF($I82<L$19,ROUND(I$19*(0.4+3*$I82/K$19),3),IF($I82<=K$19,I$19,IF($I82<=2.5*K$19,J$19/$I82,0.4*I$19))) -> 0.37385766 | AG82: =ROUND(AF82/AE82,4) -> 0.1934 | AH82: =IF(AG82<=0.3,AG82,IF(AG82<0.8,ROUND(0.52*AG82+0.144,3),0.7*AG82)) -> 0.1934 | AI82: =ROUND(B$13*AE82*AH82/4.2/B$14,3) -> 0.089 | AJ82: =ROUND(IF($I82>=K$21,B$12,IF($I82>=M$21,D$14+(B$12-D$14)*($I82-0.6*K$21)/0.4/K$21,IF($I82<L$21,D$14+(D$14-1)*($I82-L$21)/L$21,D$14))),3) -> 2.4 | AK82: =IF($I82<L$21,ROUND(I$21*(0.4+3*$I82/K$21),3),IF($I82<=K$21,I$21,IF($I82<=2.5*K$21,J$21/$I82,0.4*I$21))) -> 0.41885904 | AL82: =ROUND(AK82/AJ82,4) -> 0.1745 | AM82: =IF(AL82<=0.3,AL82,IF(AL82<0.8,ROUND(0.52*AL82+0.144,3),0.7*AL82)) -> 0.1745 | AN82: =ROUND(B$13*AM82/1.4/B$14,3) -> 0.125 | AO82: =MAX(AN82,AI82,AD82) -> 0.138 | AP82: =ROUND(IF($I82>=AX$38,D$13,IF($I82<AX$39,D$13+(D$13-1)*($I82-AX$39)/AX$39,D$13)),3) -> 1.693 | AQ82: =1/8/I82^0.5 -> 0.10400789 | AR82: =IF(AQ82>0.15,0.15,IF(AQ82<0.0625,0.0625,AQ82)) -> 0.10400789 | AS82: =$Q$5*AS$41*$Q$15*$AR82*$AH$6 -> 0.19400851 | AT82: =$Q$5*AT$41*$Q$15*$AR82*$AH$6 -> 0.14587106 | AU82: =$Q$5*AU$41*$Q$15*$AR82*$AH$6 -> 0.11669685 | AV82: =$Q$5*AV$41*$Q$15*$AR82*$AH$6 -> 0.14587106 | AW82: =$AH$6*$Q$5*AW$41*$AR82*1.4*AW$40 -> 0.49012677 | AX82: =$AH$6*$Q$5*AX$41*$AR82*1.4*AX$40 -> 0.54730822 | AY82: =IF(I82>0.611,$T$12,IF(I82>0.406,AE$5+($T$12-AE$5)*(I82-0.406)/0.205,IF(I82>0.2,AE$5,IF(I82>0.03,AE$5+(AE$5-1)*(I82-0.2)/0.17,1)))) -> 1.7 | AZ82: =IF(I82<=S$17,1,IF(I82<T$17,X$17*I82+Y$17,IF(I82<U$17,Z$17,IF(I82<V$17,AA$17/I82^(AB$17),1)))) -> 1.408686 | BA82: =AZ82/AY82 -> 0.8286388 | BB82: =IF(BA82>1,1,BA82) -> 0.8286388 | BC82: =AZ82*T$5 -> 0.46486637 | BD82: =$T$5*$T$11*BB82/1.4/$T$6*$AH$6 -> 0.18262607 | BE82: =AZ82*AD$5 -> 0.46486637 | BF82: =$V$5*$V$11*BB82/1.4/$V$6*$AH$6 -> 0.18262607 | BG82: =AA82 -> 0.37385766 | BH82: =AK82 -> 0.41885904 | BI82: =AO82/1.5*$AH$6 -> 0.12903 | BJ82: =Y82/B$13*1.4 -> 0.3178 | BK82: =I82 -> 1.4444 | BL82: =BJ82*U$39 -> 311.7618
I83: =I82+0.05 -> 1.4944 | J83: =ROUND(IF($I83>=D$17,D$12,IF($I83>=F$17,D$13+(D$12-D$13)*($I83-0.6*D$17)/0.4/D$17,IF($I83<E$17,D$13+(D$13-1)*($I83-E$17)/E$17,D$13))),3) -> 1.933 | K83: =IF($I83<E$17,ROUND(B$17*(0.4+3*$I83/D$17),3),IF($I83<=D$17,B$17,IF($I83<=2.5*D$17,C$17/$I83,0.4*B$17))) -> 0.57026231 | L83: =ROUND(K83/J83,4) -> 0.295 | M83: =IF(L83<=0.3,L83,IF(L83<0.8,ROUND(0.52*L83+0.144,3),0.7*L83)) -> 0.295 | N83: =ROUND(B$13*M83/1.4/B$14,3) -> 0.211 | O83: =ROUND(IF($I83>=D$19,D$12,IF($I83>=F$19,D$13+(D$12-D$13)*($I83-0.6*D$19)/0.4/D$19,IF($I83<E$19,D$13+(D$13-1)*($I83-E$19)/E$19,D$13))),3) -> 1.933 | P83: =IF($I83<E$19,ROUND(B$19*(0.4+3*$I83/D$19),3),IF($I83<=D$19,B$19,IF($I83<=2.5*D$19,C$19/$I83,0.4*B$19))) -> 0.4516863 | Q83: =ROUND(P83/O83,4) -> 0.2337 | R83: =IF(Q83<=0.3,Q83,IF(Q83<0.8,ROUND(0.52*Q83+0.144,3),0.7*Q83)) -> 0.2337 | S83: =ROUND(B$13*O83*R83/4.2/B$14,3) -> 0.108 | T83: =ROUND(IF($I83>=D$21,B$12,IF($I83>=F$21,D$14+(B$12-D$14)*($I83-0.6*D$21)/0.4/D$21,IF($I83<E$21,D$14+(D$14-1)*($I83-E$21)/E$21,D$14))),3) -> 2.4 | U83: =IF($I83<E$21,ROUND(B$21*(0.4+3*$I83/D$21),3),IF($I83<=D$21,B$21,IF($I83<=2.5*D$21,C$21/$I83,0.4*B$21))) -> 0.77404243 | V83: =ROUND(U83/T83,4) -> 0.3225 | W83: =IF(V83<=0.3,V83,IF(V83<0.8,ROUND(0.52*V83+0.144,3),0.7*V83)) -> 0.312 | X83: =ROUND(B$13*W83/1.4/B$14,3) -> 0.223 | Y83: =MAX(X83,S83,N83) -> 0.223 | Z83: =ROUND(IF($I83>=K$17,D$12,IF($I83>=M$17,D$13+(D$12-D$13)*($I83-0.6*K$17)/0.4/K$17,IF($I83<L$17,D$13+(D$13-1)*($I83-L$17)/L$17,D$13))),3) -> 1.933 | AA83: =IF($I83<L$17,ROUND(I$17*(0.4+3*$I83/K$17),3),IF($I83<=K$17,I$17,IF($I83<=2.5*K$17,J$17/$I83,0.4*I$17))) -> 0.36134904 | AB83: =ROUND(AA83/Z83,4) -> 0.1869 | AC83: =IF(AB83<=0.3,AB83,IF(AB83<0.8,ROUND(0.52*AB83+0.144,3),0.7*AB83)) -> 0.1869 | AD83: =ROUND(B$13*AC83/1.4/B$14,3) -> 0.134 | AE83: =ROUND(IF($I83>=K$19,D$12,IF($I83>=M$19,D$13+(D$12-D$13)*($I83-0.6*K$19)/0.4/K$19,IF($I83<L$19,D$13+(D$13-1)*($I83-L$19)/L$19,D$13))),3) -> 1.933 | AF83: =IF($I83<L$19,ROUND(I$19*(0.4+3*$I83/K$19),3),IF($I83<=K$19,I$19,IF($I83<=2.5*K$19,J$19/$I83,0.4*I$19))) -> 0.36134904 | AG83: =ROUND(AF83/AE83,4) -> 0.1869 | AH83: =IF(AG83<=0.3,AG83,IF(AG83<0.8,ROUND(0.52*AG83+0.144,3),0.7*AG83)) -> 0.1869 | AI83: =ROUND(B$13*AE83*AH83/4.2/B$14,3) -> 0.086 | AJ83: =ROUND(IF($I83>=K$21,B$12,IF($I83>=M$21,D$14+(B$12-D$14)*($I83-0.6*K$21)/0.4/K$21,IF($I83<L$21,D$14+(D$14-1)*($I83-L$21)/L$21,D$14))),3) -> 2.4 | AK83: =IF($I83<L$21,ROUND(I$21*(0.4+3*$I83/K$21),3),IF($I83<=K$21,I$21,IF($I83<=2.5*K$21,J$21/$I83,0.4*I$21))) -> 0.40484475 | AL83: =ROUND(AK83/AJ83,4) -> 0.1687 | AM83: =IF(AL83<=0.3,AL83,IF(AL83<0.8,ROUND(0.52*AL83+0.144,3),0.7*AL83)) -> 0.1687 | AN83: =ROUND(B$13*AM83/1.4/B$14,3) -> 0.121 | AO83: =MAX(AN83,AI83,AD83) -> 0.134 | AP83: =ROUND(IF($I83>=AX$38,D$13,IF($I83<AX$39,D$13+(D$13-1)*($I83-AX$39)/AX$39,D$13)),3) -> 1.693 | AQ83: =1/8/I83^0.5 -> 0.10225312 | AR83: =IF(AQ83>0.15,0.15,IF(AQ83<0.0625,0.0625,AQ83)) -> 0.10225312 | AS83: =$Q$5*AS$41*$Q$15*$AR83*$AH$6 -> 0.19073531 | AT83: =$Q$5*AT$41*$Q$15*$AR83*$AH$6 -> 0.14341001 | AU83: =$Q$5*AU$41*$Q$15*$AR83*$AH$6 -> 0.114728 | AV83: =$Q$5*AV$41*$Q$15*$AR83*$AH$6 -> 0.14341001 | AW83: =$AH$6*$Q$5*AW$41*$AR83*1.4*AW$40 -> 0.48185762 | AX83: =$AH$6*$Q$5*AX$41*$AR83*1.4*AX$40 -> 0.53807434 | AY83: =IF(I83>0.611,$T$12,IF(I83>0.406,AE$5+($T$12-AE$5)*(I83-0.406)/0.205,IF(I83>0.2,AE$5,IF(I83>0.03,AE$5+(AE$5-1)*(I83-0.2)/0.17,1)))) -> 1.7 | AZ83: =IF(I83<=S$17,1,IF(I83<T$17,X$17*I83+Y$17,IF(I83<U$17,Z$17,IF(I83<V$17,AA$17/I83^(AB$17),1)))) -> 1.3770866 | BA83: =AZ83/AY83 -> 0.81005097 | BB83: =IF(BA83>1,1,BA83) -> 0.81005097 | BC83: =AZ83*T$5 -> 0.45443859 | BD83: =$T$5*$T$11*BB83/1.4/$T$6*$AH$6 -> 0.17852945 | BE83: =AZ83*AD$5 -> 0.45443859 | BF83: =$V$5*$V$11*BB83/1.4/$V$6*$AH$6 -> 0.17852945 | BG83: =AA83 -> 0.36134904 | BH83: =AK83 -> 0.40484475 | BI83: =AO83/1.5*$AH$6 -> 0.12529 | BJ83: =Y83/B$13*1.4 -> 0.3122 | BK83: =I83 -> 1.4944 | BL83: =BJ83*U$39 -> 306.2682
I84: =I83+0.05 -> 1.5444 | J84: =ROUND(IF($I84>=D$17,D$12,IF($I84>=F$17,D$13+(D$12-D$13)*($I84-0.6*D$17)/0.4/D$17,IF($I84<E$17,D$13+(D$13-1)*($I84-E$17)/E$17,D$13))),3) -> 1.933 | K84: =IF($I84<E$17,ROUND(B$17*(0.4+3*$I84/D$17),3),IF($I84<=D$17,B$17,IF($I84<=2.5*D$17,C$17/$I84,0.4*B$17))) -> 0.55180005 | L84: =ROUND(K84/J84,4) -> 0.2855 | M84: =IF(L84<=0.3,L84,IF(L84<0.8,ROUND(0.52*L84+0.144,3),0.7*L84)) -> 0.2855 | N84: =ROUND(B$13*M84/1.4/B$14,3) -> 0.204 | O84: =ROUND(IF($I84>=D$19,D$12,IF($I84>=F$19,D$13+(D$12-D$13)*($I84-0.6*D$19)/0.4/D$19,IF($I84<E$19,D$13+(D$13-1)*($I84-E$19)/E$19,D$13))),3) -> 1.933 | P84: =IF($I84<E$19,ROUND(B$19*(0.4+3*$I84/D$19),3),IF($I84<=D$19,B$19,IF($I84<=2.5*D$19,C$19/$I84,0.4*B$19))) -> 0.43706294 | Q84: =ROUND(P84/O84,4) -> 0.2261 | R84: =IF(Q84<=0.3,Q84,IF(Q84<0.8,ROUND(0.52*Q84+0.144,3),0.7*Q84)) -> 0.2261 | S84: =ROUND(B$13*O84*R84/4.2/B$14,3) -> 0.104 | T84: =ROUND(IF($I84>=D$21,B$12,IF($I84>=F$21,D$14+(B$12-D$14)*($I84-0.6*D$21)/0.4/D$21,IF($I84<E$21,D$14+(D$14-1)*($I84-E$21)/E$21,D$14))),3) -> 2.4 | U84: =IF($I84<E$21,ROUND(B$21*(0.4+3*$I84/D$21),3),IF($I84<=D$21,B$21,IF($I84<=2.5*D$21,C$21/$I84,0.4*B$21))) -> 0.74898278 | V84: =ROUND(U84/T84,4) -> 0.3121 | W84: =IF(V84<=0.3,V84,IF(V84<0.8,ROUND(0.52*V84+0.144,3),0.7*V84)) -> 0.306 | X84: =ROUND(B$13*W84/1.4/B$14,3) -> 0.219 | Y84: =MAX(X84,S84,N84) -> 0.219 | Z84: =ROUND(IF($I84>=K$17,D$12,IF($I84>=M$17,D$13+(D$12-D$13)*($I84-0.6*K$17)/0.4/K$17,IF($I84<L$17,D$13+(D$13-1)*($I84-L$17)/L$17,D$13))),3) -> 1.933 | AA84: =IF($I84<L$17,ROUND(I$17*(0.4+3*$I84/K$17),3),IF($I84<=K$17,I$17,IF($I84<=2.5*K$17,J$17/$I84,0.4*I$17))) -> 0.34965035 | AB84: =ROUND(AA84/Z84,4) -> 0.1809 | AC84: =IF(AB84<=0.3,AB84,IF(AB84<0.8,ROUND(0.52*AB84+0.144,3),0.7*AB84)) -> 0.1809 | AD84: =ROUND(B$13*AC84/1.4/B$14,3) -> 0.129 | AE84: =ROUND(IF($I84>=K$19,D$12,IF($I84>=M$19,D$13+(D$12-D$13)*($I84-0.6*K$19)/0.4/K$19,IF($I84<L$19,D$13+(D$13-1)*($I84-L$19)/L$19,D$13))),3) -> 1.933 | AF84: =IF($I84<L$19,ROUND(I$19*(0.4+3*$I84/K$19),3),IF($I84<=K$19,I$19,IF($I84<=2.5*K$19,J$19/$I84,0.4*I$19))) -> 0.34965035 | AG84: =ROUND(AF84/AE84,4) -> 0.1809 | AH84: =IF(AG84<=0.3,AG84,IF(AG84<0.8,ROUND(0.52*AG84+0.144,3),0.7*AG84)) -> 0.1809 | AI84: =ROUND(B$13*AE84*AH84/4.2/B$14,3) -> 0.083 | AJ84: =ROUND(IF($I84>=K$21,B$12,IF($I84>=M$21,D$14+(B$12-D$14)*($I84-0.6*K$21)/0.4/K$21,IF($I84<L$21,D$14+(D$14-1)*($I84-L$21)/L$21,D$14))),3) -> 2.4 | AK84: =IF($I84<L$21,ROUND(I$21*(0.4+3*$I84/K$21),3),IF($I84<=K$21,I$21,IF($I84<=2.5*K$21,J$21/$I84,0.4*I$21))) -> 0.4 | AL84: =ROUND(AK84/AJ84,4) -> 0.1667 | AM84: =IF(AL84<=0.3,AL84,IF(AL84<0.8,ROUND(0.52*AL84+0.144,3),0.7*AL84)) -> 0.1667 | AN84: =ROUND(B$13*AM84/1.4/B$14,3) -> 0.119 | AO84: =MAX(AN84,AI84,AD84) -> 0.129 | AP84: =ROUND(IF($I84>=AX$38,D$13,IF($I84<AX$39,D$13+(D$13-1)*($I84-AX$39)/AX$39,D$13)),3) -> 1.693 | AQ84: =1/8/I84^0.5 -> 0.10058428 | AR84: =IF(AQ84>0.15,0.15,IF(AQ84<0.0625,0.0625,AQ84)) -> 0.10058428 | AS84: =$Q$5*AS$41*$Q$15*$AR84*$AH$6 -> 0.18762237 | AT84: =$Q$5*AT$41*$Q$15*$AR84*$AH$6 -> 0.14106945 | AU84: =$Q$5*AU$41*$Q$15*$AR84*$AH$6 -> 0.11285556 | AV84: =$Q$5*AV$41*$Q$15*$AR84*$AH$6 -> 0.14106945 | AW84: =$AH$6*$Q$5*AW$41*$AR84*1.4*AW$40 -> 0.47399337 | AX84: =$AH$6*$Q$5*AX$41*$AR84*1.4*AX$40 -> 0.52929259 | AY84: =IF(I84>0.611,$T$12,IF(I84>0.406,AE$5+($T$12-AE$5)*(I84-0.406)/0.205,IF(I84>0.2,AE$5,IF(I84>0.03,AE$5+(AE$5-1)*(I84-0.2)/0.17,1)))) -> 1.7 | AZ84: =IF(I84<=S$17,1,IF(I84<T$17,X$17*I84+Y$17,IF(I84<U$17,Z$17,IF(I84<V$17,AA$17/I84^(AB$17),1)))) -> 1.3472018 | BA84: =AZ84/AY84 -> 0.79247163 | BB84: =IF(BA84>1,1,BA84) -> 0.79247163 | BC84: =AZ84*T$5 -> 0.44457658 | BD84: =$T$5*$T$11*BB84/1.4/$T$6*$AH$6 -> 0.17465509 | BE84: =AZ84*AD$5 -> 0.44457658 | BF84: =$V$5*$V$11*BB84/1.4/$V$6*$AH$6 -> 0.17465509 | BG84: =AA84 -> 0.34965035 | BH84: =AK84 -> 0.4 | BI84: =AO84/1.5*$AH$6 -> 0.120615 | BJ84: =Y84/B$13*1.4 -> 0.3066 | BK84: =I84 -> 1.5444 | BL84: =BJ84*U$39 -> 300.7746
I85: =I84+0.05 -> 1.5944 | J85: =ROUND(IF($I85>=D$17,D$12,IF($I85>=F$17,D$13+(D$12-D$13)*($I85-0.6*D$17)/0.4/D$17,IF($I85<E$17,D$13+(D$13-1)*($I85-E$17)/E$17,D$13))),3) -> 1.933 | K85: =IF($I85<E$17,ROUND(B$17*(0.4+3*$I85/D$17),3),IF($I85<=D$17,B$17,IF($I85<=2.5*D$17,C$17/$I85,0.4*B$17))) -> 0.53449574 | L85: =ROUND(K85/J85,4) -> 0.2765 | M85: =IF(L85<=0.3,L85,IF(L85<0.8,ROUND(0.52*L85+0.144,3),0.7*L85)) -> 0.2765 | N85: =ROUND(B$13*M85/1.4/B$14,3) -> 0.198 | O85: =ROUND(IF($I85>=D$19,D$12,IF($I85>=F$19,D$13+(D$12-D$13)*($I85-0.6*D$19)/0.4/D$19,IF($I85<E$19,D$13+(D$13-1)*($I85-E$19)/E$19,D$13))),3) -> 1.933 | P85: =IF($I85<E$19,ROUND(B$19*(0.4+3*$I85/D$19),3),IF($I85<=D$19,B$19,IF($I85<=2.5*D$19,C$19/$I85,0.4*B$19))) -> 0.42335675 | Q85: =ROUND(P85/O85,4) -> 0.219 | R85: =IF(Q85<=0.3,Q85,IF(Q85<0.8,ROUND(0.52*Q85+0.144,3),0.7*Q85)) -> 0.219 | S85: =ROUND(B$13*O85*R85/4.2/B$14,3) -> 0.101 | T85: =ROUND(IF($I85>=D$21,B$12,IF($I85>=F$21,D$14+(B$12-D$14)*($I85-0.6*D$21)/0.4/D$21,IF($I85<E$21,D$14+(D$14-1)*($I85-E$21)/E$21,D$14))),3) -> 2.4 | U85: =IF($I85<E$21,ROUND(B$21*(0.4+3*$I85/D$21),3),IF($I85<=D$21,B$21,IF($I85<=2.5*D$21,C$21/$I85,0.4*B$21))) -> 0.72549486 | V85: =ROUND(U85/T85,4) -> 0.3023 | W85: =IF(V85<=0.3,V85,IF(V85<0.8,ROUND(0.52*V85+0.144,3),0.7*V85)) -> 0.301 | X85: =ROUND(B$13*W85/1.4/B$14,3) -> 0.215 | Y85: =MAX(X85,S85,N85) -> 0.215 | Z85: =ROUND(IF($I85>=K$17,D$12,IF($I85>=M$17,D$13+(D$12-D$13)*($I85-0.6*K$17)/0.4/K$17,IF($I85<L$17,D$13+(D$13-1)*($I85-L$17)/L$17,D$13))),3) -> 1.933 | AA85: =IF($I85<L$17,ROUND(I$17*(0.4+3*$I85/K$17),3),IF($I85<=K$17,I$17,IF($I85<=2.5*K$17,J$17/$I85,0.4*I$17))) -> 0.3386854 | AB85: =ROUND(AA85/Z85,4) -> 0.1752 | AC85: =IF(AB85<=0.3,AB85,IF(AB85<0.8,ROUND(0.52*AB85+0.144,3),0.7*AB85)) -> 0.1752 | AD85: =ROUND(B$13*AC85/1.4/B$14,3) -> 0.125 | AE85: =ROUND(IF($I85>=K$19,D$12,IF($I85>=M$19,D$13+(D$12-D$13)*($I85-0.6*K$19)/0.4/K$19,IF($I85<L$19,D$13+(D$13-1)*($I85-L$19)/L$19,D$13))),3) -> 1.933 | AF85: =IF($I85<L$19,ROUND(I$19*(0.4+3*$I85/K$19),3),IF($I85<=K$19,I$19,IF($I85<=2.5*K$19,J$19/$I85,0.4*I$19))) -> 0.3386854 | AG85: =ROUND(AF85/AE85,4) -> 0.1752 | AH85: =IF(AG85<=0.3,AG85,IF(AG85<0.8,ROUND(0.52*AG85+0.144,3),0.7*AG85)) -> 0.1752 | AI85: =ROUND(B$13*AE85*AH85/4.2/B$14,3) -> 0.081 | AJ85: =ROUND(IF($I85>=K$21,B$12,IF($I85>=M$21,D$14+(B$12-D$14)*($I85-0.6*K$21)/0.4/K$21,IF($I85<L$21,D$14+(D$14-1)*($I85-L$21)/L$21,D$14))),3) -> 2.4 | AK85: =IF($I85<L$21,ROUND(I$21*(0.4+3*$I85/K$21),3),IF($I85<=K$21,I$21,IF($I85<=2.5*K$21,J$21/$I85,0.4*I$21))) -> 0.4 | AL85: =ROUND(AK85/AJ85,4) -> 0.1667 | AM85: =IF(AL85<=0.3,AL85,IF(AL85<0.8,ROUND(0.52*AL85+0.144,3),0.7*AL85)) -> 0.1667 | AN85: =ROUND(B$13*AM85/1.4/B$14,3) -> 0.119 | AO85: =MAX(AN85,AI85,AD85) -> 0.125 | AP85: =ROUND(IF($I85>=AX$38,D$13,IF($I85<AX$39,D$13+(D$13-1)*($I85-AX$39)/AX$39,D$13)),3) -> 1.693 | AQ85: =1/8/I85^0.5 -> 0.098994569 | AR85: =IF(AQ85>0.15,0.15,IF(AQ85<0.0625,0.0625,AQ85)) -> 0.098994569 | AS85: =$Q$5*AS$41*$Q$15*$AR85*$AH$6 -> 0.18465704 | AT85: =$Q$5*AT$41*$Q$15*$AR85*$AH$6 -> 0.13883988 | AU85: =$Q$5*AU$41*$Q$15*$AR85*$AH$6 -> 0.11107191 | AV85: =$Q$5*AV$41*$Q$15*$AR85*$AH$6 -> 0.13883988 | AW85: =$AH$6*$Q$5*AW$41*$AR85*1.4*AW$40 -> 0.46650201 | AX85: =$AH$6*$Q$5*AX$41*$AR85*1.4*AX$40 -> 0.52092724 | AY85: =IF(I85>0.611,$T$12,IF(I85>0.406,AE$5+($T$12-AE$5)*(I85-0.406)/0.205,IF(I85>0.2,AE$5,IF(I85>0.03,AE$5+(AE$5-1)*(I85-0.2)/0.17,1)))) -> 1.7 | AZ85: =IF(I85<=S$17,1,IF(I85<T$17,X$17*I85+Y$17,IF(I85<U$17,Z$17,IF(I85<V$17,AA$17/I85^(AB$17),1)))) -> 1.3188872 | BA85: =AZ85/AY85 -> 0.77581599 | BB85: =IF(BA85>1,1,BA85) -> 0.77581599 | BC85: =AZ85*T$5 -> 0.43523277 | BD85: =$T$5*$T$11*BB85/1.4/$T$6*$AH$6 -> 0.1709843 | BE85: =AZ85*AD$5 -> 0.43523277 | BF85: =$V$5*$V$11*BB85/1.4/$V$6*$AH$6 -> 0.1709843 | BG85: =AA85 -> 0.3386854 | BH85: =AK85 -> 0.4 | BI85: =AO85/1.5*$AH$6 -> 0.116875 | BJ85: =Y85/B$13*1.4 -> 0.301 | BK85: =I85 -> 1.5944 | BL85: =BJ85*U$39 -> 295.281
I86: =I85+0.05 -> 1.6444 | J86: =ROUND(IF($I86>=D$17,D$12,IF($I86>=F$17,D$13+(D$12-D$13)*($I86-0.6*D$17)/0.4/D$17,IF($I86<E$17,D$13+(D$13-1)*($I86-E$17)/E$17,D$13))),3) -> 1.933 | K86: =IF($I86<E$17,ROUND(B$17*(0.4+3*$I86/D$17),3),IF($I86<=D$17,B$17,IF($I86<=2.5*D$17,C$17/$I86,0.4*B$17))) -> 0.51824374 | L86: =ROUND(K86/J86,4) -> 0.2681 | M86: =IF(L86<=0.3,L86,IF(L86<0.8,ROUND(0.52*L86+0.144,3),0.7*L86)) -> 0.2681 | N86: =ROUND(B$13*M86/1.4/B$14,3) -> 0.192 | O86: =ROUND(IF($I86>=D$19,D$12,IF($I86>=F$19,D$13+(D$12-D$13)*($I86-0.6*D$19)/0.4/D$19,IF($I86<E$19,D$13+(D$13-1)*($I86-E$19)/E$19,D$13))),3) -> 1.933 | P86: =IF($I86<E$19,ROUND(B$19*(0.4+3*$I86/D$19),3),IF($I86<=D$19,B$19,IF($I86<=2.5*D$19,C$19/$I86,0.4*B$19))) -> 0.41048407 | Q86: =ROUND(P86/O86,4) -> 0.2124 | R86: =IF(Q86<=0.3,Q86,IF(Q86<0.8,ROUND(0.52*Q86+0.144,3),0.7*Q86)) -> 0.2124 | S86: =ROUND(B$13*O86*R86/4.2/B$14,3) -> 0.098 | T86: =ROUND(IF($I86>=D$21,B$12,IF($I86>=F$21,D$14+(B$12-D$14)*($I86-0.6*D$21)/0.4/D$21,IF($I86<E$21,D$14+(D$14-1)*($I86-E$21)/E$21,D$14))),3) -> 2.4 | U86: =IF($I86<E$21,ROUND(B$21*(0.4+3*$I86/D$21),3),IF($I86<=D$21,B$21,IF($I86<=2.5*D$21,C$21/$I86,0.4*B$21))) -> 0.7034353 | V86: =ROUND(U86/T86,4) -> 0.2931 | W86: =IF(V86<=0.3,V86,IF(V86<0.8,ROUND(0.52*V86+0.144,3),0.7*V86)) -> 0.2931 | X86: =ROUND(B$13*W86/1.4/B$14,3) -> 0.209 | Y86: =MAX(X86,S86,N86) -> 0.209 | Z86: =ROUND(IF($I86>=K$17,D$12,IF($I86>=M$17,D$13+(D$12-D$13)*($I86-0.6*K$17)/0.4/K$17,IF($I86<L$17,D$13+(D$13-1)*($I86-L$17)/L$17,D$13))),3) -> 1.933 | AA86: =IF($I86<L$17,ROUND(I$17*(0.4+3*$I86/K$17),3),IF($I86<=K$17,I$17,IF($I86<=2.5*K$17,J$17/$I86,0.4*I$17))) -> 0.32838725 | AB86: =ROUND(AA86/Z86,4) -> 0.1699 | AC86: =IF(AB86<=0.3,AB86,IF(AB86<0.8,ROUND(0.52*AB86+0.144,3),0.7*AB86)) -> 0.1699 | AD86: =ROUND(B$13*AC86/1.4/B$14,3) -> 0.121 | AE86: =ROUND(IF($I86>=K$19,D$12,IF($I86>=M$19,D$13+(D$12-D$13)*($I86-0.6*K$19)/0.4/K$19,IF($I86<L$19,D$13+(D$13-1)*($I86-L$19)/L$19,D$13))),3) -> 1.933 | AF86: =IF($I86<L$19,ROUND(I$19*(0.4+3*$I86/K$19),3),IF($I86<=K$19,I$19,IF($I86<=2.5*K$19,J$19/$I86,0.4*I$19))) -> 0.32838725 | AG86: =ROUND(AF86/AE86,4) -> 0.1699 | AH86: =IF(AG86<=0.3,AG86,IF(AG86<0.8,ROUND(0.52*AG86+0.144,3),0.7*AG86)) -> 0.1699 | AI86: =ROUND(B$13*AE86*AH86/4.2/B$14,3) -> 0.078 | AJ86: =ROUND(IF($I86>=K$21,B$12,IF($I86>=M$21,D$14+(B$12-D$14)*($I86-0.6*K$21)/0.4/K$21,IF($I86<L$21,D$14+(D$14-1)*($I86-L$21)/L$21,D$14))),3) -> 2.4 | AK86: =IF($I86<L$21,ROUND(I$21*(0.4+3*$I86/K$21),3),IF($I86<=K$21,I$21,IF($I86<=2.5*K$21,J$21/$I86,0.4*I$21))) -> 0.4 | AL86: =ROUND(AK86/AJ86,4) -> 0.1667 | AM86: =IF(AL86<=0.3,AL86,IF(AL86<0.8,ROUND(0.52*AL86+0.144,3),0.7*AL86)) -> 0.1667 | AN86: =ROUND(B$13*AM86/1.4/B$14,3) -> 0.119 | AO86: =MAX(AN86,AI86,AD86) -> 0.121 | AP86: =ROUND(IF($I86>=AX$38,D$13,IF($I86<AX$39,D$13+(D$13-1)*($I86-AX$39)/AX$39,D$13)),3) -> 1.693 | AQ86: =1/8/I86^0.5 -> 0.097477926 | AR86: =IF(AQ86>0.15,0.15,IF(AQ86<0.0625,0.0625,AQ86)) -> 0.097477926 | AS86: =$Q$5*AS$41*$Q$15*$AR86*$AH$6 -> 0.18182801 | AT86: =$Q$5*AT$41*$Q$15*$AR86*$AH$6 -> 0.13671279 | AU86: =$Q$5*AU$41*$Q$15*$AR86*$AH$6 -> 0.10937023 | AV86: =$Q$5*AV$41*$Q$15*$AR86*$AH$6 -> 0.13671279 | AW86: =$AH$6*$Q$5*AW$41*$AR86*1.4*AW$40 -> 0.45935498 | AX86: =$AH$6*$Q$5*AX$41*$AR86*1.4*AX$40 -> 0.51294639 | AY86: =IF(I86>0.611,$T$12,IF(I86>0.406,AE$5+($T$12-AE$5)*(I86-0.406)/0.205,IF(I86>0.2,AE$5,IF(I86>0.03,AE$5+(AE$5-1)*(I86-0.2)/0.17,1)))) -> 1.7 | AZ86: =IF(I86<=S$17,1,IF(I86<T$17,X$17*I86+Y$17,IF(I86<U$17,Z$17,IF(I86<V$17,AA$17/I86^(AB$17),1)))) -> 1.2920149 | BA86: =AZ86/AY86 -> 0.76000877 | BB86: =IF(BA86>1,1,BA86) -> 0.76000877 | BC86: =AZ86*T$5 -> 0.42636492 | BD86: =$T$5*$T$11*BB86/1.4/$T$6*$AH$6 -> 0.1675005 | BE86: =AZ86*AD$5 -> 0.42636492 | BF86: =$V$5*$V$11*BB86/1.4/$V$6*$AH$6 -> 0.1675005 | BG86: =AA86 -> 0.32838725 | BH86: =AK86 -> 0.4 | BI86: =AO86/1.5*$AH$6 -> 0.113135 | BJ86: =Y86/B$13*1.4 -> 0.2926 | BK86: =I86 -> 1.6444 | BL86: =BJ86*U$39 -> 287.0406
