Workbook
Name 八里區: 台北盆地設計反應譜!$E$788:$F$796
Name 三重區: 台北盆地設計反應譜!$E$361:$F$361
Name 三義斷層: 斷層距離!$C$34:$AI$58
Name 土城區: 台北盆地設計反應譜!$E$389:$F$426
Name 士林區: 台北盆地設計反應譜!$E$204:$F$245
Name 大甲斷層全段、鐵砧山斷層、彰化斷層: 斷層距離!$C$59:$AI$115
Name 大同區: 台北盆地設計反應譜!$E$33:$F$33
Name 大安區: 台北盆地設計反應譜!$E$109:$F$161
Name 大尖山斷層、觸口斷層: 斷層距離!$C$235:$AI$250
Name 大茅埔一雙冬斷層: 斷層距離!$C$192:$AI$221
Name 中山區: 台北盆地設計反應譜!$E$34:$F$75
Name 中正區: 台北盆地設計反應譜!$E$2:$F$32
Name 中和區: 台北盆地設計反應譜!$E$653:$F$743
Name 五股區: 台北盆地設計反應譜!$E$363:$F$374
Name 內湖區: 台北盆地設計反應譜!$E$279:$F$309
Name 六甲斷層: 斷層距離!$C$251:$AI$255
Name 屯子腳斷層: 斷層距離!$C$116:$AI$138
Name 文山區: 台北盆地設計反應譜!$E$327:$F$360
Name 北投區: 台北盆地設計反應譜!$E$246:$F$278
Name 台北市區里: 台北盆地設計反應譜!$D$2:$F$360
Name 永和區: 台北盆地設計反應譜!$E$388:$F$388
Name 地盤種類: 工址放大係數!$A$23:$A$25
Name 地盤種類: 工址放大係數!$A$23:$A$25
Name 汐止區: 台北盆地設計反應譜!$E$797:$F$819
Name 米崙斷層、嶺頂斷層、瑞穗斷層、玉里斷層、池上斷層、鹿野斷層、利吉斷層: 斷層距離!$C$281:$AI$303
Name 行政區: 台北盆地設計反應譜!$A$14:$A$14
Name 車籠埔斷層全段: 斷層距離!$C$139:$AI$191
Name 宜蘭縣: 設計反應譜!$C$40:$V$52
Name 宜蘭縣三星鄉: 設計反應譜!$J$49
Name 宜蘭縣大同鄉: 設計反應譜!$J$50
Name 宜蘭縣五結鄉: 設計反應譜!$J$46
Name 宜蘭縣冬山鄉: 設計反應譜!$J$47
Name 宜蘭縣壯圍鄉: 設計反應譜!$J$43
Name 宜蘭縣宜蘭市: 設計反應譜!$J$40
Name 宜蘭縣南澳鄉: 設計反應譜!$J$51
Name 宜蘭縣員山鄉: 設計反應譜!$J$44
Name 宜蘭縣頭城鎮: 設計反應譜!$J$41
Name 宜蘭縣礁溪鎮: 設計反應譜!$J$42
Name 宜蘭縣羅東鎮: 設計反應譜!$J$45
Name 宜蘭縣蘇澳鎮: 設計反應譜!$J$48
Name 松山區: 台北盆地設計反應譜!$E$76:$F$108
Name 板橋區: 台北盆地設計反應譜!$E$527:$F$652
Name 花蓮縣: 設計反應譜!$C$332:$V$344
Name 花蓮縣玉里鎮: 設計反應譜!$J$334
Name 花蓮縣光復鄉: 設計反應譜!$J$338
Name 花蓮縣吉安鄉: 設計反應譜!$J$336
Name 花蓮縣秀林鄉: 設計反應譜!$J$342
Name 花蓮縣卓溪鄉: 設計反應譜!$J$344
Name 花蓮縣花蓮市: 設計反應譜!$J$332
Name 花蓮縣富里鄉: 設計反應譜!$J$341
Name 花蓮縣新城鄉: 設計反應譜!$J$335
Name 花蓮縣瑞穗鄉: 設計反應譜!$J$340
Name 花蓮縣萬榮鄉: 設計反應譜!$J$343
Name 花蓮縣壽豐鄉: 設計反應譜!$J$337
Name 花蓮縣鳳山鎮: 設計反應譜!$J$333
Name 花蓮縣豐濱鄉: 設計反應譜!$J$339
Name 金門縣: 設計反應譜!$C$352:$V$357
Name 金門縣金沙鎮: 設計反應譜!$J$353
Name 金門縣金城鎮: 設計反應譜!$J$354
Name 金門縣金湖鎮: 設計反應譜!$J$352

Sheet 一般工址Cs
A1: 111年10月1日 | H1: 100年7月1日 | M1: =VLOOKUP($H3,INDIRECT($H2),17,FALSE) -> 屯子腳、車籠埔斷層 | N1: =VLOOKUP($H3,INDIRECT($H2),18,FALSE) -> 2 | S1: 地盤種類
A2: 地震分區 | B2: 臺中市 | C2: SSD | D2: S1D | E2: SSM | F2: S1M | H2: 臺中市 | I2: SSD | J2: S1D | K2: SSM | L2: S1M | O2: ="規範最小地震橫力係數 Cs*載重組合係數之比較 ["&B5 & ", R=" & B12 & "]" -> 規範最小地震橫力係數 Cs*載重組合係數之比較 [第三類, R=2.4] | S2: =B5 -> 第三類 | T2: =IF($B5="第一類",1.2,IF($B5="第二類",1.5,1.8)) -> 1.8
B3: 北屯區 | C3: =VLOOKUP($B3,INDIRECT($B2),4,FALSE) -> 0.8 | D3: =VLOOKUP($B3,INDIRECT($B2),5,FALSE) -> 0.45 | E3: =VLOOKUP($B3,INDIRECT($B2),6,FALSE) -> 1 | F3: =VLOOKUP($B3,INDIRECT($B2),7,FALSE) -> 0.55 | H3: 北屯區 | I3: =VLOOKUP($H3,INDIRECT($H2),13,FALSE) -> 0.8 | J3: =VLOOKUP($H3,INDIRECT($H2),14,FALSE) -> 0.45 | K3: =VLOOKUP($H3,INDIRECT($H2),15,FALSE) -> 1 | L3: =VLOOKUP($H3,INDIRECT($H2),16,FALSE) -> 0.55 | O3: 興建日期 | P3: 31777 | Q3: =VLOOKUP($H3,INDIRECT($H2),19,FALSE) -> 中震區 | W3: 30147 | Y3: 32633 | AA3: 35587 | AC3: 36526 | AF3: Loading Factor
B4: 地盤分類 | C4: F*aD | D4: F*vD | E4: FaM | F4: FvM | H4: 地盤分類 | I4: NAD | J4: NVD | K4: NAM | L4: NVM | O4: =IF(P3<=W4,"建技71",IF(P3<=Y4,"建技78",IF(P3<=AA4,"建技86",IF(P3<=AC4,"建技89",#REF!)))) -> 建技71 | P4: =IF(P3<=W4,W9,IF(P3<=Y4,W11,IF(P3<=AA4,W13,IF(P3<=AC4,W15,#REF!)))) -> 71/7/15~78/5/4 | Q4: 強震區 | S4: 86~88 | T4: 地震一甲區 | U4: 89~94 | V4: 甲區 | W4: 32632 | X4: Z | Y4: 35586 | Z4: Z | AA4: 36525 | AB4: Z | AC4: 38717 | AD4: Z | AE4: (2*Ra-1)^0.5 | AF4: D | AG4: L | AH4: E
B5: 第三類 | C5: =IF($B5="第一類",1,IF($B5="第二類",IF(C3<=0.6,1.1,IF(C3>=0.7,1,1.1+(0.6-C3))),IF(C3<=0.6,1.2,IF(C3>=0.8,1,1.2+(0.6-C3))))) -> 1 | D5: =IF($B5="第一類",1,IF($B5="第二類",IF(D3<=0.3,1.5,IF(D3>=0.5,1.1,1.5+(0.3-D3)*2)),IF(D3<=0.3,1.8,IF(D3>=0.5,1.4,1.8+(0.3-D3)*2)))) -> 1.5 | E5: - | F5: - | H5: 第二類 | I5: =VLOOKUP($H6,$R21:$V28,2,FALSE) -> 1 | J5: =VLOOKUP($H6,$R21:$V28,3,FALSE) -> 1 | K5: =VLOOKUP($H6,$R21:$V28,4,FALSE) -> 1 | L5: =VLOOKUP($H6,$R21:$V28,5,FALSE) -> 1 | O5: 震區係數 | P5: Z = | Q5: =VLOOKUP(Q4,W5:X7,2,FALSE) -> 1 | R5: 震區水平加速度係數 | S5: Z = | T5: =VLOOKUP(T4,AA5:AB8,2,FALSE) -> 0.33 | U5: Z = | V5: =VLOOKUP(V4,AC5:AD6,2,FALSE) -> 0.33 | W5: 強震區 | X5: 1 | Y5: 強震區 | Z5: 1 | AA5: 地震一甲區 | AB5: 0.33 | AC5: 甲區 | AD5: 0.33 | AE5: =(2*T12-1)^0.5 -> 1.5491933 | AF5: 0.9 | AH5: 1.43
B6: 車籠埔斷層全段 | C6: SSD | D6: S1D | E6: SSM | F6: S1M | H6: 車籠埔斷層 | I6: SSD*NAD | J6: S1D*NVD | K6: SSM*NAM | L6: S1M*NVM | O6: 組構係數 | P6: K = | Q6: 0.67 | R6: 起始降伏地震力放大倍數 | S6: αy = | T6: 1.5 | U6: αy = | V6: =T6 -> 1.5 | W6: 中震區 | X6: 0.8 | Y6: 中震區 | Z6: 0.8 | AA6: 地震一乙區 | AB6: 0.28 | AC6: 乙區 | AD6: 0.23 | AF6: 1.05 | AG6: 1.275 | AH6: 1.4025
A7: 斷層距離(km) | B7: 1.251 | C7: =IF($B6="", C3,IF($B7>=14,C40,C39+($B7-$B39)*(C40-C39)/$F38)) -> 0.97498 | D7: =IF($B6="", D3,IF($B7>=14,D40,D39+($B7-$B39)*(D40-D39)/$F38)) -> 0.608745 | E7: =IF($B6="", E3,IF($B7>=14,E40,E39+($B7-$B39)*(E40-E39)/$F38)) -> 1.24498 | F7: =IF($B6="", F3,IF($B7>=14,F40,F39+($B7-$B39)*(F40-F39)/$F38)) -> 0.826235 | H7: 12.42 | I7: =I3*I5 -> 0.8 | J7: =J3*J5 -> 0.45 | K7: =K3*K5 -> 1 | L7: =L3*L5 -> 0.55 | O7: 基本振動周期 | P7: T =0.06hn3/4 | Q7: =0.06*B10^0.75 -> 0.74398242 | R7: 基本振動周期 | S7: T = | T7: =0.06*$B10^0.75 -> 0.74398242 | U7: T = | V7: =0.07*$B10^0.75 -> 0.86797949 | W7: 輕震區 | X7: 0.6 | Y7: 輕震區 | Z7: 0.6 | AA7: 地震二區 | AB7: 0.23 | AF7: 1.2 | AG7: 1 | AH7: 1
A8: 工址放大係數 | C8: FaD | D8: FvD | E8: FaM | F8: FvM | H8: 工址放大係數 | I8: FaD | J8: FvD | K8: FaM | L8: FvM | O8: 震力係數 | P8: C = | Q8: =MIN(Q9,Q10) -> 0.1449 | R8: 工址正規化水平加速度反應譜係數 | S8: C = | T8: =IF(T7<=S17,W17,IF(T7<=T17,X17*T7+Y17,IF(T7<=U17,Z17,IF(T7<=V17,AA17/T7^(AB17))))) -> 2.1922869 | U8: C = | V8: =IF(V7<=S17,W17,IF(V7<=T17,X17*V7+Y17,IF(V7<=U17,Z17,IF(V7<=V17,AA17/V7^(AB17))))) -> 1.9781818 | AA8: 地震三區 | AB8: 0.18
C9: =IF($B5="第一類",1,IF($B5="第二類",IF(C7<=0.6,1.1,IF(C7>=0.7,1,1.1+(0.6-C7))),IF(C7<=0.6,1.2,IF(C7>=0.8,1,1.2+(0.6-C7))))) -> 1 | D9: =IF($B5="第一類",1,IF($B5="第二類",IF(D7<=0.3,1.5,IF(D7>=0.5,1.1,1.5+(0.3-D7)*2)),IF(D7<=0.3,1.8,IF(D7>=0.5,1.4,1.8+(0.3-D7)*2)))) -> 1.4 | E9: =IF($B5="第一類",1,IF($B5="第二類",IF(E7<=0.6,1.1,IF(E7>=0.7,1,1.1+(0.6-E7))),IF(E7<=0.6,1.2,IF(E7>=0.8,1,1.2+(0.6-E7))))) -> 1 | F9: =IF($B5="第一類",1,IF($B5="第二類",IF(F7<=0.3,1.5,IF(F7>=0.5,1.1,1.5+(0.3-F7)*2)),IF(F7<=0.3,1.8,IF(F7>=0.5,1.4,1.8+(0.3-F7)*2)))) -> 1.4 | I9: =IF($H5="第一類",1,IF($H5="第二類",IF(I7<=0.6,1.1,IF(I7>=0.7,1,1.1+(0.6-I7))),IF(I7<=0.6,1.2,IF(I7>=0.8,1,1.2+(0.6-I7))))) -> 1 | J9: =IF($H5="第一類",1,IF($H5="第二類",IF(J7<=0.3,1.5,IF(J7>=0.5,1.1,1.5+(0.3-J7)*2)),IF(J7<=0.3,1.8,IF(J7>=0.5,1.4,1.8+(0.3-J7)*2)))) -> 1.2 | K9: =IF($H5="第一類",1,IF($H5="第二類",IF(K7<=0.6,1.1,IF(K7>=0.7,1,1.1+(0.6-K7))),IF(K7<=0.6,1.2,IF(K7>=0.8,1,1.2+(0.6-K7))))) -> 1 | L9: =IF($H5="第一類",1,IF($H5="第二類",IF(L7<=0.3,1.5,IF(L7>=0.5,1.1,1.5+(0.3-L7)*2)),IF(L7<=0.3,1.8,IF(L7>=0.5,1.4,1.8+(0.3-L7)*2)))) -> 1.1 | P9: 1/8√T= | Q9: =ROUND(1/8/(Q7^0.5),4) -> 0.1449 | W9: 71/7/15~78/5/4 | X9: 強震區 | Y9: 中震區 | Z9: 輕震區
A10: 屋頂面高度 hn(m) | B10: 28.7 | C10: Tcode(sec) | D10: Tdyn(sec) | E10: 1.4Tcode | F10: T (sec) | H10: =A10&" = " &B10 -> 屋頂面高度 hn(m) = 28.7 | I10: Tcode | J10: Tdyn | K10: 1.4Tcode | L10: T (sec) | N10: Tz (sec) | P10: <= | Q10: 0.15 | X10: 1 | Y10: 0.8 | Z10: 0.6
A11: 經驗公式構造分類 | B11: RC | C11: =ROUND(IF(B11="鋼構",0.085,IF(B11="RC",0.07,0.05))*B$10^0.75,4) -> 0.868 | D11: 0.868 | E11: =C11*1.4 -> 1.2152 | F11: =ROUND(IF(C11>=D11,D11,IF(D11>=E11,E11,D11)),4) -> 0.868 | H11: =A11&" = " &B11 -> 經驗公式構造分類 = RC | I11: =C11 -> 0.868 | J11: =D11 -> 0.868 | K11: =E11 -> 1.2152 | L11: =ROUND(IF(I11>=J11,J11,IF(J11>=K11,K11,J11)),4) -> 0.868 | M11: =IF(L11<=0.2*K17,"較短週期",IF(L11<=K17,"短週期",IF(L11<=2.5*K17,"中週期","長週期"))) -> 中週期 | N11: 0.001 | O11: 載重因子 | P11: γ= | Q11: =AH6 -> 1.4025 | R11: 用途係數 | S11: I = | T11: 1 | U11: I = | V11: =T11 -> 1 | W11: 78/5/5~86/6/5 | X11: 強震區 | Y11: 中震區 | Z11: 輕震區
A12: 系統韌性容量 R | B12: 2.4 | C12: 容許韌性容量 Ra | D12: =1+(B12-1)/1.5 -> 1.9333333 | F12: =IF(F11<=0.2*D17,"較短週期",IF(F11<=D17,"短週期",IF(F11<=2.5*D17,"中週期","長週期"))) -> 短週期 | H12: =A12&" = " &B12 -> 系統韌性容量 R = 2.4 | I12: FaD* | J12: FvD* | K12: FaM* | L12: FvM* | M12: 容許韌性容量 Ra | O12: 地震力係數 | P12: γZKC= | Q12: =ROUND(Q11*Q5*Q6*Q8,4) -> 0.1362 | R12: 容許韌性容量 | S12: Ra = | T12: =1+($B12-1)/2 -> 1.7 | U12: Ra = | V12: =T12 -> 1.7 | X12: 1 | Y12: 0.8 | Z12: 0.6
A13: 用途係數 I | B13: 1 | C13: √(2Ra-1) | D13: =ROUND((2*D12-1)^0.5,4) -> 1.6931 | H13: =A13&" = " &B13 -> 用途係數 I = 1 | I13: =IF($H5="第一類",1,IF($H5="第二類",IF(I3<=0.6,1.1,IF(I3>=0.7,1,1.1+(0.6-I3))),IF(I3<=0.6,1.2,IF(I3>=0.8,1,1.2+(0.6-I3))))) -> 1 | J13: =IF($H5="第一類",1,IF($H5="第二類",IF(J3<=0.3,1.5,IF(J3>=0.5,1.1,1.5+(0.3-J3)*2)),IF(J3<=0.3,1.8,IF(J3>=0.5,1.4,1.8+(0.3-J3)*2)))) -> 1.2 | K13: =IF($H5="第一類",1,IF($H5="第二類",IF(K3<=0.6,1.1,IF(K3>=0.7,1,1.1+(0.6-K3))),IF(K3<=0.6,1.2,IF(K3>=0.8,1,1.2+(0.6-K3))))) -> 1 | L13: =IF($H5="第一類",1,IF($H5="第二類",IF(L3<=0.3,1.5,IF(L3>=0.5,1.1,1.5+(0.3-L3)*2)),IF(L3<=0.3,1.8,IF(L3>=0.5,1.4,1.8+(0.3-L3)*2)))) -> 1.1 | M13: =D12 -> 1.9333333 | P13: Fu = | Q13: =ROUND(8/(3*Q6),1) -> 4 | R13: 結構系統地震力折減係數 | S13: Fu = | T13: =IF(T7>0.611,T$12,IF(IF(T7>0.611,T$12,IF(T7>0.406,AE$5+(T$12-AE$5)*(T7-0.406)/0.205,IF(T7>0.2,AE$5,IF(T7>0.03,AE$5+(AE$5-1)*(T7-0.2)/0.17,1))))>0.406,AE$5+(T$12-AE$5)*(T7-0.406)/0.205,IF(T7>0.2,AE$5,IF(T7>0.03,AE$5+(AE$5-1)*(T7-0.2)/0.17,1)))) -> 1.7 | U13: Fu = | V13: =T13 -> 1.7 | W13: 86/6/6~88/12/31 | X13: 地震一甲區 | Y13: 地震一乙區 | Z13: 地震二區 | AA13: 地震三區
A14: 起始降伏地震力放大倍數αy | B14: 1 | C14: √(2R-1) | D14: =ROUND((2*B12-1)^0.5,4) -> 1.9494 | H14: =A14&" = " &B14 -> 起始降伏地震力放大倍數αy = 1 | I14: =C13 & "="&D13 -> √(2Ra-1)=1.6931 | K14: =C14 & "="&D14 -> √(2R-1)=1.9494 | O14: 設計反應譜 | P14: Sa=1.4γZKCFu= | Q14: =ROUND(Q12*1.4*Q13,4) -> 0.7627 | S14: C/Fu= | T14: =ROUND(T8/T13,4) -> 1.2896 | U14: C/Fu= | V14: =ROUND(V8/V13,4) -> 1.1636 | X14: 0.33 | Y14: 0.28 | Z14: 0.23 | AA14: 0.18
A15: 工址水平譜加速度係數 | H15: 工址水平譜加速度係數 | O15: 用途係數 | P15: I = | Q15: 1 | S15: (C/Fu)m= | T15: =IF(T14>1,1,T14) -> 1 | U15: (C/Fu)m= | V15: =IF(V14>1,1,V14) -> 1 | W15: 89/1/1~94/12/31 | X15: 甲區 | Y15: 乙區
A16: 最小設計水平總橫力 | B16: SDS=SSD*FaD | C16: SD1=S1D*FvD | D16: T0D | E16: 0.2T0D | F16: 0.6T0D | H16: 最小設計水平總橫力 | I16: SDS | J16: SD1 | K16: T0D | L16: 0.2T0D | M16: 0.6T0D | N16: 2.5T0D | O16: 最小總橫力係數 | P16: Cs = | Q16: =Q5*Q6*Q8*Q15 -> 0.097083 | S16: Cs = | T16: =T5*T11/1.4/T6*T15 -> 0.15714286 | U16: Cs = | V16: =V5*V11*V8/1.4/V6/V13 -> 0.18285714 | X16: 0.33 | Y16: 0.23
B17: =ROUND(C$9*C$7,4) -> 0.975 | C17: =ROUND(D$9*D$7,4) -> 0.8522 | D17: =ROUND(C$17/B$17,4) -> 0.8741 | E17: =ROUND(D17*0.2,4) -> 0.1748 | F17: =ROUND(D17*0.6,4) -> 0.5245 | I17: =ROUND(I3*I$9*I$5,4) -> 0.8 | J17: =ROUND(J3*J$9*J$5,4) -> 0.54 | K17: =ROUND(J$17/I$17,4) -> 0.675 | L17: =ROUND(K17*0.2,4) -> 0.135 | M17: =ROUND(K17*0.6,4) -> 0.405 | N17: =K17*2.5 -> 1.6875 | P17: γCs = | Q17: =ROUND(Q16*Q11,4) -> 0.1362 | S17: =VLOOKUP($B$5,工址放大係數!$A$12:$K$14,2,FALSE) -> 0.03 | T17: =VLOOKUP($B$5,工址放大係數!$A$12:$K$14,3,FALSE) -> 0.2 | U17: =VLOOKUP($B$5,工址放大係數!$A$12:$K$14,4,FALSE) -> 0.611 | V17: =VLOOKUP($B$5,工址放大係數!$A$12:$K$14,5,FALSE) -> 2.415 | W17: =VLOOKUP($B$5,工址放大係數!$A$12:$H$14,6,FALSE) -> 1 | X17: =VLOOKUP($B$5,工址放大係數!$A$12:$K$14,7,FALSE) -> 8.824 | Y17: =VLOOKUP($B$5,工址放大係數!$A$12:$K$14,8,FALSE) -> 0.7352 | Z17: =VLOOKUP($B$5,工址放大係數!$A$12:$K$14,9,FALSE) -> 2.5 | AA17: =VLOOKUP($B$5,工址放大係數!$A$12:$J$14,10,FALSE) -> 1.8 | AB17: =VLOOKUP($B$5,工址放大係數!$A$12:$K$14,11,FALSE) -> 0.66666667
A18: 避免中小度地震下降伏 | B18: SDS* | C18: SD1* | D18: T0D | E18: 0.2T0D | F18: 0.6T0D | H18: 避免中小度地震下降伏 | I18: SDS* | J18: SD1* | K18: T0D | L18: 0.2T0D | M18: 0.6T0D | N18: 2.5T0D | W18: K | X18: 0.67 | Y18: 0.8 | Z18: 1 | AA18: 1.33
B19: =C3*C5 -> 0.8 | C19: =D3*D5 -> 0.675 | D19: =ROUND(C19/B19,4) -> 0.8438 | E19: =D19*0.2 -> 0.16876 | F19: =D19*0.6 -> 0.50628 | I19: =I3*I13 -> 0.8 | J19: =J3*J13 -> 0.54 | K19: =ROUND(J19/I19,4) -> 0.675 | L19: =K19*0.2 -> 0.135 | M19: =K19*0.6 -> 0.405 | N19: =K19*2.5 -> 1.6875 | Q19: 距離 | R19: =H7 -> 12.42 | S19: km
A20: 避免最大考量地震下崩塌 | B20: SMS=SSM*FaM | C20: SM1=S1M*FvM | D20: T0M | E20: 0.2T0M | F20: 0.6T0M | H20: 避免最大考量地震下崩塌 | I20: SMS | J20: SM1 | K20: T0M | L20: 0.2T0M | M20: 0.6T0M | N20: 2.5T0D | R20: 40725 | S20: NaD | T20: NvD | U20: NaM | V20: NvM
B21: =E$9*E$7 -> 1.24498 | C21: =F$9*F$7 -> 1.156729 | D21: =ROUND(C$21/B$21,4) -> 0.9291 | E21: =ROUND(D21*0.2,4) -> 0.1858 | F21: =ROUND(D21*0.6,4) -> 0.5575 | I21: =K3*K$9*K$5 -> 1 | J21: =L3*L$9*L$5 -> 0.605 | K21: =ROUND(J$21/I$21,4) -> 0.605 | L21: =ROUND(K21*0.2,4) -> 0.121 | M21: =ROUND(K21*0.6,4) -> 0.363 | N21: =K21*2.5 -> 1.5125 | R21: 無 | S21: 1 | T21: 1 | U21: 1 | V21: 1
A22: AT = | B22: =0.4*B17*B13 & " g" -> 0.39 g | C22: ="= " & ROUND(0.4*B17*B13*981,1) & " gal" -> = 382.6 gal | H22: AT = | I22: =0.4*I17 & " g" -> 0.32 g | J22: ="= " & ROUND(0.4*I17*981,1) & " gal" -> = 313.9 gal | Q22: 1 | R22: 車籠埔斷層 | S22: =IF(R$19<=2,1.23,IF(R$19<=5,1.16,IF(R$19<=8,1.07,IF(R$19<=12,1.03,1)))) -> 1 | T22: =IF(R$19<=2,1.36,IF(R$19<=5,1.32,IF(R$19<=8,1.22,IF(R$19<=12,1.1,1)))) -> 1 | U22: =IF(R$19<=2,1.25,IF(R$19<=5,1.2,IF(R$19<=8,1.1,IF(R$19<=12,1.03,1)))) -> 1 | V22: =IF(R$19<=2,1.5,IF(R$19<=5,1.45,IF(R$19<=8,1.3,IF(R$19<=12,1.15,1)))) -> 1
A23: 工址設計水平譜加速度係數 | H23: 工址設計水平譜加速度係數 | N23: =IF(H6="無",1/2,2/3) -> 0.66666667 | Q23: 2 | R23: 獅潭與神卓山斷層 | S23: =IF(R$19<=2,1.28,IF(R$19<=5,1.2,IF(R$19<=8,1.1,1))) -> 1 | T23: =IF(R$19<=2,1.33,IF(R$19<=5,1.27,IF(R$19<=8,1.1,1))) -> 1 | U23: =IF(R$19<=2,1.26,IF(R$19<=5,1.18,IF(R$19<=8,1.05,1))) -> 1 | V23: =IF(R$19<=2,1.42,IF(R$19<=5,1.32,IF(R$19<=8,1.15,1))) -> 1
A24: 最小設計水平總橫力 | B24: SaD | C24: Fu | D24: SaD/Fu | E24: (SaD/Fu)m | H24: 最小設計水平總橫力 | I24: SaD | J24: Fu | K24: SaD/Fu | L24: (SaD/Fu)m | M24: (SaD,V/FuV)m | N24: SaD,V | O24: FuV | P24: SaD,V/FuV | Q24: 3 | R24: 屯子腳斷層 | S24: =IF(R$19<=2,1.28,IF(R$19<=5,1.2,IF(R$19<=10,1.1,1))) -> 1 | T24: =IF(R$19<=2,1.31,IF(R$19<=5,1.25,IF(R$19<=10,1.15,1))) -> 1 | U24: =IF(R$19<=2,1.26,IF(R$19<=5,1.17,IF(R$19<=10,1.05,1))) -> 1 | V24: =IF(R$19<=2,1.42,IF(R$19<=5,1.32,IF(R$19<=10,1.15,1))) -> 1
B25: =ROUND(IF($F$11>2.5*D17,0.4*B17,IF($F$11>D17,C17/$F$11,IF($F$11>E17,B17,B17*(0.4+3*$F$11/D17)))),4) -> 0.975 | C25: =ROUND(IF($F11>=D$17,$D$12,IF($F11>=F$17,$D$13+($D$12-$D$13)*($F11-0.6*D$17)/0.4/D$17,IF($F11<E$17,$D$13+($D$13-1)*($F11-E$17)/E$17,$D$13))),4) -> 1.9291 | D25: =ROUND(B25/C25,4) -> 0.5054 | E25: =IF(D25<=0.3,D25,IF(D25<0.8,ROUND(0.52*D25+0.144,4),0.7*D25)) -> 0.4068 | I25: =ROUND(IF($F$11>2.5*K17,0.4*I17,IF($F$11>K17,J17/$F$11,IF($F$11>L17,I17,I17*(0.4+3*$F$11/K17)))),4) -> 0.6221 | J25: =ROUND(IF($F11>=K$17,$D$12,IF($F11>=M$17,$D$13+($D$12-$D$13)*($F11-0.6*K$17)/0.4/K$17,IF($F11<L$17,$D$13+($D$13-1)*($F11-L$17)/L$17,$D$13))),4) -> 1.9333 | K25: =ROUND(I25/J25,4) -> 0.3218 | L25: =IF(K25<=0.3,K25,IF(K25<0.8,ROUND(0.52*K25+0.144,4),0.7*K25)) -> 0.3113 | M25: =IF(P25<=0.2,P25,IF(P25<0.53,ROUND(0.52*P25+0.096,4),0.7*P25)) -> 0.3102 | N25: =I25*N$23 -> 0.41473333 | O25: =ROUND(IF($N$11>=K17,$B$12,IF($N$11>=M17,$D$14+($B$12-$D$14)*($N$11-0.6*M17)/0.4/K17,IF($N$11<L17,$D$14+($D$14-1)*($N$11-L17)/L17,$D$14))),4) -> 1.007 | P25: =ROUND(N25/O25,4) -> 0.4119 | Q25: 4 | R25: 梅山斷層 | S25: =IF(R$19<=2,1.37,IF(R$19<=5,1.28,IF(R$19<=8,1.15,1))) -> 1 | T25: =IF(R$19<=2,1.44,IF(R$19<=5,1.36,IF(R$19<=8,1.2,1))) -> 1 | U25: =IF(R$19<=2,1.3,IF(R$19<=5,1.2,IF(R$19<=8,1.05,1))) -> 1 | V25: =IF(R$19<=2,1.48,IF(R$19<=5,1.36,IF(R$19<=8,1.15,1))) -> 1
A26: 避免中小度地震下降伏 | B26: SaD* | C26: Fu | D26: SaD*/Fu | E26: (SaD*/Fu)m | H26: 避免中小度地震下降伏 | I26: SaD* | J26: Fu | K26: SaD*/Fu | L26: (SaD*/Fu)m | Q26: 5 | R26: 新化斷層 | S26: =IF(R$19<=2,1.23,IF(R$19<=5,1.06,1)) -> 1 | T26: =IF(R$19<=2,1.15,IF(R$19<=5,1.05,1)) -> 1 | U26: =IF(R$19<=2,1.29,IF(R$19<=5,1.1,1)) -> 1 | V26: =IF(R$19<=2,1.3,IF(R$19<=5,1.15,1)) -> 1
B27: =ROUND(IF($F$11>2.5*D19,0.4*B19,IF($F$11>D19,C19/$F$11,IF($F$11>E19,B19,B19*(0.4+3*$F$11/D19)))),4) -> 0.7776 | C27: =ROUND(IF($F11>=D$19,$D$12,IF($F11>=F$19,$D$13+($D$12-$D$13)*($F11-0.6*D$19)/0.4/D$19,IF($F11<E$19,$D$13+($D$13-1)*(F11-E$19)/E$19,$D$13))),4) -> 1.9333 | D27: =ROUND(B27/C27,4) -> 0.4022 | E27: =IF(D27<=0.3,D27,IF(D27<0.8,ROUND(0.52*D27+0.144,4),0.7*D27)) -> 0.3531 | I27: =ROUND(IF($F$11>2.5*K19,0.4*I19,IF($F$11>K19,J19/$F$11,IF($F$11>L19,I19,I19*(0.4+3*$F$11/K19)))),4) -> 0.6221 | J27: =ROUND(IF($F11>=K$19,$D$12,IF($F11>=M$19,$D$13+($D$12-$D$13)*($F11-0.6*K$19)/0.4/K$19,IF($F11<L$19,$D$13+($D$13-1)*($F11-L$19)/L$19,$D$13))),4) -> 1.9333 | K27: =ROUND(I27/J27,4) -> 0.3218 | L27: =IF(K27<=0.3,K27,IF(K27<0.8,ROUND(0.52*K27+0.144,4),0.7*K27)) -> 0.3113 | M27: =IF(P27<=0.2,P27,IF(P27<0.53,ROUND(0.52*P27+0.096,4),0.7*P27)) -> 0.3102 | N27: =I27*N$23 -> 0.41473333 | O27: =ROUND(IF($N$11>=K19,$B$12,IF($N$11>=M19,$D$14+($B$12-$D$14)*($N$11-0.6*M19)/0.4/K19,IF($N$11<L19,$D$14+($D$14-1)*($N$11-L19)/L19,$D$14))),4) -> 1.007 | P27: =ROUND(N27/O27,4) -> 0.4119 | Q27: 6 | R27: 大尖山與觸口斷層 | S27: =IF(R$19<=2,1.15,IF(R$19<=5,1.08,IF(R$19<=8,1,1))) -> 1 | T27: =IF(R$19<=2,1.15,IF(R$19<=5,1.1,IF(R$19<=8,1.03,1))) -> 1 | U27: =IF(R$19<=2,1.21,IF(R$19<=5,1.17,IF(R$19<=8,1.05,1))) -> 1 | V27: =IF(R$19<=2,1.42,IF(R$19<=5,1.35,IF(R$19<=8,1.15,1))) -> 1
A28: 避免最大考量地震下崩塌 | B28: SaM | C28: FuM | D28: SaM/FuM | E28: (SaM/FuM)m | H28: 避免最大考量地震下崩塌 | I28: SaM | J28: FuM | K28: SaM/FuM | L28: (SaM/FuM)m | Q28: 7 | R28: 花東地區斷層 | S28: =IF(R$19<=2,1.42,IF(R$19<=5,1.37,IF(R$19<=8,1.28,IF(R$19<=12,1.14,1)))) -> 1 | T28: =IF(R$19<=2,1.58,IF(R$19<=5,1.53,IF(R$19<=8,1.38,IF(R$19<=12,1.2,1)))) -> 1 | U28: =IF(R$19<=2,1.32,IF(R$19<=5,1.26,IF(R$19<=8,1.1,IF(R$19<=12,1.02,IF(R$19<=5,1,1))))) -> 1 | V28: =IF(R$19<=2,1.58,IF(R$19<=5,1.48,IF(R$19<=8,1.3,IF(R$19<=12,1.16,IF(R$19<=5,1.05,1))))) -> 1
B29: =IF($F11<E$21,ROUND(B$21*(0.4+3*$F11/D$21),3),IF($F11<=D$21,B$21,IF($F11<=2.5*D$21,C$21/$F11,0.4*B$21))) -> 1.24498 | C29: =ROUND(IF($F11>=D$21,$B$12,IF($F11>=F$21,$D$14+($B$12-$D$14)*($F11-0.6*D$21)/0.4/D$21,IF($F11<E$21,$D$14+($D$14-1)*($F11-E$21)/E$21,$D$14))),4) -> 2.3259 | D29: =ROUND(B29/C29,4) -> 0.5353 | E29: =IF(D29<=0.3,D29,IF(D29<0.8,ROUND(0.52*D29+0.144,4),0.7*D29)) -> 0.4224 | I29: =IF($F11<L$21,ROUND(I$21*(0.4+3*$F11/K$21),3),IF($F11<=K$21,I$21,IF($F11<=2.5*K$21,J$21/$F11,0.4*I$21))) -> 0.69700461 | J29: =ROUND(IF($F11>=K$21,$B$12,IF($F11>=M$21,$D$14+($B$12-$D$14)*($F11-0.6*K$21)/0.4/K$21,IF($F11<L$21,$D$14+($D$14-1)*($F11-L$21)/L$21,$D$14))),4) -> 2.4 | K29: =ROUND(I29/J29,4) -> 0.2904 | L29: =IF(K29<=0.3,K29,IF(K29<0.8,ROUND(0.52*K29+0.144,4),0.7*K29)) -> 0.2904 | M29: =IF(P29<=0.2,P29,IF(P29<0.53,ROUND(0.52*P29+0.096,4),0.7*P29)) -> 0.3358 | N29: =I29*N$23 -> 0.46466974 | O29: =ROUND(IF($N$11>=K21,$B$12,IF($N$11>=M21,$D$14+($B$12-$D$14)*($N$11-0.6*M21)/0.4/K21,IF($N$11<L21,$D$14+($D$14-1)*($N$11-L21)/L21,$D$14))),4) -> 1.0078 | P29: =ROUND(N29/O29,4) -> 0.4611
A30: 最小設計水平總橫力 | H30: 最小設計水平總橫力
A31: VD = | B31: =ROUND($B$13*E25/1.4/$B$14,4) -> 0.2906 | C31: W | D31: CsD=I(SaD/FuD)m/(1.4αy) | H31: VD = | I31: =ROUND($B$13*L25/1.4/$B$14,4) -> 0.2224 | J31: W | K31: CsD=I(SaD/FuD)m/(1.4αy) | N31: VDV = | O31: =ROUND($B$13*M25/1.4/$B$14,4) -> 0.2216
A32: 避免中小度地震下降伏之設計地震力 | H32: 避免中小度地震下降伏之設計地震力
A33: V* = | B33: =ROUND($B13*E27*C27/4.2/$B14,4) -> 0.1625 | C33: W | D33: Cs*=I(FuD/4.2)(SaD*/FuD)m/αy | H33: V* = | I33: =ROUND($B13*L27*J27/4.2/$B14,4) -> 0.1433 | J33: W | K33: Cs*=I(FuD/4.2)(SaD*/FuD)m/αy | N33: VV* = | O33: =ROUND($B13*J27*M27/4.2/$B14,4) -> 0.1428
A34: 避免最大考量地震下崩塌之設計地震力 | H34: 避免最大考量地震下崩塌之設計地震力
A35: VM = | B35: =ROUND($B13*E29/1.4/$B14,4) -> 0.3017 | C35: W | D35: CsM=I(SaM/FuM)m/(1.4αy) | H35: VM = | I35: =ROUND($B13*L29/1.4/$B14,4) -> 0.2074 | J35: W | K35: CsM=I(SaM/FuM)m/(1.4αy) | N35: VMV = | O35: =ROUND($B$13*M29/1.4/$B$14,4) -> 0.2399
A36: 地震力係數 CS = | B36: =MAX(B31,B33,B35) -> 0.3017 | D36: V* / V = | E36: =B33/B36 -> 0.53861452 | H36: 地震力係數 CS = | I36: =MAX(I31,I33,I35) -> 0.2224 | K36: V* / V = | L36: =I33/I36 -> 0.64433453 | N36: 地震力係數 CSV = | O36: =MAX(O31,O33,O35) -> 0.2399
A37: 111年10月1日設計地震力係數 v20220910 版權所有：施忠賢結構技師事務所，使用者應註明來源並自行驗算正確性。 | H37: 100年7月1日設計地震力係數 v20220910 版權所有：施忠賢結構技師事務所，使用者應註明來源並自行驗算正確性。 | AV37: 1.33
B38: =ROUND((ROUNDUP(B7,0)-1)/2,0) -> 1 | C38: =IF(B38<1,0,IF(B38>7,7,B38)) -> 1 | D38: =IF(C38>=1,C38-1,C38) -> 0 | E38: =IF(B38>=7,0,1) -> 1 | F38: =IF(B38>=7,1,2) -> 2 | AV38: 1 | AX38: =ROUND((1/8/0.15)^2,4) -> 0.6944
A39: 斷層距離(km) | B39: =IF(C38<1,1,C38*2-1) -> 1 | C39: =IF($B6="",C3,VLOOKUP($B$3,INDIRECT($B$6),$D$38+2,FALSE)) -> 0.98 | D39: =IF($B6="無",D3,VLOOKUP($B$3,INDIRECT($B$6),$D$38+10,FALSE)) -> 0.61 | E39: =IF($B6="無", E3,VLOOKUP($B$3,INDIRECT($B$6),$D$38+18,FALSE)) -> 1.25 | F39: =IF($B6="無", F3,VLOOKUP($B$3,INDIRECT($B$6),$D$38+26,FALSE)) -> 0.83 | T39: g | U39: 981 | V39: Z | W39: =Q5 -> 1 | AV39: 0.8 | AX39: =ROUND(AX38*0.2,4) -> 0.1389
A40: 斷層距離(km) | B40: =C38*2+E38 -> 3 | C40: =IF($B6="無",C3,VLOOKUP($B$3,INDIRECT($B$6),$C$38+2,FALSE)) -> 0.94 | D40: =IF($B6="無",D3,VLOOKUP($B$3,INDIRECT($B$6),$C$38+10,FALSE)) -> 0.6 | E40: =IF($B6="無", E3,VLOOKUP($B$3,INDIRECT($B$6),$C$38+18,FALSE)) -> 1.21 | F40: =IF($B6="無", F3,VLOOKUP($B$3,INDIRECT($B$6),$C$38+26,FALSE)) -> 0.8 | AR40: =AX38*0.6 -> 0.41664 | AV40: 0.67 | AW40: 2.4 | AX40: =ROUND(8/(3*AX41),1) -> 4
...

Sheet 設計反應譜
F1: 44835 | O1: 40725
A2: 縣市行政區 | B2: 縣市 | C2: 行政區 | D2: V10(C) | E2: 郵遞區號 | F2: SDS | G2: SD1 | H2: SMS | I2: SM1 | J2: 斷層1 | K2: 斷層2 | L2: 斷層3 | M2: 斷層4 | N2: 斷層5 | O2: SDS | P2: SD1 | Q2: SMS | R2: SM1 | S2: 斷層名稱 | V2: Z(建技78) | W2: 縣市 | X2: 鄉鎮市區
A3: =B3&C3 -> 臺北市文山區 | B3: 臺北市 | C3: 文山區 | D3: 42.5 | E3: 116 | F3: 0.6 | G3: 0.35 | H3: 0.8 | I3: 0.5 | O3: 0.6 | P3: 0.35 | Q3: 0.8 | R3: 0.5 | T3: 0 | Y3: 臺北市
A4: =B4&C4 -> 臺北市南港區 | B4: 臺北市 | C4: 南港區 | D4: 42.5 | E4: 115 | F4: 0.6 | G4: 0.35 | H4: 0.8 | I4: 0.5 | O4: 0.6 | P4: 0.35 | Q4: 0.8 | R4: 0.5 | T4: 0 | Y4: 基隆市
A5: =B5&C5 -> 臺北市內湖區 | B5: 臺北市 | C5: 內湖區 | D5: 42.5 | E5: 114 | F5: 0.6 | G5: 0.35 | H5: 0.7 | I5: 0.45 | O5: 0.6 | P5: 0.35 | Q5: 0.7 | R5: 0.45 | T5: 0 | Y5: 新北市
A6: =B6&C6 -> 臺北市士林區 | B6: 臺北市 | C6: 士林區 | D6: 42.5 | E6: 111 | F6: 0.5 | G6: 0.3 | H6: 0.8 | I6: 0.5 | O6: 0.5 | P6: 0.3 | Q6: 0.8 | R6: 0.5 | T6: 0 | Y6: 宜蘭縣
A7: =B7&C7 -> 臺北市北投區 | B7: 臺北市 | C7: 北投區 | D7: 42.5 | E7: 112 | F7: 0.5 | G7: 0.3 | H7: 0.7 | I7: 0.45 | O7: 0.5 | P7: 0.3 | Q7: 0.7 | R7: 0.45 | T7: 0 | Y7: 新竹市
A8: =B8&C8 -> 基隆市中正區 | B8: 基隆市 | C8: 中正區 | D8: 42.5 | E8: 202 | F8: 0.6 | G8: 0.35 | H8: 0.8 | I8: 0.5 | O8: 0.6 | P8: 0.35 | Q8: 0.8 | R8: 0.5 | T8: 0 | U8: 中震區 | V8: 0.8 | W8: 基隆市 | X8: 中正區 | Y8: 桃園市
A9: =B9&C9 -> 基隆市七堵區 | B9: 基隆市 | C9: 七堵區 | D9: 42.5 | E9: 206 | F9: 0.6 | G9: 0.3 | H9: 0.8 | I9: 0.45 | O9: 0.6 | P9: 0.3 | Q9: 0.8 | R9: 0.45 | T9: 0 | U9: 中震區 | V9: 0.8 | W9: 基隆市 | X9: 七堵區 | Y9: 苗栗縣
A10: =B10&C10 -> 基隆市暖暖區 | B10: 基隆市 | C10: 暖暖區 | D10: 42.5 | E10: 205 | F10: 0.6 | G10: 0.35 | H10: 0.8 | I10: 0.5 | O10: 0.6 | P10: 0.35 | Q10: 0.8 | R10: 0.5 | T10: 0 | U10: 中震區 | V10: 0.8 | W10: 基隆市 | X10: 暖暖區 | Y10: 臺中市
A11: =B11&C11 -> 基隆市仁愛區 | B11: 基隆市 | C11: 仁愛區 | D11: 42.5 | E11: 200 | F11: 0.6 | G11: 0.35 | H11: 0.8 | I11: 0.5 | O11: 0.6 | P11: 0.35 | Q11: 0.8 | R11: 0.5 | T11: 0 | U11: 中震區 | V11: 0.8 | W11: 基隆市 | X11: 仁愛區 | Y11: 彰化縣
A12: =B12&C12 -> 基隆市中山區 | B12: 基隆市 | C12: 中山區 | D12: 42.5 | E12: 203 | F12: 0.6 | G12: 0.35 | H12: 0.8 | I12: 0.5 | O12: 0.6 | P12: 0.35 | Q12: 0.8 | R12: 0.5 | T12: 0 | U12: 中震區 | V12: 0.8 | W12: 基隆市 | X12: 中山區 | Y12: 南投縣
A13: =B13&C13 -> 基隆市安樂區 | B13: 基隆市 | C13: 安樂區 | D13: 42.5 | E13: 204 | F13: 0.6 | G13: 0.3 | H13: 0.8 | I13: 0.5 | O13: 0.6 | P13: 0.3 | Q13: 0.8 | R13: 0.5 | T13: 0 | U13: 中震區 | V13: 0.8 | W13: 基隆市 | X13: 安樂區 | Y13: 雲林縣
A14: =B14&C14 -> 基隆市信義區 | B14: 基隆市 | C14: 信義區 | D14: 42.5 | E14: 201 | F14: 0.6 | G14: 0.35 | H14: 0.8 | I14: 0.5 | O14: 0.6 | P14: 0.35 | Q14: 0.8 | R14: 0.5 | T14: 0 | U14: 中震區 | V14: 0.8 | W14: 基隆市 | X14: 信義區 | Y14: 嘉義市
A15: =B15&C15 -> 基隆市彭佳嶼 | B15: 基隆市 | C15: 彭佳嶼 | D15: 57 | E15: 202 | F15: 0.6 | G15: 0.35 | H15: 0.8 | I15: 0.5 | O15: 0.6 | P15: 0.35 | Q15: 0.8 | R15: 0.5 | T15: 0 | U15: 中震區 | V15: 0.8 | W15: 基隆市 | X15: 彭佳嶼 | Y15: 臺南市
A16: =B16&C16 -> 新北市中和區 | B16: 新北市 | C16: 中和區 | D16: 37.5 | E16: 235 | F16: 0.6 | G16: 0.35 | H16: 0.8 | I16: 0.5 | O16: 0.6 | P16: 0.35 | Q16: 0.8 | R16: 0.5 | T16: 0 | U16: 中震區 | V16: 0.8 | W16: 新北市 | X16: 中和區 | Y16: 高雄市
A17: =B17&C17 -> 新北市新店區 | B17: 新北市 | C17: 新店區 | D17: 37.5 | E17: 231 | F17: 0.6 | G17: 0.35 | H17: 0.8 | I17: 0.5 | O17: 0.6 | P17: 0.35 | Q17: 0.8 | R17: 0.5 | T17: 0 | U17: 中震區 | V17: 0.8 | W17: 新北市 | X17: 新店區 | Y17: 屏東縣
A18: =B18&C18 -> 新北市樹林區 | B18: 新北市 | C18: 樹林區 | D18: 37.5 | E18: 238 | F18: 0.6 | G18: 0.35 | H18: 0.8 | I18: 0.5 | O18: 0.6 | P18: 0.35 | Q18: 0.8 | R18: 0.5 | T18: 0 | U18: 中震區 | V18: 0.8 | W18: 新北市 | X18: 樹林區 | Y18: 臺東縣
A19: =B19&C19 -> 新北市土城區 | B19: 新北市 | C19: 土城區 | D19: 37.5 | E19: 236 | F19: 0.6 | G19: 0.35 | H19: 0.8 | I19: 0.5 | O19: 0.6 | P19: 0.35 | Q19: 0.8 | R19: 0.5 | T19: 0 | U19: 中震區 | V19: 0.8 | W19: 新北市 | X19: 土城區 | Y19: 花蓮縣
... A23: =B23&C23 -> 新北市汐止區 | B23: 新北市 | C23: 汐止區 | D23: 42.5 | E23: 221 | F23: 0.6 | G23: 0.35 | H23: 0.8 | I23: 0.5 | O23: 0.6 | P23: 0.35 | Q23: 0.8 | R23: 0.5 | T23: 0 | U23: 中震區 | V23: 0.8 | W23: 新北市 | X23: 汐止區 | Y23: 南海諸島
A24: =B24&C24 -> 新北市八里區 | B24: 新北市 | C24: 八里區 | D24: 37.5 | E24: 249 | F24: 0.5 | G24: 0.3 | H24: 0.7 | I24: 0.45 | O24: 0.5 | P24: 0.3 | Q24: 0.7 | R24: 0.45 | T24: 0 | U24: 弱震區 | V24: 0.6 | W24: 新北市 | X24: 八里區
A25: =B25&C25 -> 新北市鶯歌區 | B25: 新北市 | C25: 鶯歌區 | D25: 37.5 | E25: 239 | F25: 0.6 | G25: 0.35 | H25: 0.8 | I25: 0.5 | O25: 0.6 | P25: 0.35 | Q25: 0.8 | R25: 0.5 | T25: 0 | U25: 中震區 | V25: 0.8 | W25: 新北市 | X25: 鶯歌區
A26: =B26&C26 -> 新北市三峽區 | B26: 新北市 | C26: 三峽區 | D26: 37.5 | E26: 237 | F26: 0.7 | G26: 0.4 | H26: 0.8 | I26: 0.5 | O26: 0.7 | P26: 0.4 | Q26: 0.8 | R26: 0.5 | T26: 0 | U26: 中震區 | V26: 0.8 | W26: 新北市 | X26: 三峽區
A27: =B27&C27 -> 新北市瑞芳區 | B27: 新北市 | C27: 瑞芳區 | D27: 42.5 | E27: 224 | F27: 0.6 | G27: 0.35 | H27: 0.9 | I27: 0.55 | O27: 0.6 | P27: 0.35 | Q27: 0.9 | R27: 0.55 | T27: 0 | U27: 中震區 | V27: 0.8 | W27: 新北市 | X27: 瑞芳區
A28: =B28&C28 -> 新北市林口區 | B28: 新北市 | C28: 林口區 | D28: 37.5 | E28: 244 | F28: 0.5 | G28: 0.3 | H28: 0.7 | I28: 0.45 | O28: 0.5 | P28: 0.3 | Q28: 0.7 | R28: 0.45 | T28: 0 | U28: 弱震區 | V28: 0.6 | W28: 新北市 | X28: 林口區
A29: =B29&C29 -> 新北市深坑區 | B29: 新北市 | C29: 深坑區 | D29: 42.5 | E29: 222 | F29: 0.6 | G29: 0.35 | H29: 0.8 | I29: 0.5 | O29: 0.6 | P29: 0.35 | Q29: 0.8 | R29: 0.5 | T29: 0 | U29: 中震區 | V29: 0.8 | W29: 新北市 | X29: 深坑區
A30: =B30&C30 -> 新北市石碇區 | B30: 新北市 | C30: 石碇區 | D30: 42.5 | E30: 223 | F30: 0.7 | G30: 0.4 | H30: 0.9 | I30: 0.55 | O30: 0.7 | P30: 0.35 | Q30: 0.9 | R30: 0.55 | T30: 0 | U30: 中震區 | V30: 0.8 | W30: 新北市 | X30: 石碇區
A31: =B31&C31 -> 新北市坪林區 | B31: 新北市 | C31: 坪林區 | D31: 42.5 | E31: 232 | F31: 0.7 | G31: 0.4 | H31: 0.9 | I31: 0.55 | O31: 0.7 | P31: 0.4 | Q31: 0.9 | R31: 0.55 | T31: 0 | U31: 中震區 | V31: 0.8 | W31: 新北市 | X31: 坪林區
A32: =B32&C32 -> 新北市三芝區 | B32: 新北市 | C32: 三芝區 | D32: 42.5 | E32: 252 | F32: 0.5 | G32: 0.3 | H32: 0.7 | I32: 0.45 | O32: 0.5 | P32: 0.3 | Q32: 0.7 | R32: 0.45 | T32: 0 | U32: 中震區 | V32: 0.8 | W32: 新北市 | X32: 三芝區
A33: =B33&C33 -> 新北市石門區 | B33: 新北市 | C33: 石門區 | D33: 42.5 | E33: 253 | F33: 0.5 | G33: 0.3 | H33: 0.7 | I33: 0.45 | O33: 0.5 | P33: 0.3 | Q33: 0.7 | R33: 0.45 | T33: 0 | U33: 中震區 | V33: 0.8 | W33: 新北市 | X33: 石門區
A34: =B34&C34 -> 新北市平溪區 | B34: 新北市 | C34: 平溪區 | D34: 42.5 | E34: 226 | F34: 0.6 | G34: 0.35 | H34: 0.9 | I34: 0.55 | O34: 0.6 | P34: 0.35 | Q34: 0.9 | R34: 0.55 | T34: 0 | U34: 中震區 | V34: 0.8 | W34: 新北市 | X34: 平溪區
A35: =B35&C35 -> 新北市雙溪區 | B35: 新北市 | C35: 雙溪區 | D35: 42.5 | E35: 227 | F35: 0.7 | G35: 0.4 | H35: 0.9 | I35: 0.55 | O35: 0.7 | P35: 0.4 | Q35: 0.9 | R35: 0.55 | T35: 0 | U35: 中震區 | V35: 0.8 | W35: 新北市 | X35: 雙溪區
... A52: =B52&C52 -> 宜蘭縣釣魚臺列嶼 | B52: 宜蘭縣 | C52: 釣魚臺列嶼 | D52: 42.5 | E52: 290 | F52: 0.8 | G52: 0.45 | H52: 1 | I52: 0.55 | O52: 0.8 | P52: 0.45 | Q52: 1 | R52: 0.55 | T52: 0 | U52: 中震區 | V52: 0.8 | W52: 宜蘭縣 | X52: 釣魚臺列嶼
A53: =B53&C53 -> 新竹縣竹北市 | B53: 新竹縣 | C53: 竹北市 | D53: 32.5 | E53: 302 | F53: 0.8 | G53: 0.45 | H53: 1 | I53: 0.55 | J53: 新城斷層 | O53: 0.7 | P53: 0.35 | Q53: 0.9 | R53: 0.5 | T53: 0 | U53: 中震區 | V53: 0.8 | W53: 新竹縣 | X53: 竹北市
A54: =B54&C54 -> 新竹縣竹東鎮 | B54: 新竹縣 | C54: 竹東鎮 | D54: 32.5 | E54: 310 | F54: 0.8 | G54: 0.45 | H54: 1 | I54: 0.55 | J54: 新城斷層 | O54: 0.7 | P54: 0.4 | Q54: 0.9 | R54: 0.5 | T54: 0 | U54: 中震區 | V54: 0.8 | W54: 新竹縣 | X54: 竹東鎮
A55: =B55&C55 -> 新竹縣新埔鎮 | B55: 新竹縣 | C55: 新埔鎮 | D55: 37.5 | E55: 305 | F55: 0.8 | G55: 0.45 | H55: 1 | I55: 0.55 | J55: 新城斷層 | O55: 0.7 | P55: 0.35 | Q55: 0.8 | R55: 0.5 | T55: 0 | U55: 弱震區 | V55: 0.6 | W55: 新竹縣 | X55: 新埔鎮
A56: =B56&C56 -> 新竹縣關西鎮 | B56: 新竹縣 | C56: 關西鎮 | D56: 37.5 | E56: 306 | F56: 0.8 | G56: 0.45 | H56: 1 | I56: 0.55 | J56: 新城斷層 | O56: 0.7 | P56: 0.4 | Q56: 0.9 | R56: 0.5 | T56: 0 | U56: 弱震區 | V56: 0.6 | W56: 新竹縣 | X56: 關西鎮
A57: =B57&C57 -> 新竹縣湖口鄉 | B57: 新竹縣 | C57: 湖口鄉 | D57: 37.5 | E57: 303 | F57: 0.7 | G57: 0.4 | H57: 0.9 | I57: 0.5 | O57: 0.6 | P57: 0.35 | Q57: 0.8 | R57: 0.5 | T57: 0 | U57: 弱震區 | V57: 0.6 | W57: 新竹縣 | X57: 湖口鄉
A58: =B58&C58 -> 新竹縣新豐鄉 | B58: 新竹縣 | C58: 新豐鄉 | D58: 37.5 | E58: 304 | F58: 0.7 | G58: 0.4 | H58: 0.9 | I58: 0.5 | O58: 0.6 | P58: 0.35 | Q58: 0.8 | R58: 0.45 | T58: 0 | U58: 弱震區 | V58: 0.6 | W58: 新竹縣 | X58: 新豐鄉
A59: =B59&C59 -> 新竹縣芎林鄉 | B59: 新竹縣 | C59: 芎林鄉 | D59: 32.5 | E59: 307 | F59: 0.8 | G59: 0.45 | H59: 1 | I59: 0.55 | J59: 新城斷層 | O59: 0.7 | P59: 0.35 | Q59: 0.9 | R59: 0.5 | T59: 0 | U59: 中震區 | V59: 0.8 | W59: 新竹縣 | X59: 芎林鄉
...

Sheet 台北盆地Cs
J1: 1982~1989建築技術規則(民71~78) | M1: 1989~1996建築技術規則(民78~85) | P1: 1997耐震規範(民86)
B2: 地震分區 | J2: 地震分區 | M2: 地震分區
B3: 基地位置 | C3: 臺北市 | J3: 基地位置 | K3: =C3 -> 臺北市 | M3: 基地位置 | N3: =C3 -> 臺北市 | P3: 基地位置 | Q3: =C3 -> 臺北市
C4: 萬華區 | K4: =C4 -> 萬華區 | N4: =C4 -> 萬華區 | Q4: =C4 -> 萬華區
C5: 所有里 | J5: 震區 | K5: 中震區 | M5: 震區 | N5: 中震區 | P5: 震區 | Q5: 地震二區
B6: 台北微分區 | C6: =VLOOKUP(C5,INDIRECT(C4),2,FALSE) -> 台北二區 | J6: 震力係數Z | K6: 0.8 | M6: 震力係數Z | N6: 0.8 | P6: 水平加速度系數Z | Q6: 0.23
B7: 結構系統 | J7: 結構系統 | M7: 結構系統 | P7: 臺北盆地
B8: 屋頂面高度 hn(m) | C8: 15 | J8: 屋頂面高度 hn(m) | K8: =C8 -> 15 | M8: 屋頂面高度 hn(m) | N8: =C8 -> 15
B9: 經驗公式構造分類 | C9: RC | D9: Tcode | E9: Tdyn | F9: 1.4Tcode | J9: 平行橫力方向造物之尺度 | K9: 10 | M9: 平行橫力方向造物之尺度 | N9: =K9 -> 10
B10: 基本振動週期T(sec) | C10: =ROUND(IF(D10>=E10,E10,IF(E10>=F10,F10,E10)),4) -> 0.5335 | D10: =ROUND(IF(C9="鋼構",0.085,IF(C9="RC",0.07,0.05))*C8^0.75,4) -> 0.5335 | E10: 0.5335 | F10: =D10*1.4 -> 0.7469 | J10: 經驗公式分類 | K10: =C9 -> RC | M10: 經驗公式分類 | N10: =C9 -> RC
B11: 用途係數 I | C11: 1 | J11: 基本振動週期T | K11: =IF($K$10="鋼構",0.085*K8^0.75,IF($K$10="RC",0.06*K8^0.75,0.09*K8/SQRT(K9))) -> 0.45731947 | M11: 基本振動週期T | N11: =IF($N$10="鋼構",0.085*N8^0.75,IF($N$10="RC",0.06*N8^0.75,0.09*N8/SQRT(N9))) -> 0.45731947
B12: 系統韌性容量R | C12: 2.4 | J12: 橫力係數C | K12: =IF(1/(8*SQRT(K11))<=0.15,1/(8*SQRT(K11)),0.15) -> 0.15 | M12: 橫力係數C | N12: =IF(0.248/N11<=0.0625,0.0625,IF(0.248/N11>=0.15,0.15,0.248/N11)) -> 0.15 | O12: 臺北盆地
B13: 容許韌性容量Ra | C13: =1+(C12-1)/2 -> 1.7 | J13: 用途係數 I | K13: =C11 -> 1 | M13: 用途係數 I | N13: =C11 -> 1
B14: 起始降伏地震力放大倍數αy | C14: 1 | J14: 組構係數K | K14: 0.67 | M14: 組構係數K | N14: 0.67
B15: 工址設計水平譜加速度係數 | J15: 最小設計水平總橫力 V=ZKCIW | K15: =K6*K14*K12*K13 -> 0.0804 | M15: 最小設計水平總橫力 V=ZKCIW | N15: =N6*N14*N12*N13 -> 0.0804
C16: SDS | D16: T0D | E16: SaD | F16: Fu | G16: SaD/Fu | H16: (SaD/Fu)m | J16: *橫力係數C不分區 | M16: *橫力係數C分台北盆地及台北盆地以外地區
C17: =VLOOKUP(C6,台北盆地設計反應譜!I2:L4,2,FALSE) -> 0.6 | D17: =VLOOKUP(C6,台北盆地設計反應譜!I2:L4,4,FALSE) -> 1.3 | E17: =IF(C10<=0.2*D17,C17*(0.4+3*C10/D17),IF(C10<=D17,C17,IF(C10<=2.5*D17,C17*D17/C10,0.4*C17))) -> 0.6 | F17: =IF(C10<=0.2*D17,SQRT(2*C13-1)+(SQRT(2*C13-1)-1)*(C10-0.2*D17)/(0.2*D17),IF(C10<=0.6*D17,SQRT(2*C13-1),IF(C10<=D17,SQRT(2*C13-1)+(C13-SQRT(2*C13-1))*(C10-0.6*D17)/(0.4*D17),C13))) -> 1.5491933 | G17: =E17/F17 -> 0.38729833 | H17: =IF(G17<=0.3,G17,IF(G17<0.8,0.52*G17+0.144,0.7*G17)) -> 0.34539513 | M17: C=0.248/T | N17: =0.248/N11 -> 0.54229049
C18: SMS | D18: T0M | E18: SaM | F18: FuM | G18: SaM/FuM | H18: (SaM/FuM)m
C19: =VLOOKUP(C6,台北盆地設計反應譜!I2:L4,3,FALSE) -> 0.8 | D19: =D17 -> 1.3 | E19: =IF(C10<=0.2*D19,C19*(0.4+3*C10/D19),IF(C10<=D19,C19,IF(C10<=2.5*D19,C19*D19/C10,0.4*C19))) -> 0.8 | F19: =IF(C10<=0.2*D19,SQRT(2*C12-1)+(SQRT(2*C12-1)-1)*(C10-0.2*D19)/(0.2*D19),IF(C10<=0.6*D19,SQRT(2*C12-1),IF(C10<=D19,SQRT(2*C12-1)+(C12-SQRT(2*C12-1))*(C10-0.6*D19)/(0.4*D19),C12))) -> 1.9493589 | G19: =E19/F19 -> 0.41039134 | H19: =IF(G19<=0.3,G19,IF(G19<0.8,0.52*G19+0.144,0.7*G19)) -> 0.3574035
B21: 最小設計水平總橫力 VD | D21: =C11*H17/1.4/C14 -> 0.24671081 | E21: W
B23: 避免中小度地震下降伏之設計地震力 V* | D23: =C11*F17*H17/3.5/C14 -> 0.1528811 | E23: W
B25: 避免最大考量地震下崩塌之設計地震力 VM | D25: =C11*H19/1.4/C14 -> 0.25528821 | E25: W
B27: 地震力係數 CS = | D27: =MAX(D21,D23,D25) -> 0.25528821
R32: R | S32: =台北盆地Cs!C12 -> 2.4 | T32: Ra | U32: =台北盆地Cs!C13 -> 1.7 | V32: I | W32: =台北盆地Cs!C11 -> 1 | X32: αy | Y32: =台北盆地Cs!C14 -> 1 | AJ32: 1989~1996建技 | AP32: 1982~1989建技 | AV32: 1997耐震規範
AK33: 1.4075 | AQ33: 1.4075 | AV33: 臺北盆地
R34: Sds | S34: =C17 -> 0.6 | W34: SMs | X34: =C19 -> 0.8 | AK34: 1.4 | AQ34: 1.4 | AV34: 地震二區Z= | AW34: =Q6 -> 0.23
AJ35: Z | AK35: =N6 -> 0.8 | AL35: 中震 | AM35: 1.33 | AP35: Z | AQ35: =K6 -> 0.8 | AR35: 中震 | AS35: 1.33
AJ36: K | AK36: 0.67 | AM36: 1 | AP36: K | AQ36: 0.67 | AS36: 1
R37: 0.2T0 | S37: T0 | T37: 2.5T0 | W37: 0.2T0 | X37: T0 | Y37: 2.5T0 | AJ37: I | AK37: 1 | AM37: 0.8 | AN37: =ROUND((1/8/0.15)^2,4) -> 0.6944 | AP37: I | AQ37: 1 | AS37: 0.8 | AT37: =ROUND((1/8/0.15)^2,4) -> 0.6944
R38: =0.2*S38 -> 0.26 | S38: =D17 -> 1.3 | T38: =2.5*S38 -> 3.25 | W38: =0.2*X38 -> 0.26 | X38: 1.3 | Y38: =2.5*X38 -> 3.25 | AJ38: Fu | AK38: =ROUND(8/3/AK36,1) -> 4 | AM38: 0.67 | AN38: =ROUND(AN37*0.2,4) -> 0.1389 | AP38: Fu | AQ38: =ROUND(8/3/AQ36,1) -> 4 | AS38: 0.67 | AT38: =ROUND(AT37*0.2,4) -> 0.1389
S39: Sa(g) | X39: SaM(g) | AG39: 自振週期標示線 | AM39: 1 | AS39: 1
R40: T | S40: DBE,100年以後 | T40: Sd(cm) | U40: Fu | V40: (SaD/Fu)m | W40: T | X40: MCE,100年以後 | Y40: SdM(cm) | Z40: FuM | AA40: (SaM/Fu)m | AB40: VD | AC40: V* | AD40: VM | AE40: Cs | AG40: y | AH40: x | AJ40: T | AK40: C | AL40: Cs | AM40: ="民71年(γZKC, K=" & AM39 & ")" -> 民71年(γZKC, K=1) | AN40: Sa | AP40: T | AQ40: C | AR40: Cs | AS40: ="民71年(γZKC, K=" & AS39 & ")" -> 民71年(γZKC, K=1) | AT40: Sa | AV40: T | AW40: C | AX40: Z*C
R41: 0.001 | S41: =IF(R41<=0.2*$S$38,$S$34*(0.4+3*R41/$S$38),IF(R41<=$S$38,$S$34,IF(R41<=2.5*$S$38,$S$34*$S$38/R41,0.4*$S$34))) -> 0.24138462 | T41: =R41^2/(4*PI()^2)*(S41*981) -> 5.9981712e-06 | U41: =IF(R41>$S$38,$U$32,IF(R41>0.6*$S$38,SQRT(2*$U$32-1)+($U$32-SQRT(2*$U$32-1))*(R41-0.6*$S$38)/0.4/$S$38,IF(R41>0.2*$S$38,SQRT(2*$U$32-1),SQRT(2*$U$32-1)+(SQRT(2*$U$32-1)-1)*(R41-0.2*$S$38)/0.2/$S$38))) -> 1.0021123 | V41: =IF(S41/U41<=0.3,S41/U41,IF(S41/U41<0.8,0.52*S41/U41+0.144,0.7*S41/U41)) -> 0.24087582 | W41: 0.001 | X41: =IF(W41<=0.2*$X$38,$X$34*(0.4+3*W41/$X$38),IF(W41<=$X$38,$X$34,IF(W41<=2.5*$X$38,$X$34*$X$38/W41,0.4*$X$34))) -> 0.32184615 | Y41: =W41^2/(4*PI()^2)*(X41*981) -> 7.9975616e-06 | Z41: =IF(W41>$X$38,$S$32,IF(W41>0.6*$X$38,SQRT(2*$S$32-1)+($S$32-SQRT(2*$S$32-1))*(W41-0.6*$X$38)/0.4/$X$38,IF(W41>0.2*$X$38,SQRT(2*$S$32-1),SQRT(2*$S$32-1)+(SQRT(2*$S$32-1)-1)*(W41-0.2*$X$38)/0.2/$X$38))) -> 1.0036514 | AA41: =IF(X41/Z41<=0.3,X41/Z41,IF(X41/Z41<0.8,0.52*X41/Z41+0.144,0.7*X41/Z41)) -> 0.31075113 | AB41: =$W$32/1.4/$Y$32*V41 -> 0.17205416 | AC41: =$W$32*U41/3.5/$Y$32*V41 -> 0.068967033 | AD41: =$W$32/1.4/$Y$32*AA41 -> 0.22196509 | AE41: =MAX(AB41:AD41) -> 0.22196509 | AG41: 0 | AH41: =AH44 -> 0.5335 | AJ41: 0.001 | AK41: =IF(0.248/AJ41<=0.0625,0.0625,IF(0.248/AJ41>=0.15,0.15,0.248/AJ41)) -> 0.15 | AL41: =$AK$35*$AK$36*AK41*$AK$37 -> 0.0804 | AM41: =ROUND(AK$33*$AK$35*AM$39*AK41*$AK$37,4) -> 0.1689 | AN41: =IF(AJ41<=AN$38,AL41*AK$38*AK$33*AK$34*(0.4+3*AJ41/AN$37),AL41*AK$38*AK$33*AK$34) -> 0.25622293 | AP41: 0.001 | AQ41: =IF(1/(8*SQRT(AP41))<=0.15,1/(8*SQRT(AP41)),0.15) -> 0.15 | AR41: =$AQ$35*$AQ$36*AQ41*$AQ$37 -> 0.0804 | AS41: =ROUND(AQ$33*$AQ$35*AS$39*AQ41*$AQ$37,4) -> 0.1689 | AT41: =IF(AP41<=AT$38,AR41*AQ$38*AQ$33*AQ$34*(0.4+3*AP41/AT$37),AR41*AQ$38*AQ$33*AQ$34) -> 0.25622293 | AV41: 0.001 | AW41: =IF(AV41<=0.03,1,IF(AV41<0.2,5.882*AV41+0.824,IF(AV41<1.65,2,IF(AV41<3.3,3.3/AV41,1)))) -> 1 | AX41: =$AW$34*AW41 -> 0.23
R42: 0.02 | S42: =IF(R42<=0.2*$S$38,$S$34*(0.4+3*R42/$S$38),IF(R42<=$S$38,$S$34,IF(R42<=2.5*$S$38,$S$34*$S$38/R42,0.4*$S$34))) -> 0.26769231 | T42: =R42^2/(4*PI()^2)*(S42*981) -> 0.0026607566 | U42: =IF(R42>$S$38,$U$32,IF(R42>0.6*$S$38,SQRT(2*$U$32-1)+($U$32-SQRT(2*$U$32-1))*(R42-0.6*$S$38)/0.4/$S$38,IF(R42>0.2*$S$38,SQRT(2*$U$32-1),SQRT(2*$U$32-1)+(SQRT(2*$U$32-1)-1)*(R42-0.2*$S$38)/0.2/$S$38))) -> 1.0422456 | V42: =IF(S42/U42<=0.3,S42/U42,IF(S42/U42<0.8,0.52*S42/U42+0.144,0.7*S42/U42)) -> 0.25684186 | W42: 0.02 | X42: =IF(W42<=0.2*$X$38,$X$34*(0.4+3*W42/$X$38),IF(W42<=$X$38,$X$34,IF(W42<=2.5*$X$38,$X$34*$X$38/W42,0.4*$X$34))) -> 0.35692308 | Y42: =W42^2/(4*PI()^2)*(X42*981) -> 0.0035476755 | Z42: =IF(W42>$X$38,$S$32,IF(W42>0.6*$X$38,SQRT(2*$S$32-1)+($S$32-SQRT(2*$S$32-1))*(W42-0.6*$X$38)/0.4/$X$38,IF(W42>0.2*$X$38,SQRT(2*$S$32-1),SQRT(2*$S$32-1)+(SQRT(2*$S$32-1)-1)*(W42-0.2*$X$38)/0.2/$X$38))) -> 1.0730276 | AA42: =IF(X42/Z42<=0.3,X42/Z42,IF(X42/Z42<0.8,0.52*X42/Z42+0.144,0.7*X42/Z42)) -> 0.31696852 | AB42: =$W$32/1.4/$Y$32*V42 -> 0.18345847 | AC42: =$W$32*U42/3.5/$Y$32*V42 -> 0.076483516 | AD42: =$W$32/1.4/$Y$32*AA42 -> 0.22640609 | AE42: =MAX(AB42:AD42) -> 0.22640609 | AG42: =ROUNDUP(MAX(AE42:AE219),2) -> 0.26 | AH42: =AH44 -> 0.5335 | AJ42: 0.02 | AK42: =IF(0.248/AJ42<=0.0625,0.0625,IF(0.248/AJ42>=0.15,0.15,0.248/AJ42)) -> 0.15 | AL42: =$AK$35*$AK$36*AK42*$AK$37 -> 0.0804 | AM42: =ROUND(AK$33*$AK$35*AM$39*AK42*$AK$37,4) -> 0.1689 | AN42: =IF(AJ42<=AN$38,AL42*AK$38*AK$33*AK$34*(0.4+3*AJ42/AN$37),AL42*AK$38*AK$33*AK$34) -> 0.30824141 | AP42: 0.02 | AQ42: =IF(1/(8*SQRT(AP42))<=0.15,1/(8*SQRT(AP42)),0.15) -> 0.15 | AR42: =$AQ$35*$AQ$36*AQ42*$AQ$37 -> 0.0804 | AS42: =ROUND(AQ$33*$AQ$35*AS$39*AQ42*$AQ$37,4) -> 0.1689 | AT42: =IF(AP42<=AT$38,AR42*AQ$38*AQ$33*AQ$34*(0.4+3*AP42/AT$37),AR42*AQ$38*AQ$33*AQ$34) -> 0.30824141 | AV42: 0.02 | AW42: =IF(AV42<=0.03,1,IF(AV42<0.2,5.882*AV42+0.824,IF(AV42<1.65,2,IF(AV42<3.3,3.3/AV42,1)))) -> 1 | AX42: =$AW$34*AW42 -> 0.23
R43: 0.04 | S43: =IF(R43<=0.2*$S$38,$S$34*(0.4+3*R43/$S$38),IF(R43<=$S$38,$S$34,IF(R43<=2.5*$S$38,$S$34*$S$38/R43,0.4*$S$34))) -> 0.29538462 | T43: =R43^2/(4*PI()^2)*(S43*981) -> 0.011744029 | U43: =IF(R43>$S$38,$U$32,IF(R43>0.6*$S$38,SQRT(2*$U$32-1)+($U$32-SQRT(2*$U$32-1))*(R43-0.6*$S$38)/0.4/$S$38,IF(R43>0.2*$S$38,SQRT(2*$U$32-1),SQRT(2*$U$32-1)+(SQRT(2*$U$32-1)-1)*(R43-0.2*$S$38)/0.2/$S$38))) -> 1.0844913 | V43: =IF(S43/U43<=0.3,S43/U43,IF(S43/U43<0.8,0.52*S43/U43+0.144,0.7*S43/U43)) -> 0.27237159 | W43: 0.04 | X43: =IF(W43<=0.2*$X$38,$X$34*(0.4+3*W43/$X$38),IF(W43<=$X$38,$X$34,IF(W43<=2.5*$X$38,$X$34*$X$38/W43,0.4*$X$34))) -> 0.39384615 | Y43: =W43^2/(4*PI()^2)*(X43*981) -> 0.015658706 | Z43: =IF(W43>$X$38,$S$32,IF(W43>0.6*$X$38,SQRT(2*$S$32-1)+($S$32-SQRT(2*$S$32-1))*(W43-0.6*$X$38)/0.4/$X$38,IF(W43>0.2*$X$38,SQRT(2*$S$32-1),SQRT(2*$S$32-1)+(SQRT(2*$S$32-1)-1)*(W43-0.2*$X$38)/0.2/$X$38))) -> 1.1460552 | AA43: =IF(X43/Z43<=0.3,X43/Z43,IF(X43/Z43<0.8,0.52*X43/Z43+0.144,0.7*X43/Z43)) -> 0.32269994 | AB43: =$W$32/1.4/$Y$32*V43 -> 0.19455114 | AC43: =$W$32*U43/3.5/$Y$32*V43 -> 0.084395604 | AD43: =$W$32/1.4/$Y$32*AA43 -> 0.23049996 | AE43: =MAX(AB43:AD43) -> 0.23049996 | AJ43: 0.04 | AK43: =IF(0.248/AJ43<=0.0625,0.0625,IF(0.248/AJ43>=0.15,0.15,0.248/AJ43)) -> 0.15 | AL43: =$AK$35*$AK$36*AK43*$AK$37 -> 0.0804 | AM43: =ROUND(AK$33*$AK$35*AM$39*AK43*$AK$37,4) -> 0.1689 | AN43: =IF(AJ43<=AN$38,AL43*AK$38*AK$33*AK$34*(0.4+3*AJ43/AN$37),AL43*AK$38*AK$33*AK$34) -> 0.3629977 | AP43: 0.04 | AQ43: =IF(1/(8*SQRT(AP43))<=0.15,1/(8*SQRT(AP43)),0.15) -> 0.15 | AR43: =$AQ$35*$AQ$36*AQ43*$AQ$37 -> 0.0804 | AS43: =ROUND(AQ$33*$AQ$35*AS$39*AQ43*$AQ$37,4) -> 0.1689 | AT43: =IF(AP43<=AT$38,AR43*AQ$38*AQ$33*AQ$34*(0.4+3*AP43/AT$37),AR43*AQ$38*AQ$33*AQ$34) -> 0.3629977 | AV43: 0.04 | AW43: =IF(AV43<=0.03,1,IF(AV43<0.2,5.882*AV43+0.824,IF(AV43<1.65,2,IF(AV43<3.3,3.3/AV43,1)))) -> 1.05928 | AX43: =$AW$34*AW43 -> 0.2436344
R44: 0.06 | S44: =IF(R44<=0.2*$S$38,$S$34*(0.4+3*R44/$S$38),IF(R44<=$S$38,$S$34,IF(R44<=2.5*$S$38,$S$34*$S$38/R44,0.4*$S$34))) -> 0.32307692 | T44: =R44^2/(4*PI()^2)*(S44*981) -> 0.028901322 | U44: =IF(R44>$S$38,$U$32,IF(R44>0.6*$S$38,SQRT(2*$U$32-1)+($U$32-SQRT(2*$U$32-1))*(R44-0.6*$S$38)/0.4/$S$38,IF(R44>0.2*$S$38,SQRT(2*$U$32-1),SQRT(2*$U$32-1)+(SQRT(2*$U$32-1)-1)*(R44-0.2*$S$38)/0.2/$S$38))) -> 1.1267369 | V44: =IF(S44/U44<=0.3,S44/U44,IF(S44/U44<0.8,0.52*S44/U44+0.144,0.7*S44/U44)) -> 0.28673678 | W44: 0.06 | X44: =IF(W44<=0.2*$X$38,$X$34*(0.4+3*W44/$X$38),IF(W44<=$X$38,$X$34,IF(W44<=2.5*$X$38,$X$34*$X$38/W44,0.4*$X$34))) -> 0.43076923 | Y44: =W44^2/(4*PI()^2)*(X44*981) -> 0.038535096 | Z44: =IF(W44>$X$38,$S$32,IF(W44>0.6*$X$38,SQRT(2*$S$32-1)+($S$32-SQRT(2*$S$32-1))*(W44-0.6*$X$38)/0.4/$X$38,IF(W44>0.2*$X$38,SQRT(2*$S$32-1),SQRT(2*$S$32-1)+(SQRT(2*$S$32-1)-1)*(W44-0.2*$X$38)/0.2/$X$38))) -> 1.2190828 | AA44: =IF(X44/Z44<=0.3,X44/Z44,IF(X44/Z44<0.8,0.52*X44/Z44+0.144,0.7*X44/Z44)) -> 0.32774469 | AB44: =$W$32/1.4/$Y$32*V44 -> 0.20481199 | AC44: =$W$32*U44/3.5/$Y$32*V44 -> 0.092307692 | AD44: =$W$32/1.4/$Y$32*AA44 -> 0.23410335 | AE44: =MAX(AB44:AD44) -> 0.23410335 | AG44: 基本振動週期T= | AH44: =台北盆地Cs!C10 -> 0.5335 | AI44: s | AJ44: 0.06 | AK44: =IF(0.248/AJ44<=0.0625,0.0625,IF(0.248/AJ44>=0.15,0.15,0.248/AJ44)) -> 0.15 | AL44: =$AK$35*$AK$36*AK44*$AK$37 -> 0.0804 | AM44: =ROUND(AK$33*$AK$35*AM$39*AK44*$AK$37,4) -> 0.1689 | AN44: =IF(AJ44<=AN$38,AL44*AK$38*AK$33*AK$34*(0.4+3*AJ44/AN$37),AL44*AK$38*AK$33*AK$34) -> 0.41775399 | AP44: 0.06 | AQ44: =IF(1/(8*SQRT(AP44))<=0.15,1/(8*SQRT(AP44)),0.15) -> 0.15 | AR44: =$AQ$35*$AQ$36*AQ44*$AQ$37 -> 0.0804 | AS44: =ROUND(AQ$33*$AQ$35*AS$39*AQ44*$AQ$37,4) -> 0.1689 | AT44: =IF(AP44<=AT$38,AR44*AQ$38*AQ$33*AQ$34*(0.4+3*AP44/AT$37),AR44*AQ$38*AQ$33*AQ$34) -> 0.41775399 | AV44: 0.06 | AW44: =IF(AV44<=0.03,1,IF(AV44<0.2,5.882*AV44+0.824,IF(AV44<1.65,2,IF(AV44<3.3,3.3/AV44,1)))) -> 1.17692 | AX44: =$AW$34*AW44 -> 0.2706916
R45: 0.08 | S45: =IF(R45<=0.2*$S$38,$S$34*(0.4+3*R45/$S$38),IF(R45<=$S$38,$S$34,IF(R45<=2.5*$S$38,$S$34*$S$38/R45,0.4*$S$34))) -> 0.35076923 | T45: =R45^2/(4*PI()^2)*(S45*981) -> 0.055784139 | U45: =IF(R45>$S$38,$U$32,IF(R45>0.6*$S$38,SQRT(2*$U$32-1)+($U$32-SQRT(2*$U$32-1))*(R45-0.6*$S$38)/0.4/$S$38,IF(R45>0.2*$S$38,SQRT(2*$U$32-1),SQRT(2*$U$32-1)+(SQRT(2*$U$32-1)-1)*(R45-0.2*$S$38)/0.2/$S$38))) -> 1.1689826 | V45: =IF(S45/U45<=0.3,S45/U45,IF(S45/U45<0.8,0.52*S45/U45+0.144,0.7*S45/U45)) -> 0.30003312 | W45: 0.08 | X45: =IF(W45<=0.2*$X$38,$X$34*(0.4+3*W45/$X$38),IF(W45<=$X$38,$X$34,IF(W45<=2.5*$X$38,$X$34*$X$38/W45,0.4*$X$34))) -> 0.46769231 | Y45: =W45^2/(4*PI()^2)*(X45*981) -> 0.074378852 | Z45: =IF(W45>$X$38,$S$32,IF(W45>0.6*$X$38,SQRT(2*$S$32-1)+($S$32-SQRT(2*$S$32-1))*(W45-0.6*$X$38)/0.4/$X$38,IF(W45>0.2*$X$38,SQRT(2*$S$32-1),SQRT(2*$S$32-1)+(SQRT(2*$S$32-1)-1)*(W45-0.2*$X$38)/0.2/$X$38))) -> 1.2921104 | AA45: =IF(X45/Z45<=0.3,X45/Z45,IF(X45/Z45<0.8,0.52*X45/Z45+0.144,0.7*X45/Z45)) -> 0.33221921 | AB45: =$W$32/1.4/$Y$32*V45 -> 0.21430937 | AC45: =$W$32*U45/3.5/$Y$32*V45 -> 0.10020957 | AD45: =$W$32/1.4/$Y$32*AA45 -> 0.23729943 | AE45: =MAX(AB45:AD45) -> 0.23729943 | AJ45: 0.08 | AK45: =IF(0.248/AJ45<=0.0625,0.0625,IF(0.248/AJ45>=0.15,0.15,0.248/AJ45)) -> 0.15 | AL45: =$AK$35*$AK$36*AK45*$AK$37 -> 0.0804 | AM45: =ROUND(AK$33*$AK$35*AM$39*AK45*$AK$37,4) -> 0.1689 | AN45: =IF(AJ45<=AN$38,AL45*AK$38*AK$33*AK$34*(0.4+3*AJ45/AN$37),AL45*AK$38*AK$33*AK$34) -> 0.47251028 | AP45: 0.08 | AQ45: =IF(1/(8*SQRT(AP45))<=0.15,1/(8*SQRT(AP45)),0.15) -> 0.15 | AR45: =$AQ$35*$AQ$36*AQ45*$AQ$37 -> 0.0804 | AS45: =ROUND(AQ$33*$AQ$35*AS$39*AQ45*$AQ$37,4) -> 0.1689 | AT45: =IF(AP45<=AT$38,AR45*AQ$38*AQ$33*AQ$34*(0.4+3*AP45/AT$37),AR45*AQ$38*AQ$33*AQ$34) -> 0.47251028 | AV45: 0.08 | AW45: =IF(AV45<=0.03,1,IF(AV45<0.2,5.882*AV45+0.824,IF(AV45<1.65,2,IF(AV45<3.3,3.3/AV45,1)))) -> 1.29456 | AX45: =$AW$34*AW45 -> 0.2977488
R46: 0.1 | S46: =IF(R46<=0.2*$S$38,$S$34*(0.4+3*R46/$S$38),IF(R46<=$S$38,$S$34,IF(R46<=2.5*$S$38,$S$34*$S$38/R46,0.4*$S$34))) -> 0.37846154 | T46: =R46^2/(4*PI()^2)*(S46*981) -> 0.094043984 | U46: =IF(R46>$S$38,$U$32,IF(R46>0.6*$S$38,SQRT(2*$U$32-1)+($U$32-SQRT(2*$U$32-1))*(R46-0.6*$S$38)/0.4/$S$38,IF(R46>0.2*$S$38,SQRT(2*$U$32-1),SQRT(2*$U$32-1)+(SQRT(2*$U$32-1)-1)*(R46-0.2*$S$38)/0.2/$S$38))) -> 1.2112282 | V46: =IF(S46/U46<=0.3,S46/U46,IF(S46/U46<0.8,0.52*S46/U46+0.144,0.7*S46/U46)) -> 0.3064797 | W46: 0.1 | X46: =IF(W46<=0.2*$X$38,$X$34*(0.4+3*W46/$X$38),IF(W46<=$X$38,$X$34,IF(W46<=2.5*$X$38,$X$34*$X$38/W46,0.4*$X$34))) -> 0.50461538 | Y46: =W46^2/(4*PI()^2)*(X46*981) -> 0.12539198 | Z46: =IF(W46>$X$38,$S$32,IF(W46>0.6*$X$38,SQRT(2*$S$32-1)+($S$32-SQRT(2*$S$32-1))*(W46-0.6*$X$38)/0.4/$X$38,IF(W46>0.2*$X$38,SQRT(2*$S$32-1),SQRT(2*$S$32-1)+(SQRT(2*$S$32-1)-1)*(W46-0.2*$X$38)/0.2/$X$38))) -> 1.365138 | AA46: =IF(X46/Z46<=0.3,X46/Z46,IF(X46/Z46<0.8,0.52*X46/Z46+0.144,0.7*X46/Z46)) -> 0.336215 | AB46: =$W$32/1.4/$Y$32*V46 -> 0.21891407 | AC46: =$W$32*U46/3.5/$Y$32*V46 -> 0.10606196 | AD46: =$W$32/1.4/$Y$32*AA46 -> 0.24015357 | AE46: =MAX(AB46:AD46) -> 0.24015357 | AJ46: 0.1 | AK46: =IF(0.248/AJ46<=0.0625,0.0625,IF(0.248/AJ46>=0.15,0.15,0.248/AJ46)) -> 0.15 | AL46: =$AK$35*$AK$36*AK46*$AK$37 -> 0.0804 | AM46: =ROUND(AK$33*$AK$35*AM$39*AK46*$AK$37,4) -> 0.1689 | AN46: =IF(AJ46<=AN$38,AL46*AK$38*AK$33*AK$34*(0.4+3*AJ46/AN$37),AL46*AK$38*AK$33*AK$34) -> 0.52726657 | AP46: 0.1 | AQ46: =IF(1/(8*SQRT(AP46))<=0.15,1/(8*SQRT(AP46)),0.15) -> 0.15 | AR46: =$AQ$35*$AQ$36*AQ46*$AQ$37 -> 0.0804 | AS46: =ROUND(AQ$33*$AQ$35*AS$39*AQ46*$AQ$37,4) -> 0.1689 | AT46: =IF(AP46<=AT$38,AR46*AQ$38*AQ$33*AQ$34*(0.4+3*AP46/AT$37),AR46*AQ$38*AQ$33*AQ$34) -> 0.52726657 | AV46: 0.1 | AW46: =IF(AV46<=0.03,1,IF(AV46<0.2,5.882*AV46+0.824,IF(AV46<1.65,2,IF(AV46<3.3,3.3/AV46,1)))) -> 1.4122 | AX46: =$AW$34*AW46 -> 0.324806
R47: 0.12 | S47: =IF(R47<=0.2*$S$38,$S$34*(0.4+3*R47/$S$38),IF(R47<=$S$38,$S$34,IF(R47<=2.5*$S$38,$S$34*$S$38/R47,0.4*$S$34))) -> 0.40615385 | T47: =R47^2/(4*PI()^2)*(S47*981) -> 0.14533236 | U47: =IF(R47>$S$38,$U$32,IF(R47>0.6*$S$38,SQRT(2*$U$32-1)+($U$32-SQRT(2*$U$32-1))*(R47-0.6*$S$38)/0.4/$S$38,IF(R47>0.2*$S$38,SQRT(2*$U$32-1),SQRT(2*$U$32-1)+(SQRT(2*$U$32-1)-1)*(R47-0.2*$S$38)/0.2/$S$38))) -> 1.2534738 | V47: =IF(S47/U47<=0.3,S47/U47,IF(S47/U47<0.8,0.52*S47/U47+0.144,0.7*S47/U47)) -> 0.31249175 | W47: 0.12 | X47: =IF(W47<=0.2*$X$38,$X$34*(0.4+3*W47/$X$38),IF(W47<=$X$38,$X$34,IF(W47<=2.5*$X$38,$X$34*$X$38/W47,0.4*$X$34))) -> 0.54153846 | Y47: =W47^2/(4*PI()^2)*(X47*981) -> 0.19377648 | Z47: =IF(W47>$X$38,$S$32,IF(W47>0.6*$X$38,SQRT(2*$S$32-1)+($S$32-SQRT(2*$S$32-1))*(W47-0.6*$X$38)/0.4/$X$38,IF(W47>0.2*$X$38,SQRT(2*$S$32-1),SQRT(2*$S$32-1)+(SQRT(2*$S$32-1)-1)*(W47-0.2*$X$38)/0.2/$X$38))) -> 1.4381656 | AA47: =IF(X47/Z47<=0.3,X47/Z47,IF(X47/Z47<0.8,0.52*X47/Z47+0.144,0.7*X47/Z47)) -> 0.33980499 | AB47: =$W$32/1.4/$Y$32*V47 -> 0.22320839 | AC47: =$W$32*U47/3.5/$Y$32*V47 -> 0.11191435 | AD47: =$W$32/1.4/$Y$32*AA47 -> 0.24271785 | AE47: =MAX(AB47:AD47) -> 0.24271785 | AJ47: 0.12 | AK47: =IF(0.248/AJ47<=0.0625,0.0625,IF(0.248/AJ47>=0.15,0.15,0.248/AJ47)) -> 0.15 | AL47: =$AK$35*$AK$36*AK47*$AK$37 -> 0.0804 | AM47: =ROUND(AK$33*$AK$35*AM$39*AK47*$AK$37,4) -> 0.1689 | AN47: =IF(AJ47<=AN$38,AL47*AK$38*AK$33*AK$34*(0.4+3*AJ47/AN$37),AL47*AK$38*AK$33*AK$34) -> 0.58202286 | AP47: 0.12 | AQ47: =IF(1/(8*SQRT(AP47))<=0.15,1/(8*SQRT(AP47)),0.15) -> 0.15 | AR47: =$AQ$35*$AQ$36*AQ47*$AQ$37 -> 0.0804 | AS47: =ROUND(AQ$33*$AQ$35*AS$39*AQ47*$AQ$37,4) -> 0.1689 | AT47: =IF(AP47<=AT$38,AR47*AQ$38*AQ$33*AQ$34*(0.4+3*AP47/AT$37),AR47*AQ$38*AQ$33*AQ$34) -> 0.58202286 | AV47: 0.12 | AW47: =IF(AV47<=0.03,1,IF(AV47<0.2,5.882*AV47+0.824,IF(AV47<1.65,2,IF(AV47<3.3,3.3/AV47,1)))) -> 1.52984 | AX47: =$AW$34*AW47 -> 0.3518632
R48: 0.14 | S48: =IF(R48<=0.2*$S$38,$S$34*(0.4+3*R48/$S$38),IF(R48<=$S$38,$S$34,IF(R48<=2.5*$S$38,$S$34*$S$38/R48,0.4*$S$34))) -> 0.43384615 | T48: =R48^2/(4*PI()^2)*(S48*981) -> 0.21130078 | U48: =IF(R48>$S$38,$U$32,IF(R48>0.6*$S$38,SQRT(2*$U$32-1)+($U$32-SQRT(2*$U$32-1))*(R48-0.6*$S$38)/0.4/$S$38,IF(R48>0.2*$S$38,SQRT(2*$U$32-1),SQRT(2*$U$32-1)+(SQRT(2*$U$32-1)-1)*(R48-0.2*$S$38)/0.2/$S$38))) -> 1.2957195 | V48: =IF(S48/U48<=0.3,S48/U48,IF(S48/U48<0.8,0.52*S48/U48+0.144,0.7*S48/U48)) -> 0.31811176 | W48: 0.14 | X48: =IF(W48<=0.2*$X$38,$X$34*(0.4+3*W48/$X$38),IF(W48<=$X$38,$X$34,IF(W48<=2.5*$X$38,$X$34*$X$38/W48,0.4*$X$34))) -> 0.57846154 | Y48: =W48^2/(4*PI()^2)*(X48*981) -> 0.28173437 | Z48: =IF(W48>$X$38,$S$32,IF(W48>0.6*$X$38,SQRT(2*$S$32-1)+($S$32-SQRT(2*$S$32-1))*(W48-0.6*$X$38)/0.4/$X$38,IF(W48>0.2*$X$38,SQRT(2*$S$32-1),SQRT(2*$S$32-1)+(SQRT(2*$S$32-1)-1)*(W48-0.2*$X$38)/0.2/$X$38))) -> 1.5111932 | AA48: =IF(X48/Z48<=0.3,X48/Z48,IF(X48/Z48<0.8,0.52*X48/Z48+0.144,0.7*X48/Z48)) -> 0.34304801 | AB48: =$W$32/1.4/$Y$32*V48 -> 0.22722269 | AC48: =$W$32*U48/3.5/$Y$32*V48 -> 0.11776674 | AD48: =$W$32/1.4/$Y$32*AA48 -> 0.24503429 | AE48: =MAX(AB48:AD48) -> 0.24503429 | AJ48: 0.14 | AK48: =IF(0.248/AJ48<=0.0625,0.0625,IF(0.248/AJ48>=0.15,0.15,0.248/AJ48)) -> 0.15 | AL48: =$AK$35*$AK$36*AK48*$AK$37 -> 0.0804 | AM48: =ROUND(AK$33*$AK$35*AM$39*AK48*$AK$37,4) -> 0.1689 | AN48: =IF(AJ48<=AN$38,AL48*AK$38*AK$33*AK$34*(0.4+3*AJ48/AN$37),AL48*AK$38*AK$33*AK$34) -> 0.6337128 | AP48: 0.14 | AQ48: =IF(1/(8*SQRT(AP48))<=0.15,1/(8*SQRT(AP48)),0.15) -> 0.15 | AR48: =$AQ$35*$AQ$36*AQ48*$AQ$37 -> 0.0804 | AS48: =ROUND(AQ$33*$AQ$35*AS$39*AQ48*$AQ$37,4) -> 0.1689 | AT48: =IF(AP48<=AT$38,AR48*AQ$38*AQ$33*AQ$34*(0.4+3*AP48/AT$37),AR48*AQ$38*AQ$33*AQ$34) -> 0.6337128 | AV48: 0.14 | AW48: =IF(AV48<=0.03,1,IF(AV48<0.2,5.882*AV48+0.824,IF(AV48<1.65,2,IF(AV48<3.3,3.3/AV48,1)))) -> 1.64748 | AX48: =$AW$34*AW48 -> 0.3789204
...

Sheet 一般工址Kz
A1: 111年10月1日 | I1: 100年7月1日 | N1: =VLOOKUP($I3,INDIRECT($I2),17,FALSE) -> 車籠埔斷層 | O1: =VLOOKUP($I3,INDIRECT($I2),18,FALSE) -> 6
A2: 地震分區 | B2: 臺中市 | C2: SSD | D2: S1D | E2: SSM | F2: S1M | I2: 南投縣 | J2: SSD | K2: S1D | L2: SSM | M2: S1M
B3: 北屯區 | C3: =VLOOKUP($B3,INDIRECT($B2),4,FALSE) -> 0.8 | D3: =VLOOKUP($B3,INDIRECT($B2),5,FALSE) -> 0.45 | E3: =VLOOKUP($B3,INDIRECT($B2),6,FALSE) -> 1 | F3: =VLOOKUP($B3,INDIRECT($B2),7,FALSE) -> 0.55 | I3: 草屯鎮 | J3: =VLOOKUP($I3,INDIRECT($I2),13,FALSE) -> 0.8 | K3: =VLOOKUP($I3,INDIRECT($I2),14,FALSE) -> 0.45 | L3: =VLOOKUP($I3,INDIRECT($I2),15,FALSE) -> 1 | M3: =VLOOKUP($I3,INDIRECT($I2),16,FALSE) -> 0.55 | P3: ="規範最小地震橫力係數 Cs*載重組合係數之比較 ["&B5 & ", R=" & B12 & "]" -> 規範最小地震橫力係數 Cs*載重組合係數之比較 [第一類, R=4] | T3: =B5 -> 第一類 | U3: =IF($B5="第一類",1.2,IF($B5="第二類",1.5,1.8)) -> 1.2 | AE3: LF | AF3: Loading | AG3: Factor
B4: 地盤分類 | C4: F*aD | D4: F*vD | E4: FaM | F4: FvM | I4: 地盤分類 | J4: NAD | K4: NVD | L4: NAM | M4: NVM | Q4: 78~85 | R4: 中震區 | T4: 86~88 | U4: 地震二區 | V4: 89~94 | W4: 地震一甲區 | X4: 78~85 | Y4: Z | Z4: 86~88 | AA4: Z | AB4: 89~94 | AC4: Z | AD4: (2*Ra-1)^0.5 | AE4: D | AF4: L | AG4: E
B5: 第一類 | C5: =IF($B5="第一類",1,IF($B5="第二類",IF(C3<=0.6,1.1,IF(C3>=0.7,1,1.1+(0.6-C3))),IF(C3<=0.6,1.2,IF(C3>=0.8,1,1.2+(0.6-C3))))) -> 1 | D5: =IF($B5="第一類",1,IF($B5="第二類",IF(D3<=0.3,1.5,IF(D3>=0.5,1.1,1.5+(0.3-D3)*2)),IF(D3<=0.3,1.8,IF(D3>=0.5,1.4,1.8+(0.3-D3)*2)))) -> 1 | E5: - | F5: - | I5: 第一類 | J5: =VLOOKUP($I6,$S21:$W28,2,FALSE) -> 1.03 | K5: =VLOOKUP($I6,$S21:$W28,3,FALSE) -> 1.1 | L5: =VLOOKUP($I6,$S21:$W28,4,FALSE) -> 1.03 | M5: =VLOOKUP($I6,$S21:$W28,5,FALSE) -> 1.15 | P5: 震區係數 | Q5: Z = | R5: 0.8 | S5: 震區水平加速度係數 | T5: Z = | U5: 0.23 | V5: Z = | W5: 0.33 | X5: 強震區 | Y5: 1 | Z5: 地震一甲區 | AA5: 0.33 | AB5: 甲區 | AC5: 0.33 | AD5: =(2*U12-1)^0.5 -> 2 | AE5: 0.9 | AG5: 1.43
B6: 大茅埔一雙冬斷層 | C6: SSD | D6: S1D | E6: SSM | F6: S1M | I6: 車籠埔斷層 | J6: SSD*NAD | K6: S1D*NVD | L6: SSM*NAM | M6: S1M*NVM | P6: 組構係數 | Q6: K = | R6: 1 | S6: 起始降伏地震力放大倍數 | T6: αy = | U6: 1.5 | V6: αy = | W6: =U6 -> 1.5 | X6: 中震區 | Y6: 0.8 | Z6: 地震一乙區 | AA6: 0.28 | AB6: 乙區 | AC6: 0.23 | AE6: 1.05 | AF6: 1.275 | AG6: 1.4025
A7: 斷層距離(km) | B7: 7 | C7: =IF($B6="", C3,IF($B7>=14,C40,C39+($B7-$B39)*(C40-C39)/$F38)) -> 0.87 | D7: =IF($B6="", D3,IF($B7>=14,D40,D39+($B7-$B39)*(D40-D39)/$F38)) -> 0.49 | E7: =IF($B6="", E3,IF($B7>=14,E40,E39+($B7-$B39)*(E40-E39)/$F38)) -> 1.09 | F7: =IF($B6="", F3,IF($B7>=14,F40,F39+($B7-$B39)*(F40-F39)/$F38)) -> 0.65 | I7: 9.3 | J7: =J3*J5 -> 0.824 | K7: =K3*K5 -> 0.495 | L7: =L3*L5 -> 1.03 | M7: =M3*M5 -> 0.6325 | P7: 基本振動周期 | Q7: T = | R7: =0.06*B10^0.75 -> 0.13677042 | S7: 基本振動周期 | T7: T = | U7: =0.07*$B10^0.75 -> 0.15956549 | V7: T = | W7: =U7 -> 0.15956549 | X7: 輕震區 | Y7: 0.6 | Z7: 地震二區 | AA7: 0.23 | AE7: 1.2 | AF7: 1 | AG7: 1
A8: 工址放大係數 | C8: FaD | D8: FvD | E8: FaM | F8: FvM | I8: 工址放大係數 | J8: FaD | K8: FvD | L8: FaM | M8: FvM | P8: 震力係數 | Q8: C = | R8: =MIN(R13,R14) -> 0.15 | S8: 工址正規化水平加速度反應譜係數 | T8: C = | U8: =IF(U7<=T17,X17,IF(U7<=U17,Y17*U7+Z17,IF(U7<=V17,AA17,IF(U7<=W17,AB17/U7^(AC17))))) -> 2.5 | V8: C = | W8: =U8 -> 2.5 | Z8: 地震三區 | AA8: 0.18
C9: =IF($B5="第一類",1,IF($B5="第二類",IF(C7<=0.6,1.1,IF(C7>=0.7,1,1.1+(0.6-C7))),IF(C7<=0.6,1.2,IF(C7>=0.8,1,1.2+(0.6-C7))))) -> 1 | D9: =IF($B5="第一類",1,IF($B5="第二類",IF(D7<=0.3,1.5,IF(D7>=0.5,1.1,1.5+(0.3-D7)*2)),IF(D7<=0.3,1.8,IF(D7>=0.5,1.4,1.8+(0.3-D7)*2)))) -> 1 | E9: =IF($B5="第一類",1,IF($B5="第二類",IF(E7<=0.6,1.1,IF(E7>=0.7,1,1.1+(0.6-E7))),IF(E7<=0.6,1.2,IF(E7>=0.8,1,1.2+(0.6-E7))))) -> 1 | F9: =IF($B5="第一類",1,IF($B5="第二類",IF(F7<=0.3,1.5,IF(F7>=0.5,1.1,1.5+(0.3-F7)*2)),IF(F7<=0.3,1.8,IF(F7>=0.5,1.4,1.8+(0.3-F7)*2)))) -> 1 | J9: =IF($I5="第一類",1,IF($I5="第二類",IF(J7<=0.6,1.1,IF(J7>=0.7,1,1.1+(0.6-J7))),IF(J7<=0.6,1.2,IF(J7>=0.8,1,1.2+(0.6-J7))))) -> 1 | K9: =IF($I5="第一類",1,IF($I5="第二類",IF(K7<=0.3,1.5,IF(K7>=0.5,1.1,1.5+(0.3-K7)*2)),IF(K7<=0.3,1.8,IF(K7>=0.5,1.4,1.8+(0.3-K7)*2)))) -> 1 | L9: =IF($I5="第一類",1,IF($I5="第二類",IF(L7<=0.6,1.1,IF(L7>=0.7,1,1.1+(0.6-L7))),IF(L7<=0.6,1.2,IF(L7>=0.8,1,1.2+(0.6-L7))))) -> 1 | M9: =IF($I5="第一類",1,IF($I5="第二類",IF(M7<=0.3,1.5,IF(M7>=0.5,1.1,1.5+(0.3-M7)*2)),IF(M7<=0.3,1.8,IF(M7>=0.5,1.4,1.8+(0.3-M7)*2)))) -> 1
A10: 屋頂面高度 hn(m) | B10: 3 | C10: Tcode(sec) | D10: Tdyn(sec) | E10: 1.4Tcode | F10: T (sec) | I10: =A10&" = " &B10 -> 屋頂面高度 hn(m) = 3 | J10: Tcode | K10: Tdyn | L10: 1.4Tcode | M10: T (sec) | N10: Tz (sec)
A11: 經驗公式構造分類 | B11: RC | C11: =ROUND(IF(B11="鋼構",0.085,IF(B11="RC",0.07,0.05))*B$10^0.75,4) -> 0.1596 | D11: 0.2 | E11: =C11*1.4 -> 0.22344 | F11: =ROUND(IF(C11>=D11,D11,IF(D11>=E11,E11,D11)),4) -> 0.2 | G11: =IF(F11<=0.2*$D17,"較短週期",IF(F11<=$D17,"短週期",IF(F11<=2.5*$D17,"中週期","長週期"))) -> 短週期 | I11: =A11&" = " &B11 -> 經驗公式構造分類 = RC | J11: =C11 -> 0.1596 | K11: =D11 -> 0.2 | L11: =E11 -> 0.22344 | M11: =ROUND(IF(J11>=K11,K11,IF(K11>=L11,L11,K11)),4) -> 0.2 | N11: =F11 -> 0.2 | P11: 用途係數 | Q11: I = | R11: 1 | S11: 用途係數 | T11: I = | U11: 1 | V11: I = | W11: =U11 -> 1
A12: 系統韌性容量 R | B12: 4 | C12: 容許韌性容量 Ra | D12: =1+(B12-1)/1.5 -> 3 | E12: Tz (sec) | F12: 0.1 | G12: =IF(F12<=0.2*$D17,"較短週期",IF(F12<=$D17,"短週期",IF(F12<=2.5*$D17,"中週期","長週期"))) -> 較短週期 | I12: =A12&" = " &B12 -> 系統韌性容量 R = 4 | J12: FaD* | K12: FvD* | L12: FaM* | M12: FvM* | N12: 容許韌性容量 Ra | P12: 最小總橫力係數 | Q12: Cs = | R12: =R5*R6*R8*R11 -> 0.12 | S12: 容許韌性容量 | T12: Ra = | U12: =1+($B12-1)/2 -> 2.5 | V12: Ra = | W12: =U12 -> 2.5
A13: 用途係數 I | B13: 1 | C13: √(2Ra-1) | D13: =ROUND((2*D12-1)^0.5,4) -> 2.2361 | E13: Rz | F13: 3 | G13: 垂直向 | I13: =A13&" = " &B13 -> 用途係數 I = 1 | J13: =IF($I5="第一類",1,IF($I5="第二類",IF(J3<=0.6,1.1,IF(J3>=0.7,1,1.1+(0.6-J3))),IF(J3<=0.6,1.2,IF(J3>=0.8,1,1.2+(0.6-J3))))) -> 1 | K13: =IF($I5="第一類",1,IF($I5="第二類",IF(K3<=0.3,1.5,IF(K3>=0.5,1.1,1.5+(0.3-K3)*2)),IF(K3<=0.3,1.8,IF(K3>=0.5,1.4,1.8+(0.3-K3)*2)))) -> 1 | L13: =IF($I5="第一類",1,IF($I5="第二類",IF(L3<=0.6,1.1,IF(L3>=0.7,1,1.1+(0.6-L3))),IF(L3<=0.6,1.2,IF(L3>=0.8,1,1.2+(0.6-L3))))) -> 1 | M13: =IF($I5="第一類",1,IF($I5="第二類",IF(M3<=0.3,1.5,IF(M3>=0.5,1.1,1.5+(0.3-M3)*2)),IF(M3<=0.3,1.8,IF(M3>=0.5,1.4,1.8+(0.3-M3)*2)))) -> 1 | N13: =D12 -> 3 | Q13: 1/8T^1/2 | R13: =ROUND(1/8/(R7^0.5),4) -> 0.338 | S13: 結構系統地震力折減係數 | T13: Fu = | U13: =IF(U7>0.611,U$12,IF(IF(U7>0.611,U$12,IF(U7>0.406,AD$5+(U$12-AD$5)*(U7-0.406)/0.205,IF(U7>0.2,AD$5,IF(U7>0.03,AD$5+(AD$5-1)*(U7-0.2)/0.17,1))))>0.406,AD$5+(U$12-AD$5)*(U7-0.406)/0.205,IF(U7>0.2,AD$5,IF(U7>0.03,AD$5+(AD$5-1)*(U7-0.2)/0.17,1)))) -> 1.3989402 | V13: Fu = | W13: =U13 -> 1.3989402
A14: 起始降伏地震力放大倍數αy | B14: 1 | C14: √(2R-1) | D14: =ROUND((2*B12-1)^0.5,4) -> 2.6458 | E14: Rza | F14: =1+(F13-1)/1.5 -> 2.3333333 | I14: =A14&" = " &B14 -> 起始降伏地震力放大倍數αy = 1 | J14: =C13 & "="&D13 -> √(2Ra-1)=2.2361 | L14: =C14 & "="&D14 -> √(2R-1)=2.6458 | R14: 0.15 | T14: C/Fu= | U14: =ROUND(U8/U13,4) -> 1.7871 | V14: C/Fu= | W14: =ROUND(W8/W13,4) -> 1.7871
A15: 工址水平譜加速度係數 | E15: √(2Rza-1) | F15: =ROUND((2*F14-1)^0.5,4) -> 1.9149 | I15: 工址水平譜加速度係數 | Q15: Cs = | R15: =R5*R6*R14*R11 -> 0.12 | T15: (C/Fu)m= | U15: =IF(U14>1,1,U14) -> 1 | V15: (C/Fu)m= | W15: =IF(W14>1,1,W14) -> 1
A16: 最小設計水平總橫力 | B16: SDS=SSD*FaD | C16: SD1=S1D*FvD | D16: T0D | E16: 0.2T0D | F16: 0.6T0D | I16: 最小設計水平總橫力 | J16: SDS | K16: SD1 | L16: T0D | M16: 0.2T0D | N16: 0.6T0D | O16: 2.5T0D | T16: Cs = | U16: =U5*U11/1.4/U6*U15 -> 0.10952381 | V16: Cs = | W16: =W5*W11*W8/1.4/W6/W13 -> 0.28082482
B17: =ROUND(C$9*C$7,4) -> 0.87 | C17: =ROUND(D$9*D$7,4) -> 0.49 | D17: =ROUND(C$17/B$17,4) -> 0.5632 | E17: =ROUND(D17*0.2,4) -> 0.1126 | F17: =ROUND(D17*0.6,4) -> 0.3379 | J17: =ROUND(J3*J$9*J$5,4) -> 0.824 | K17: =ROUND(K3*K$9*K$5,4) -> 0.495 | L17: =ROUND(K$17/J$17,4) -> 0.6007 | M17: =ROUND(L17*0.2,4) -> 0.1201 | N17: =ROUND(L17*0.6,4) -> 0.3604 | O17: =L17*2.5 -> 1.50175 | T17: =VLOOKUP($B$5,工址放大係數!$A$12:$K$14,2,FALSE) -> 0.03 | U17: =VLOOKUP($B$5,工址放大係數!$A$12:$K$14,3,FALSE) -> 0.15 | V17: =VLOOKUP($B$5,工址放大係數!$A$12:$K$14,4,FALSE) -> 0.333 | W17: =VLOOKUP($B$5,工址放大係數!$A$12:$K$14,5,FALSE) -> 1.315 | X17: =VLOOKUP($B$5,工址放大係數!$A$12:$H$14,6,FALSE) -> 1 | Y17: =VLOOKUP($B$5,工址放大係數!$A$12:$K$14,7,FALSE) -> 12.5 | Z17: =VLOOKUP($B$5,工址放大係數!$A$12:$K$14,8,FALSE) -> 0.625 | AA17: =VLOOKUP($B$5,工址放大係數!$A$12:$K$14,9,FALSE) -> 2.5 | AB17: =VLOOKUP($B$5,工址放大係數!$A$12:$J$14,10,FALSE) -> 1.2 | AC17: =VLOOKUP($B$5,工址放大係數!$A$12:$K$14,11,FALSE) -> 0.66666667
A18: 避免中小度地震下降伏 | B18: SDS* | C18: SD1* | D18: T0D | E18: 0.2T0D | F18: 0.6T0D | I18: 避免中小度地震下降伏 | J18: SDS* | K18: SD1* | L18: T0D | M18: 0.2T0D | N18: 0.6T0D | O18: 2.5T0D
B19: =C3*C5 -> 0.8 | C19: =D3*D5 -> 0.45 | D19: =ROUND(C19/B19,4) -> 0.5625 | E19: =D19*0.2 -> 0.1125 | F19: =D19*0.6 -> 0.3375 | J19: =J3*J13 -> 0.8 | K19: =K3*K13 -> 0.45 | L19: =ROUND(K19/J19,4) -> 0.5625 | M19: =L19*0.2 -> 0.1125 | N19: =L19*0.6 -> 0.3375 | O19: =L19*2.5 -> 1.40625 | R19: 距離 | S19: =I7 -> 9.3 | T19: km
A20: 避免最大考量地震下崩塌 | B20: SMS=SSM*FaM | C20: SM1=S1M*FvM | D20: T0M | E20: 0.2T0M | F20: 0.6T0M | I20: 避免最大考量地震下崩塌 | J20: SMS | K20: SM1 | L20: T0M | M20: 0.2T0M | N20: 0.6T0M | O20: 2.5T0D | S20: 40725 | T20: NaD | U20: NvD | V20: NaM | W20: NvM
B21: =E$9*E$7 -> 1.09 | C21: =F$9*F$7 -> 0.65 | D21: =ROUND(C$21/B$21,4) -> 0.5963 | E21: =ROUND(D21*0.2,4) -> 0.1193 | F21: =ROUND(D21*0.6,4) -> 0.3578 | J21: =L3*L$9*L$5 -> 1.03 | K21: =M3*M$9*M$5 -> 0.6325 | L21: =ROUND(K$21/J$21,4) -> 0.6141 | M21: =ROUND(L21*0.2,4) -> 0.1228 | N21: =ROUND(L21*0.6,4) -> 0.3685 | O21: =L21*2.5 -> 1.53525 | S21: 無 | T21: 1 | U21: 1 | V21: 1 | W21: 1
A22: AT = | B22: =0.4*B17 -> 0.348 | E22: SaD,z | F22: SaD,v | I22: AT = | J22: =0.4*J17 -> 0.3296 | R22: 1 | S22: 車籠埔斷層 | T22: =IF(S$19<=2,1.23,IF(S$19<=5,1.16,IF(S$19<=8,1.07,IF(S$19<=12,1.03,1)))) -> 1.03 | U22: =IF(S$19<=2,1.36,IF(S$19<=5,1.32,IF(S$19<=8,1.22,IF(S$19<=12,1.1,1)))) -> 1.1 | V22: =IF(S$19<=2,1.25,IF(S$19<=5,1.2,IF(S$19<=8,1.1,IF(S$19<=12,1.03,1)))) -> 1.03 | W22: =IF(S$19<=2,1.5,IF(S$19<=5,1.45,IF(S$19<=8,1.3,IF(S$19<=12,1.15,1)))) -> 1.15
A23: 工址設計水平譜加速度係數 | D23: =IF(B17>0.8,2/3,1/2) -> 0.66666667 | E23: =ROUND(IF(F12>2.5*$D17,0.4*$B17,IF(F12>$D17,$C17/F12,IF(F12>$E17,$B17,$B17*(0.4+3*F12/$D17)))),4) -> 0.8114 | F23: =E23*D23 -> 0.54093333 | I23: 工址設計水平譜加速度係數 | N23: =IF(I6="無",1/2,2/3) -> 0.66666667 | R23: 2 | S23: 獅潭與神卓山斷層 | T23: =IF(S$19<=2,1.28,IF(S$19<=5,1.2,IF(S$19<=8,1.1,1))) -> 1 | U23: =IF(S$19<=2,1.33,IF(S$19<=5,1.27,IF(S$19<=8,1.1,1))) -> 1 | V23: =IF(S$19<=2,1.26,IF(S$19<=5,1.18,IF(S$19<=8,1.05,1))) -> 1 | W23: =IF(S$19<=2,1.42,IF(S$19<=5,1.32,IF(S$19<=8,1.15,1))) -> 1
